| Back to Multiple platform build/check report for BioC 3.12 |
|
This page was generated on 2021-05-06 12:27:27 -0400 (Thu, 06 May 2021).
|
To the developers/maintainers of the EBcoexpress package: Please make sure to use the following settings in order to reproduce any error or warning you see on this page. |
| Package 524/1974 | Hostname | OS / Arch | INSTALL | BUILD | CHECK | BUILD BIN | ||||||||
| EBcoexpress 1.34.0 (landing page) John A. Dawson
| malbec1 | Linux (Ubuntu 18.04.5 LTS) / x86_64 | OK | OK | WARNINGS | |||||||||
| tokay1 | Windows Server 2012 R2 Standard / x64 | OK | OK | WARNINGS | OK | |||||||||
| merida1 | macOS 10.14.6 Mojave / x86_64 | OK | OK | OK | OK | |||||||||
| Package: EBcoexpress |
| Version: 1.34.0 |
| Command: /home/biocbuild/bbs-3.12-bioc/R/bin/R CMD INSTALL EBcoexpress |
| StartedAt: 2021-05-05 16:22:39 -0400 (Wed, 05 May 2021) |
| EndedAt: 2021-05-05 16:22:45 -0400 (Wed, 05 May 2021) |
| EllapsedTime: 6.1 seconds |
| RetCode: 0 |
| Status: OK |
##############################################################################
##############################################################################
###
### Running command:
###
### /home/biocbuild/bbs-3.12-bioc/R/bin/R CMD INSTALL EBcoexpress
###
##############################################################################
##############################################################################
* installing to library ‘/home/biocbuild/bbs-3.12-bioc/R/library’
* installing *source* package ‘EBcoexpress’ ...
** using staged installation
** libs
gcc -I"/home/biocbuild/bbs-3.12-bioc/R/include" -DNDEBUG -I/usr/local/include -fpic -g -O2 -Wall -c EBcoexpress.c -o EBcoexpress.o
EBcoexpress.c: In function ‘bwmcCworker’:
EBcoexpress.c:74:15: warning: suggest parentheses around comparison in operand of ‘|’ [-Wparentheses]
if(temp < -1 | temp > 1)
~~~~~^~~~
gcc -shared -L/home/biocbuild/bbs-3.12-bioc/R/lib -L/usr/local/lib -o EBcoexpress.so EBcoexpress.o -L/home/biocbuild/bbs-3.12-bioc/R/lib -lR
installing to /home/biocbuild/bbs-3.12-bioc/R/library/00LOCK-EBcoexpress/00new/EBcoexpress/libs
** R
** data
** demo
** byte-compile and prepare package for lazy loading
** help
*** installing help indices
** building package indices
** installing vignettes
** testing if installed package can be loaded from temporary location
** checking absolute paths in shared objects and dynamic libraries
** testing if installed package can be loaded from final location
** testing if installed package keeps a record of temporary installation path
* DONE (EBcoexpress)