| Back to Multiple platform build/check report for BioC 3.12 |
|
This page was generated on 2021-05-06 12:34:51 -0400 (Thu, 06 May 2021).
|
To the developers/maintainers of the EBImage package: Please make sure to use the following settings in order to reproduce any error or warning you see on this page. |
| Package 525/1974 | Hostname | OS / Arch | INSTALL | BUILD | CHECK | BUILD BIN | ||||||||
| EBImage 4.32.0 (landing page) Andrzej Oleś
| malbec1 | Linux (Ubuntu 18.04.5 LTS) / x86_64 | OK | OK | OK | |||||||||
| tokay1 | Windows Server 2012 R2 Standard / x64 | OK | OK | OK | OK | |||||||||
| merida1 | macOS 10.14.6 Mojave / x86_64 | OK | OK | OK | OK | |||||||||
| Package: EBImage |
| Version: 4.32.0 |
| Command: /Library/Frameworks/R.framework/Versions/Current/Resources/bin/R CMD build --keep-empty-dirs --no-resave-data EBImage |
| StartedAt: 2021-05-05 19:14:33 -0400 (Wed, 05 May 2021) |
| EndedAt: 2021-05-05 19:15:23 -0400 (Wed, 05 May 2021) |
| EllapsedTime: 49.9 seconds |
| RetCode: 0 |
| Status: OK |
| PackageFile: EBImage_4.32.0.tar.gz |
| PackageFileSize: 5.203 MiB |
############################################################################## ############################################################################## ### ### Running command: ### ### /Library/Frameworks/R.framework/Versions/Current/Resources/bin/R CMD build --keep-empty-dirs --no-resave-data EBImage ### ############################################################################## ############################################################################## * checking for file ‘EBImage/DESCRIPTION’ ... OK * preparing ‘EBImage’: * checking DESCRIPTION meta-information ... OK * cleaning src * installing the package to build vignettes * creating vignettes ... OK * cleaning src * checking for LF line-endings in source and make files and shell scripts * checking for empty or unneeded directories * building ‘EBImage_4.32.0.tar.gz’