| Back to Multiple platform build/check report for BioC 3.12 |
|
This page was generated on 2021-05-06 12:34:51 -0400 (Thu, 06 May 2021).
|
To the developers/maintainers of the DynDoc package: Please make sure to use the following settings in order to reproduce any error or warning you see on this page. |
| Package 519/1974 | Hostname | OS / Arch | INSTALL | BUILD | CHECK | BUILD BIN | ||||||||
| DynDoc 1.68.0 (landing page) Bioconductor Package Maintainer
| malbec1 | Linux (Ubuntu 18.04.5 LTS) / x86_64 | OK | OK | OK | |||||||||
| tokay1 | Windows Server 2012 R2 Standard / x64 | OK | OK | OK | OK | |||||||||
| merida1 | macOS 10.14.6 Mojave / x86_64 | OK | OK | OK | OK | |||||||||
| Package: DynDoc |
| Version: 1.68.0 |
| Command: /Library/Frameworks/R.framework/Versions/Current/Resources/bin/R CMD build --keep-empty-dirs --no-resave-data DynDoc |
| StartedAt: 2021-05-05 19:13:56 -0400 (Wed, 05 May 2021) |
| EndedAt: 2021-05-05 19:13:57 -0400 (Wed, 05 May 2021) |
| EllapsedTime: 0.7 seconds |
| RetCode: 0 |
| Status: OK |
| PackageFile: DynDoc_1.68.0.tar.gz |
| PackageFileSize: 10.96 KiB |
############################################################################## ############################################################################## ### ### Running command: ### ### /Library/Frameworks/R.framework/Versions/Current/Resources/bin/R CMD build --keep-empty-dirs --no-resave-data DynDoc ### ############################################################################## ############################################################################## * checking for file ‘DynDoc/DESCRIPTION’ ... OK * preparing ‘DynDoc’: * checking DESCRIPTION meta-information ... OK * checking for LF line-endings in source and make files and shell scripts * checking for empty or unneeded directories * building ‘DynDoc_1.68.0.tar.gz’