| Back to Multiple platform build/check report for BioC 3.12 |
|
This page was generated on 2021-05-06 12:30:57 -0400 (Thu, 06 May 2021).
|
To the developers/maintainers of the DiscoRhythm package: Please make sure to use the following settings in order to reproduce any error or warning you see on this page. |
| Package 486/1974 | Hostname | OS / Arch | INSTALL | BUILD | CHECK | BUILD BIN | ||||||||
| DiscoRhythm 1.6.0 (landing page) Matthew Carlucci
| malbec1 | Linux (Ubuntu 18.04.5 LTS) / x86_64 | OK | OK | OK | |||||||||
| tokay1 | Windows Server 2012 R2 Standard / x64 | OK | OK | OK | OK | |||||||||
| merida1 | macOS 10.14.6 Mojave / x86_64 | OK | OK | OK | OK | |||||||||
| Package: DiscoRhythm |
| Version: 1.6.0 |
| Command: rm -rf DiscoRhythm.buildbin-libdir && mkdir DiscoRhythm.buildbin-libdir && C:\Users\biocbuild\bbs-3.12-bioc\R\bin\R.exe CMD INSTALL --merge-multiarch --build --library=DiscoRhythm.buildbin-libdir DiscoRhythm_1.6.0.tar.gz |
| StartedAt: 2021-05-06 08:55:51 -0400 (Thu, 06 May 2021) |
| EndedAt: 2021-05-06 08:56:42 -0400 (Thu, 06 May 2021) |
| EllapsedTime: 51.5 seconds |
| RetCode: 0 |
| Status: OK |
| PackageFile: DiscoRhythm_1.6.0.zip |
| PackageFileSize: 1.928 MiB |
##############################################################################
##############################################################################
###
### Running command:
###
### rm -rf DiscoRhythm.buildbin-libdir && mkdir DiscoRhythm.buildbin-libdir && C:\Users\biocbuild\bbs-3.12-bioc\R\bin\R.exe CMD INSTALL --merge-multiarch --build --library=DiscoRhythm.buildbin-libdir DiscoRhythm_1.6.0.tar.gz
###
##############################################################################
##############################################################################
install for i386
* installing *source* package 'DiscoRhythm' ...
** using staged installation
** R
** data
*** moving datasets to lazyload DB
** inst
** byte-compile and prepare package for lazy loading
** help
*** installing help indices
converting help for package 'DiscoRhythm'
finding HTML links ... done
DiscoRhythm-package html
PeriodDetection_range html
checkJTKperiod html
checkPeriod html
discoApp html
discoBatch html
discoCheckInput html
discoColors html
discoDFtoSE html
discoDesignSummary html
discoGetSimu html
discoODAexclusionMatrix html
discoODAid2name html
discoODAs html
discoPCA html
discoPCAgetOutliers html
discoParseMeta html
discoPeriodDetection html
discoQC html
discoShinyHandler html
fisherExact html
inferFilteredDesign html
lmCSmat html
lmCSmatNoNA html
sincos html
theme_disco html
** building package indices
** installing vignettes
** testing if installed package can be loaded from temporary location
** testing if installed package can be loaded from final location
** testing if installed package keeps a record of temporary installation path
install for x64
* installing *source* package 'DiscoRhythm' ...
** testing if installed package can be loaded
* MD5 sums
packaged installation of 'DiscoRhythm' as DiscoRhythm_1.6.0.zip
* DONE (DiscoRhythm)