| Back to Multiple platform build/check report for BioC 3.12 |
|
This page was generated on 2021-05-06 12:30:57 -0400 (Thu, 06 May 2021).
|
To the developers/maintainers of the DirichletMultinomial package: Please make sure to use the following settings in order to reproduce any error or warning you see on this page. |
| Package 484/1974 | Hostname | OS / Arch | INSTALL | BUILD | CHECK | BUILD BIN | ||||||||
| DirichletMultinomial 1.32.0 (landing page) Martin Morgan
| malbec1 | Linux (Ubuntu 18.04.5 LTS) / x86_64 | OK | OK | OK | |||||||||
| tokay1 | Windows Server 2012 R2 Standard / x64 | OK | OK | OK | OK | |||||||||
| merida1 | macOS 10.14.6 Mojave / x86_64 | OK | OK | OK | OK | |||||||||
| Package: DirichletMultinomial |
| Version: 1.32.0 |
| Command: C:\cygwin\bin\curl.exe -O http://172.29.0.3/BBS/3.12/bioc/src/contrib/DirichletMultinomial_1.32.0.tar.gz && rm -rf DirichletMultinomial.buildbin-libdir && mkdir DirichletMultinomial.buildbin-libdir && C:\Users\biocbuild\bbs-3.12-bioc\R\bin\R.exe CMD INSTALL --merge-multiarch --build --library=DirichletMultinomial.buildbin-libdir DirichletMultinomial_1.32.0.tar.gz && C:\Users\biocbuild\bbs-3.12-bioc\R\bin\R.exe CMD INSTALL DirichletMultinomial_1.32.0.zip && rm DirichletMultinomial_1.32.0.tar.gz DirichletMultinomial_1.32.0.zip |
| StartedAt: 2021-05-05 17:05:59 -0400 (Wed, 05 May 2021) |
| EndedAt: 2021-05-05 17:06:41 -0400 (Wed, 05 May 2021) |
| EllapsedTime: 42.1 seconds |
| RetCode: 0 |
| Status: OK |
##############################################################################
##############################################################################
###
### Running command:
###
### C:\cygwin\bin\curl.exe -O http://172.29.0.3/BBS/3.12/bioc/src/contrib/DirichletMultinomial_1.32.0.tar.gz && rm -rf DirichletMultinomial.buildbin-libdir && mkdir DirichletMultinomial.buildbin-libdir && C:\Users\biocbuild\bbs-3.12-bioc\R\bin\R.exe CMD INSTALL --merge-multiarch --build --library=DirichletMultinomial.buildbin-libdir DirichletMultinomial_1.32.0.tar.gz && C:\Users\biocbuild\bbs-3.12-bioc\R\bin\R.exe CMD INSTALL DirichletMultinomial_1.32.0.zip && rm DirichletMultinomial_1.32.0.tar.gz DirichletMultinomial_1.32.0.zip
###
##############################################################################
##############################################################################
% Total % Received % Xferd Average Speed Time Time Time Current
Dload Upload Total Spent Left Speed
0 0 0 0 0 0 0 0 --:--:-- --:--:-- --:--:-- 0
100 195k 100 195k 0 0 10.0M 0 --:--:-- --:--:-- --:--:-- 10.6M
install for i386
* installing *source* package 'DirichletMultinomial' ...
** using staged installation
** libs
"C:/rtools40/mingw32/bin/"gcc -I"C:/Users/BIOCBU~1/BBS-3~1.12-/R/include" -DNDEBUG -I/src/include -I/i386/include -I"C:/extsoft/include" -O2 -Wall -std=gnu99 -mfpmath=sse -msse2 -mstackrealign -c R_init_DirichletMultinomial.c -o R_init_DirichletMultinomial.o
"C:/rtools40/mingw32/bin/"gcc -I"C:/Users/BIOCBU~1/BBS-3~1.12-/R/include" -DNDEBUG -I/src/include -I/i386/include -I"C:/extsoft/include" -O2 -Wall -std=gnu99 -mfpmath=sse -msse2 -mstackrealign -c dirichlet_fit.c -o dirichlet_fit.o
"C:/rtools40/mingw32/bin/"gcc -I"C:/Users/BIOCBU~1/BBS-3~1.12-/R/include" -DNDEBUG -I/src/include -I/i386/include -I"C:/extsoft/include" -O2 -Wall -std=gnu99 -mfpmath=sse -msse2 -mstackrealign -c dirichlet_fit_main.c -o dirichlet_fit_main.o
dirichlet_fit_main.c: In function 'hessian':
dirichlet_fit_main.c:391:34: warning: '*' in boolean context, suggest '&&' instead [-Wint-in-bool-context]
adCJK0[j] += adPi[i] * n ? gsl_sf_psi(adAlpha[j] + n) : dPsiAlpha;
~~~~~~~~^~~
dirichlet_fit_main.c:393:33: warning: '*' in boolean context, suggest '&&' instead [-Wint-in-bool-context]
adCJK[j] += adPi[i] * n ? gsl_sf_psi_1(adAlpha[j] + n): dPsi1Alpha;
~~~~~~~~^~~
dirichlet_fit_main.c: In function 'dirichlet_fit_main':
dirichlet_fit_main.c:542:17: warning: variable 'status' set but not used [-Wunused-but-set-variable]
int signum, status;
^~~~~~
C:/rtools40/mingw32/bin/gcc -shared -s -static-libgcc -o DirichletMultinomial.dll tmp.def R_init_DirichletMultinomial.o dirichlet_fit.o dirichlet_fit_main.o -L/i386/lib -lgsl -lgslcblas -lm -LC:/extsoft/lib/i386 -LC:/extsoft/lib -LC:/Users/BIOCBU~1/BBS-3~1.12-/R/bin/i386 -lR
installing to C:/Users/biocbuild/bbs-3.12-bioc/meat/DirichletMultinomial.buildbin-libdir/00LOCK-DirichletMultinomial/00new/DirichletMultinomial/libs/i386
** R
** data
** inst
** byte-compile and prepare package for lazy loading
** help
*** installing help indices
converting help for package 'DirichletMultinomial'
finding HTML links ... done
DMN-class html
DMNGroup-class html
finding level-2 HTML links ... done
DirichletMultinomial-package html
cvdmngroup html
dataobjects html
dmn html
dmngroup html
fitted html
heatmapdmn html
roc html
util html
** building package indices
** installing vignettes
** testing if installed package can be loaded from temporary location
** testing if installed package can be loaded from final location
** testing if installed package keeps a record of temporary installation path
install for x64
* installing *source* package 'DirichletMultinomial' ...
** libs
"C:/rtools40/mingw64/bin/"gcc -I"C:/Users/BIOCBU~1/BBS-3~1.12-/R/include" -DNDEBUG -I/src/include -I/x64/include -I"C:/extsoft/include" -O2 -Wall -std=gnu99 -mfpmath=sse -msse2 -mstackrealign -c R_init_DirichletMultinomial.c -o R_init_DirichletMultinomial.o
"C:/rtools40/mingw64/bin/"gcc -I"C:/Users/BIOCBU~1/BBS-3~1.12-/R/include" -DNDEBUG -I/src/include -I/x64/include -I"C:/extsoft/include" -O2 -Wall -std=gnu99 -mfpmath=sse -msse2 -mstackrealign -c dirichlet_fit.c -o dirichlet_fit.o
"C:/rtools40/mingw64/bin/"gcc -I"C:/Users/BIOCBU~1/BBS-3~1.12-/R/include" -DNDEBUG -I/src/include -I/x64/include -I"C:/extsoft/include" -O2 -Wall -std=gnu99 -mfpmath=sse -msse2 -mstackrealign -c dirichlet_fit_main.c -o dirichlet_fit_main.o
dirichlet_fit_main.c: In function 'hessian':
dirichlet_fit_main.c:391:34: warning: '*' in boolean context, suggest '&&' instead [-Wint-in-bool-context]
adCJK0[j] += adPi[i] * n ? gsl_sf_psi(adAlpha[j] + n) : dPsiAlpha;
~~~~~~~~^~~
dirichlet_fit_main.c:393:33: warning: '*' in boolean context, suggest '&&' instead [-Wint-in-bool-context]
adCJK[j] += adPi[i] * n ? gsl_sf_psi_1(adAlpha[j] + n): dPsi1Alpha;
~~~~~~~~^~~
dirichlet_fit_main.c: In function 'dirichlet_fit_main':
dirichlet_fit_main.c:542:17: warning: variable 'status' set but not used [-Wunused-but-set-variable]
int signum, status;
^~~~~~
C:/rtools40/mingw64/bin/gcc -shared -s -static-libgcc -o DirichletMultinomial.dll tmp.def R_init_DirichletMultinomial.o dirichlet_fit.o dirichlet_fit_main.o -L/x64/lib -lgsl -lgslcblas -lm -LC:/extsoft/lib/x64 -LC:/extsoft/lib -LC:/Users/BIOCBU~1/BBS-3~1.12-/R/bin/x64 -lR
installing to C:/Users/biocbuild/bbs-3.12-bioc/meat/DirichletMultinomial.buildbin-libdir/DirichletMultinomial/libs/x64
** testing if installed package can be loaded
* MD5 sums
packaged installation of 'DirichletMultinomial' as DirichletMultinomial_1.32.0.zip
* DONE (DirichletMultinomial)
* installing to library 'C:/Users/biocbuild/bbs-3.12-bioc/R/library'
package 'DirichletMultinomial' successfully unpacked and MD5 sums checked