| Back to Multiple platform build/check report for BioC 3.12 |
|
This page was generated on 2021-05-06 12:30:57 -0400 (Thu, 06 May 2021).
|
To the developers/maintainers of the Director package: Please make sure to use the following settings in order to reproduce any error or warning you see on this page. |
| Package 483/1974 | Hostname | OS / Arch | INSTALL | BUILD | CHECK | BUILD BIN | ||||||||
| Director 1.16.0 (landing page) Katherine Icay
| malbec1 | Linux (Ubuntu 18.04.5 LTS) / x86_64 | OK | OK | OK | |||||||||
| tokay1 | Windows Server 2012 R2 Standard / x64 | OK | TIMEOUT | skipped | skipped | |||||||||
| merida1 | macOS 10.14.6 Mojave / x86_64 | OK | OK | OK | OK | |||||||||
| Package: Director |
| Version: 1.16.0 |
| Command: chmod a+r Director -R && C:\Users\biocbuild\bbs-3.12-bioc\R\bin\R.exe CMD build --keep-empty-dirs --no-resave-data Director |
| StartedAt: 2021-05-05 20:36:36 -0400 (Wed, 05 May 2021) |
| EndedAt: 2021-05-05 21:16:43 -0400 (Wed, 05 May 2021) |
| EllapsedTime: 2406.9 seconds |
| RetCode: None |
| Status: TIMEOUT |
| PackageFile: None |
| PackageFileSize: NA |
############################################################################## ############################################################################## ### ### Running command: ### ### chmod a+r Director -R && C:\Users\biocbuild\bbs-3.12-bioc\R\bin\R.exe CMD build --keep-empty-dirs --no-resave-data Director ### ############################################################################## ############################################################################## * checking for file 'Director/DESCRIPTION' ... OK * preparing 'Director': * checking DESCRIPTION meta-information ... OK * installing the package to build vignettes * creating vignettes ...