| Back to Multiple platform build/check report for BioC 3.12 |
|
This page was generated on 2021-05-06 12:30:39 -0400 (Thu, 06 May 2021).
|
To the developers/maintainers of the DelayedMatrixStats package: Please make sure to use the following settings in order to reproduce any error or warning you see on this page. |
| Package 451/1974 | Hostname | OS / Arch | INSTALL | BUILD | CHECK | BUILD BIN | ||||||||
| DelayedMatrixStats 1.12.3 (landing page) Peter Hickey
| malbec1 | Linux (Ubuntu 18.04.5 LTS) / x86_64 | OK | OK | OK | |||||||||
| tokay1 | Windows Server 2012 R2 Standard / x64 | OK | OK | OK | OK | |||||||||
| merida1 | macOS 10.14.6 Mojave / x86_64 | OK | OK | OK | OK | |||||||||
| Package: DelayedMatrixStats |
| Version: 1.12.3 |
| Command: rm -rf DelayedMatrixStats.buildbin-libdir && mkdir DelayedMatrixStats.buildbin-libdir && C:\Users\biocbuild\bbs-3.12-bioc\R\bin\R.exe CMD INSTALL --merge-multiarch --build --library=DelayedMatrixStats.buildbin-libdir DelayedMatrixStats_1.12.3.tar.gz |
| StartedAt: 2021-05-06 08:53:39 -0400 (Thu, 06 May 2021) |
| EndedAt: 2021-05-06 08:54:10 -0400 (Thu, 06 May 2021) |
| EllapsedTime: 31.4 seconds |
| RetCode: 0 |
| Status: OK |
| PackageFile: DelayedMatrixStats_1.12.3.zip |
| PackageFileSize: 689.6 KiB |
##############################################################################
##############################################################################
###
### Running command:
###
### rm -rf DelayedMatrixStats.buildbin-libdir && mkdir DelayedMatrixStats.buildbin-libdir && C:\Users\biocbuild\bbs-3.12-bioc\R\bin\R.exe CMD INSTALL --merge-multiarch --build --library=DelayedMatrixStats.buildbin-libdir DelayedMatrixStats_1.12.3.tar.gz
###
##############################################################################
##############################################################################
install for i386
* installing *source* package 'DelayedMatrixStats' ...
** using staged installation
** R
** inst
** byte-compile and prepare package for lazy loading
** help
*** installing help indices
converting help for package 'DelayedMatrixStats'
finding HTML links ... done
DelayedMatrixStats html
colAlls html
finding level-2 HTML links ... done
colAnyNAs html
colAvgsPerRowSet html
colCollapse html
colCounts html
colCummaxs html
colDiffs html
colIQRDiffs html
colIQRs html
colLogSumExps html
colMads html
colMeans2 html
colMedians html
colOrderStats html
colProds html
colQuantiles html
colRanks html
colSums2 html
colTabulates html
colVars html
colWeightedMads html
colWeightedMeans html
colWeightedMedians html
colWeightedVars html
from_DelayedArray_to_simple_seed_class
html
reexports html
subset_by_Nindex html
** building package indices
** installing vignettes
** testing if installed package can be loaded from temporary location
** testing if installed package can be loaded from final location
** testing if installed package keeps a record of temporary installation path
install for x64
* installing *source* package 'DelayedMatrixStats' ...
** testing if installed package can be loaded
* MD5 sums
packaged installation of 'DelayedMatrixStats' as DelayedMatrixStats_1.12.3.zip
* DONE (DelayedMatrixStats)