| Back to Multiple platform build/check report for BioC 3.12 |
|
This page was generated on 2021-05-06 12:34:44 -0400 (Thu, 06 May 2021).
|
To the developers/maintainers of the DaMiRseq package: Please make sure to use the following settings in order to reproduce any error or warning you see on this page. |
| Package 424/1974 | Hostname | OS / Arch | INSTALL | BUILD | CHECK | BUILD BIN | ||||||||
| DaMiRseq 2.2.0 (landing page) Mattia Chiesa
| malbec1 | Linux (Ubuntu 18.04.5 LTS) / x86_64 | OK | OK | OK | |||||||||
| tokay1 | Windows Server 2012 R2 Standard / x64 | OK | OK | OK | OK | |||||||||
| merida1 | macOS 10.14.6 Mojave / x86_64 | ERROR | ERROR | skipped | skipped | |||||||||
| Package: DaMiRseq |
| Version: 2.2.0 |
| Command: /Library/Frameworks/R.framework/Versions/Current/Resources/bin/R CMD build --keep-empty-dirs --no-resave-data DaMiRseq |
| StartedAt: 2021-05-05 19:01:35 -0400 (Wed, 05 May 2021) |
| EndedAt: 2021-05-05 19:02:03 -0400 (Wed, 05 May 2021) |
| EllapsedTime: 28.0 seconds |
| RetCode: 1 |
| Status: ERROR |
| PackageFile: None |
| PackageFileSize: NA |
##############################################################################
##############################################################################
###
### Running command:
###
### /Library/Frameworks/R.framework/Versions/Current/Resources/bin/R CMD build --keep-empty-dirs --no-resave-data DaMiRseq
###
##############################################################################
##############################################################################
* checking for file ‘DaMiRseq/DESCRIPTION’ ... OK
* preparing ‘DaMiRseq’:
* checking DESCRIPTION meta-information ... OK
* installing the package to build vignettes
-----------------------------------
* installing *source* package ‘DaMiRseq’ ...
** using staged installation
** R
** data
*** moving datasets to lazyload DB
** inst
** byte-compile and prepare package for lazy loading
ERROR: lazy loading failed for package ‘DaMiRseq’
* removing ‘/private/tmp/RtmphIMYKi/Rinst1543ac7e1a01/DaMiRseq’
-----------------------------------
ERROR: package installation failed