| Back to Multiple platform build/check report for BioC 3.12 |
|
This page was generated on 2021-05-06 12:30:59 -0400 (Thu, 06 May 2021).
|
To the developers/maintainers of the DOSE package: Please make sure to use the following settings in order to reproduce any error or warning you see on this page. |
| Package 505/1974 | Hostname | OS / Arch | INSTALL | BUILD | CHECK | BUILD BIN | ||||||||
| DOSE 3.16.0 (landing page) Guangchuang Yu
| malbec1 | Linux (Ubuntu 18.04.5 LTS) / x86_64 | OK | OK | OK | |||||||||
| tokay1 | Windows Server 2012 R2 Standard / x64 | OK | OK | OK | OK | |||||||||
| merida1 | macOS 10.14.6 Mojave / x86_64 | OK | OK | OK | OK | |||||||||
| Package: DOSE |
| Version: 3.16.0 |
| Command: rm -rf DOSE.buildbin-libdir && mkdir DOSE.buildbin-libdir && C:\Users\biocbuild\bbs-3.12-bioc\R\bin\R.exe CMD INSTALL --merge-multiarch --build --library=DOSE.buildbin-libdir DOSE_3.16.0.tar.gz |
| StartedAt: 2021-05-06 08:57:05 -0400 (Thu, 06 May 2021) |
| EndedAt: 2021-05-06 08:57:37 -0400 (Thu, 06 May 2021) |
| EllapsedTime: 32.1 seconds |
| RetCode: 0 |
| Status: OK |
| PackageFile: DOSE_3.16.0.zip |
| PackageFileSize: 6.378 MiB |
##############################################################################
##############################################################################
###
### Running command:
###
### rm -rf DOSE.buildbin-libdir && mkdir DOSE.buildbin-libdir && C:\Users\biocbuild\bbs-3.12-bioc\R\bin\R.exe CMD INSTALL --merge-multiarch --build --library=DOSE.buildbin-libdir DOSE_3.16.0.tar.gz
###
##############################################################################
##############################################################################
install for i386
* installing *source* package 'DOSE' ...
** using staged installation
** R
** data
** inst
** byte-compile and prepare package for lazy loading
** help
*** installing help indices
converting help for package 'DOSE'
finding HTML links ... done
DOSE-package html
DataSet html
EXTID2NAME html
GSEA_internal html
clusterSim html
compareClusterResult-class html
computeIC html
doSim html
enrichDGN html
enrichDGNv html
enrichDO html
enrichNCG html
enrichResult-class html
enricher_internal html
gene2DO html
geneID html
geneInCategory html
geneSim html
gseDGN html
gseDO html
gseNCG html
gseaResult-class html
gsfilter html
mclusterSim html
parse_ratio html
rebuildAnnoData html
reexports html
setReadable html
show-methods html
simplot html
summary-methods html
theme_dose html
** building package indices
** installing vignettes
** testing if installed package can be loaded from temporary location
** testing if installed package can be loaded from final location
** testing if installed package keeps a record of temporary installation path
install for x64
* installing *source* package 'DOSE' ...
** testing if installed package can be loaded
* MD5 sums
packaged installation of 'DOSE' as DOSE_3.16.0.zip
* DONE (DOSE)