| Back to Multiple platform build/check report for BioC 3.12 |
|
This page was generated on 2021-05-06 12:30:58 -0400 (Thu, 06 May 2021).
|
To the developers/maintainers of the DMRScan package: Please make sure to use the following settings in order to reproduce any error or warning you see on this page. |
| Package 496/1974 | Hostname | OS / Arch | INSTALL | BUILD | CHECK | BUILD BIN | ||||||||
| DMRScan 1.12.0 (landing page) Christian M Page
| malbec1 | Linux (Ubuntu 18.04.5 LTS) / x86_64 | OK | OK | OK | |||||||||
| tokay1 | Windows Server 2012 R2 Standard / x64 | OK | OK | OK | OK | |||||||||
| merida1 | macOS 10.14.6 Mojave / x86_64 | OK | OK | OK | OK | |||||||||
| Package: DMRScan |
| Version: 1.12.0 |
| Command: C:\Users\biocbuild\bbs-3.12-bioc\R\bin\R.exe CMD check --force-multiarch --install=check:DMRScan.install-out.txt --library=C:\Users\biocbuild\bbs-3.12-bioc\R\library --no-vignettes --timings DMRScan_1.12.0.tar.gz |
| StartedAt: 2021-05-06 02:17:37 -0400 (Thu, 06 May 2021) |
| EndedAt: 2021-05-06 02:33:33 -0400 (Thu, 06 May 2021) |
| EllapsedTime: 956.5 seconds |
| RetCode: 0 |
| Status: OK |
| CheckDir: DMRScan.Rcheck |
| Warnings: 0 |
##############################################################################
##############################################################################
###
### Running command:
###
### C:\Users\biocbuild\bbs-3.12-bioc\R\bin\R.exe CMD check --force-multiarch --install=check:DMRScan.install-out.txt --library=C:\Users\biocbuild\bbs-3.12-bioc\R\library --no-vignettes --timings DMRScan_1.12.0.tar.gz
###
##############################################################################
##############################################################################
* using log directory 'C:/Users/biocbuild/bbs-3.12-bioc/meat/DMRScan.Rcheck'
* using R version 4.0.5 (2021-03-31)
* using platform: x86_64-w64-mingw32 (64-bit)
* using session charset: ISO8859-1
* using option '--no-vignettes'
* checking for file 'DMRScan/DESCRIPTION' ... OK
* this is package 'DMRScan' version '1.12.0'
* checking package namespace information ... OK
* checking package dependencies ... OK
* checking if this is a source package ... OK
* checking if there is a namespace ... OK
* checking for hidden files and directories ... OK
* checking for portable file names ... OK
* checking whether package 'DMRScan' can be installed ... OK
* checking installed package size ... NOTE
installed size is 5.1Mb
sub-directories of 1Mb or more:
data 4.9Mb
* checking package directory ... OK
* checking 'build' directory ... OK
* checking DESCRIPTION meta-information ... OK
* checking top-level files ... OK
* checking for left-over files ... OK
* checking index information ... OK
* checking package subdirectories ... OK
* checking R files for non-ASCII characters ... OK
* checking R files for syntax errors ... OK
* loading checks for arch 'i386'
** checking whether the package can be loaded ... OK
** checking whether the package can be loaded with stated dependencies ... OK
** checking whether the package can be unloaded cleanly ... OK
** checking whether the namespace can be loaded with stated dependencies ... OK
** checking whether the namespace can be unloaded cleanly ... OK
* loading checks for arch 'x64'
** checking whether the package can be loaded ... OK
** checking whether the package can be loaded with stated dependencies ... OK
** checking whether the package can be unloaded cleanly ... OK
** checking whether the namespace can be loaded with stated dependencies ... OK
** checking whether the namespace can be unloaded cleanly ... OK
* checking dependencies in R code ... OK
* checking S3 generic/method consistency ... OK
* checking replacement functions ... OK
* checking foreign function calls ... OK
* checking R code for possible problems ... OK
* checking Rd files ... OK
* checking Rd metadata ... OK
* checking Rd cross-references ... OK
* checking for missing documentation entries ... OK
* checking for code/documentation mismatches ... OK
* checking Rd \usage sections ... OK
* checking Rd contents ... OK
* checking for unstated dependencies in examples ... OK
* checking contents of 'data' directory ... OK
* checking data for non-ASCII characters ... OK
* checking data for ASCII and uncompressed saves ... OK
* checking files in 'vignettes' ... OK
* checking examples ...
** running examples for arch 'i386' ... OK
Examples with CPU (user + system) or elapsed time > 5s
user system elapsed
DMRScan_package 126.22 1.23 127.70
DMRScan_slidingWindow 117.42 0.09 117.56
makeCpGregions 74.37 0.06 74.44
makeCpGgenes 70.78 0.05 70.83
** running examples for arch 'x64' ... OK
Examples with CPU (user + system) or elapsed time > 5s
user system elapsed
DMRScan_slidingWindow 125.63 0.05 125.68
DMRScan_package 116.14 0.24 116.41
makeCpGregions 98.79 0.03 99.08
makeCpGgenes 83.79 0.04 84.49
* checking for unstated dependencies in vignettes ... OK
* checking package vignettes in 'inst/doc' ... OK
* checking running R code from vignettes ... SKIPPED
* checking re-building of vignette outputs ... SKIPPED
* checking PDF version of manual ... OK
* DONE
Status: 1 NOTE
See
'C:/Users/biocbuild/bbs-3.12-bioc/meat/DMRScan.Rcheck/00check.log'
for details.
DMRScan.Rcheck/00install.out
##############################################################################
##############################################################################
###
### Running command:
###
### C:\cygwin\bin\curl.exe -O http://172.29.0.3/BBS/3.12/bioc/src/contrib/DMRScan_1.12.0.tar.gz && rm -rf DMRScan.buildbin-libdir && mkdir DMRScan.buildbin-libdir && C:\Users\biocbuild\bbs-3.12-bioc\R\bin\R.exe CMD INSTALL --merge-multiarch --build --library=DMRScan.buildbin-libdir DMRScan_1.12.0.tar.gz && C:\Users\biocbuild\bbs-3.12-bioc\R\bin\R.exe CMD INSTALL DMRScan_1.12.0.zip && rm DMRScan_1.12.0.tar.gz DMRScan_1.12.0.zip
###
##############################################################################
##############################################################################
% Total % Received % Xferd Average Speed Time Time Time Current
Dload Upload Total Spent Left Speed
0 0 0 0 0 0 0 0 --:--:-- --:--:-- --:--:-- 0
100 3202k 100 3202k 0 0 47.9M 0 --:--:-- --:--:-- --:--:-- 48.8M
install for i386
* installing *source* package 'DMRScan' ...
** using staged installation
** R
** data
*** moving datasets to lazyload DB
** inst
** byte-compile and prepare package for lazy loading
** help
*** installing help indices
converting help for package 'DMRScan'
finding HTML links ... done
DMRScan.methylationData html
DMRScan.phenotypes html
DMRScan_package html
finding level-2 HTML links ... done
DMRScan_slidingWindow html
Rt-methods html
St-methods html
estimateThreshold html
makeCpGgenes html
makeCpGregions html
** building package indices
** installing vignettes
** testing if installed package can be loaded from temporary location
** testing if installed package can be loaded from final location
** testing if installed package keeps a record of temporary installation path
install for x64
* installing *source* package 'DMRScan' ...
** testing if installed package can be loaded
* MD5 sums
packaged installation of 'DMRScan' as DMRScan_1.12.0.zip
* DONE (DMRScan)
* installing to library 'C:/Users/biocbuild/bbs-3.12-bioc/R/library'
package 'DMRScan' successfully unpacked and MD5 sums checked
|
DMRScan.Rcheck/examples_i386/DMRScan-Ex.timings
|
DMRScan.Rcheck/examples_x64/DMRScan-Ex.timings
|