| Back to Multiple platform build/check report for BioC 3.12 |
|
This page was generated on 2021-05-06 12:30:55 -0400 (Thu, 06 May 2021).
|
To the developers/maintainers of the DFP package: Please make sure to use the following settings in order to reproduce any error or warning you see on this page. |
| Package 472/1974 | Hostname | OS / Arch | INSTALL | BUILD | CHECK | BUILD BIN | ||||||||
| DFP 1.48.0 (landing page) Rodrigo Alvarez-Glez
| malbec1 | Linux (Ubuntu 18.04.5 LTS) / x86_64 | OK | OK | OK | |||||||||
| tokay1 | Windows Server 2012 R2 Standard / x64 | OK | OK | OK | OK | |||||||||
| merida1 | macOS 10.14.6 Mojave / x86_64 | OK | OK | OK | OK | |||||||||
| Package: DFP |
| Version: 1.48.0 |
| Command: rm -rf DFP.buildbin-libdir && mkdir DFP.buildbin-libdir && C:\Users\biocbuild\bbs-3.12-bioc\R\bin\R.exe CMD INSTALL --merge-multiarch --build --library=DFP.buildbin-libdir DFP_1.48.0.tar.gz |
| StartedAt: 2021-05-06 08:55:00 -0400 (Thu, 06 May 2021) |
| EndedAt: 2021-05-06 08:55:17 -0400 (Thu, 06 May 2021) |
| EllapsedTime: 17.4 seconds |
| RetCode: 0 |
| Status: OK |
| PackageFile: DFP_1.48.0.zip |
| PackageFileSize: 641.4 KiB |
##############################################################################
##############################################################################
###
### Running command:
###
### rm -rf DFP.buildbin-libdir && mkdir DFP.buildbin-libdir && C:\Users\biocbuild\bbs-3.12-bioc\R\bin\R.exe CMD INSTALL --merge-multiarch --build --library=DFP.buildbin-libdir DFP_1.48.0.tar.gz
###
##############################################################################
##############################################################################
install for i386
* installing *source* package 'DFP' ...
** using staged installation
** R
** data
** inst
** byte-compile and prepare package for lazy loading
** help
*** installing help indices
converting help for package 'DFP'
finding HTML links ... done
DFP-internal html
DFP-package html
ExpressionLevel-class html
HighExpressionLevel-class html
LowExpressionLevel-class html
MediumExpressionLevel-class html
calculateDiscriminantFuzzyPattern html
calculateFuzzyPatterns html
calculateMembershipFunctions html
discretizeExpressionValues html
discriminantFuzzyPattern html
plotDiscriminantFuzzyPattern html
plotMembershipFunctions html
readCSV html
rmadataset html
show-methods html
showDiscreteValues html
showFuzzyPatterns html
** building package indices
** installing vignettes
** testing if installed package can be loaded from temporary location
** testing if installed package can be loaded from final location
** testing if installed package keeps a record of temporary installation path
install for x64
* installing *source* package 'DFP' ...
** testing if installed package can be loaded
* MD5 sums
packaged installation of 'DFP' as DFP_1.48.0.zip
* DONE (DFP)