| Back to Multiple platform build/check report for BioC 3.12 |
|
This page was generated on 2021-05-06 12:30:49 -0400 (Thu, 06 May 2021).
|
To the developers/maintainers of the DEScan2 package: Please make sure to use the following settings in order to reproduce any error or warning you see on this page. |
| Package 463/1974 | Hostname | OS / Arch | INSTALL | BUILD | CHECK | BUILD BIN | ||||||||
| DEScan2 1.10.0 (landing page) Dario Righelli
| malbec1 | Linux (Ubuntu 18.04.5 LTS) / x86_64 | OK | OK | WARNINGS | |||||||||
| tokay1 | Windows Server 2012 R2 Standard / x64 | OK | OK | WARNINGS | OK | |||||||||
| merida1 | macOS 10.14.6 Mojave / x86_64 | OK | OK | WARNINGS | OK | |||||||||
| Package: DEScan2 |
| Version: 1.10.0 |
| Command: rm -rf DEScan2.buildbin-libdir && mkdir DEScan2.buildbin-libdir && C:\Users\biocbuild\bbs-3.12-bioc\R\bin\R.exe CMD INSTALL --merge-multiarch --build --library=DEScan2.buildbin-libdir DEScan2_1.10.0.tar.gz |
| StartedAt: 2021-05-06 08:54:25 -0400 (Thu, 06 May 2021) |
| EndedAt: 2021-05-06 08:56:01 -0400 (Thu, 06 May 2021) |
| EllapsedTime: 95.6 seconds |
| RetCode: 0 |
| Status: OK |
| PackageFile: DEScan2_1.10.0.zip |
| PackageFileSize: 3.22 MiB |
##############################################################################
##############################################################################
###
### Running command:
###
### rm -rf DEScan2.buildbin-libdir && mkdir DEScan2.buildbin-libdir && C:\Users\biocbuild\bbs-3.12-bioc\R\bin\R.exe CMD INSTALL --merge-multiarch --build --library=DEScan2.buildbin-libdir DEScan2_1.10.0.tar.gz
###
##############################################################################
##############################################################################
install for i386
* installing *source* package 'DEScan2' ...
** using staged installation
** libs
"C:/rtools40/mingw32/bin/"g++ -std=gnu++11 -I"C:/Users/BIOCBU~1/BBS-3~1.12-/R/include" -DNDEBUG -I'C:/Users/biocbuild/bbs-3.12-bioc/R/library/Rcpp/include' -I'C:/Users/biocbuild/bbs-3.12-bioc/R/library/RcppArmadillo/include' -I"C:/extsoft/include" -O2 -Wall -mfpmath=sse -msse2 -mstackrealign -c RcppExports.cpp -o RcppExports.o
"C:/rtools40/mingw32/bin/"g++ -std=gnu++11 -I"C:/Users/BIOCBU~1/BBS-3~1.12-/R/include" -DNDEBUG -I'C:/Users/biocbuild/bbs-3.12-bioc/R/library/Rcpp/include' -I'C:/Users/biocbuild/bbs-3.12-bioc/R/library/RcppArmadillo/include' -I"C:/extsoft/include" -O2 -Wall -mfpmath=sse -msse2 -mstackrealign -c rcpparma_max_win.cpp -o rcpparma_max_win.o
C:/rtools40/mingw32/bin/g++ -shared -s -static-libgcc -o DEScan2.dll tmp.def RcppExports.o rcpparma_max_win.o -LC:/Users/BIOCBU~1/BBS-3~1.12-/R/bin/i386 -lRlapack -LC:/Users/BIOCBU~1/BBS-3~1.12-/R/bin/i386 -lRblas -lgfortran -lm -lquadmath -LC:/extsoft/lib/i386 -LC:/extsoft/lib -LC:/Users/BIOCBU~1/BBS-3~1.12-/R/bin/i386 -lR
installing to C:/Users/biocbuild/bbs-3.12-bioc/meat/DEScan2.buildbin-libdir/00LOCK-DEScan2/00new/DEScan2/libs/i386
** R
** inst
** byte-compile and prepare package for lazy loading
** help
*** installing help indices
converting help for package 'DEScan2'
finding HTML links ... done
DEScan2 html
RleListToRleMatrix html
binToChrCoordMatRowNames html
binnedCovOnly html
binnedCoverage html
c_get_disjoint_max_win html
computeCoverageMovingWindowOnChr html
computeLambdaOnChr html
computeZ html
constructBedRanges html
countFinalRegions html
createGranges html
cutGRangesPerChromosome html
divideEachSampleByChromosomes html
evenRunMean html
evenRunSum html
finalRegions html
Rd warning: C:/Users/biocbuild/bbs-3.12-bioc/tmpdir/Rtmp8KdpAc/R.INSTALL3c6818af191/DEScan2/man/finalRegions.Rd:34: file link 'bpparam' in package 'BiocParallel' does not exist and so has been treated as a topic
findOverlapsOverSamples html
findPeaks html
Rd warning: C:/Users/biocbuild/bbs-3.12-bioc/tmpdir/Rtmp8KdpAc/R.INSTALL3c6818af191/DEScan2/man/findPeaks.Rd:61: file link 'bpparam' in package 'BiocParallel' does not exist and so has been treated as a topic
fromSamplesToChrsGRangesList html
generateDFofSamplesPerChromosomes html
get_disjoint_max_win html
giveUniqueNamesToPeaksOverSamples html
initMergedPeaksNames html
keepRelevantChrs html
rcpparma_get_disjoint_max_win html
readBamAsBed html
readBedFile html
readFilesAsGRangesList html
saveGRangesAsBed html
saveGRangesAsTsv html
setGRGenomeInfo html
** building package indices
** installing vignettes
** testing if installed package can be loaded from temporary location
** testing if installed package can be loaded from final location
** testing if installed package keeps a record of temporary installation path
install for x64
* installing *source* package 'DEScan2' ...
** libs
"C:/rtools40/mingw64/bin/"g++ -std=gnu++11 -I"C:/Users/BIOCBU~1/BBS-3~1.12-/R/include" -DNDEBUG -I'C:/Users/biocbuild/bbs-3.12-bioc/R/library/Rcpp/include' -I'C:/Users/biocbuild/bbs-3.12-bioc/R/library/RcppArmadillo/include' -I"C:/extsoft/include" -O2 -Wall -mfpmath=sse -msse2 -mstackrealign -c RcppExports.cpp -o RcppExports.o
"C:/rtools40/mingw64/bin/"g++ -std=gnu++11 -I"C:/Users/BIOCBU~1/BBS-3~1.12-/R/include" -DNDEBUG -I'C:/Users/biocbuild/bbs-3.12-bioc/R/library/Rcpp/include' -I'C:/Users/biocbuild/bbs-3.12-bioc/R/library/RcppArmadillo/include' -I"C:/extsoft/include" -O2 -Wall -mfpmath=sse -msse2 -mstackrealign -c rcpparma_max_win.cpp -o rcpparma_max_win.o
C:/rtools40/mingw64/bin/g++ -shared -s -static-libgcc -o DEScan2.dll tmp.def RcppExports.o rcpparma_max_win.o -LC:/Users/BIOCBU~1/BBS-3~1.12-/R/bin/x64 -lRlapack -LC:/Users/BIOCBU~1/BBS-3~1.12-/R/bin/x64 -lRblas -lgfortran -lm -lquadmath -LC:/extsoft/lib/x64 -LC:/extsoft/lib -LC:/Users/BIOCBU~1/BBS-3~1.12-/R/bin/x64 -lR
installing to C:/Users/biocbuild/bbs-3.12-bioc/meat/DEScan2.buildbin-libdir/DEScan2/libs/x64
** testing if installed package can be loaded
* MD5 sums
packaged installation of 'DEScan2' as DEScan2_1.10.0.zip
* DONE (DEScan2)