| Back to Multiple platform build/check report for BioC 3.12 |
|
This page was generated on 2021-05-06 12:34:44 -0400 (Thu, 06 May 2021).
|
To the developers/maintainers of the DAPAR package: Please make sure to use the following settings in order to reproduce any error or warning you see on this page. |
| Package 425/1974 | Hostname | OS / Arch | INSTALL | BUILD | CHECK | BUILD BIN | ||||||||
| DAPAR 1.22.9 (landing page) Samuel Wieczorek
| malbec1 | Linux (Ubuntu 18.04.5 LTS) / x86_64 | OK | OK | OK | |||||||||
| tokay1 | Windows Server 2012 R2 Standard / x64 | OK | OK | OK | OK | |||||||||
| merida1 | macOS 10.14.6 Mojave / x86_64 | OK | OK | OK | OK | |||||||||
| Package: DAPAR |
| Version: 1.22.9 |
| Command: /Library/Frameworks/R.framework/Versions/Current/Resources/bin/R CMD check --install=check:DAPAR.install-out.txt --library=/Library/Frameworks/R.framework/Versions/Current/Resources/library --no-vignettes --timings DAPAR_1.22.9.tar.gz |
| StartedAt: 2021-05-06 00:51:57 -0400 (Thu, 06 May 2021) |
| EndedAt: 2021-05-06 01:01:19 -0400 (Thu, 06 May 2021) |
| EllapsedTime: 562.1 seconds |
| RetCode: 0 |
| Status: OK |
| CheckDir: DAPAR.Rcheck |
| Warnings: 0 |
##############################################################################
##############################################################################
###
### Running command:
###
### /Library/Frameworks/R.framework/Versions/Current/Resources/bin/R CMD check --install=check:DAPAR.install-out.txt --library=/Library/Frameworks/R.framework/Versions/Current/Resources/library --no-vignettes --timings DAPAR_1.22.9.tar.gz
###
##############################################################################
##############################################################################
* using log directory ‘/Users/biocbuild/bbs-3.12-bioc/meat/DAPAR.Rcheck’
* using R version 4.0.5 (2021-03-31)
* using platform: x86_64-apple-darwin17.0 (64-bit)
* using session charset: UTF-8
* using option ‘--no-vignettes’
* checking for file ‘DAPAR/DESCRIPTION’ ... OK
* checking extension type ... Package
* this is package ‘DAPAR’ version ‘1.22.9’
* package encoding: UTF-8
* checking package namespace information ... OK
* checking package dependencies ... OK
* checking if this is a source package ... OK
* checking if there is a namespace ... OK
* checking for hidden files and directories ... OK
* checking for portable file names ... OK
* checking for sufficient/correct file permissions ... OK
* checking whether package ‘DAPAR’ can be installed ... OK
* checking installed package size ... OK
* checking package directory ... OK
* checking ‘build’ directory ... OK
* checking DESCRIPTION meta-information ... OK
* checking top-level files ... OK
* checking for left-over files ... OK
* checking index information ... OK
* checking package subdirectories ... OK
* checking R files for non-ASCII characters ... OK
* checking R files for syntax errors ... OK
* checking whether the package can be loaded ... OK
* checking whether the package can be loaded with stated dependencies ... OK
* checking whether the package can be unloaded cleanly ... OK
* checking whether the namespace can be loaded with stated dependencies ... OK
* checking whether the namespace can be unloaded cleanly ... OK
* checking dependencies in R code ... NOTE
Namespaces in Imports field not imported from:
‘Cairo’ ‘DAPARdata’ ‘clusterProfiler’ ‘igraph’ ‘knitr’ ‘lattice’
‘norm’ ‘parallel’ ‘pcaMethods’ ‘png’ ‘scales’ ‘siggenes’ ‘tidyverse’
‘tmvtnorm’
All declared Imports should be used.
* checking S3 generic/method consistency ... OK
* checking replacement functions ... OK
* checking foreign function calls ... OK
* checking R code for possible problems ... NOTE
heatmap.DAPAR: warning in axis(1, 1:nc, label = labCol, las = 2, line =
-0.5 + offsetCol, tick = 0, cex.axis = cexCol, hadj = NA, padj = 0):
partial argument match of 'label' to 'labels'
heatmap.DAPAR: warning in axis(1, 1:nc, label = rep("", nc), las = 2,
tick = 0): partial argument match of 'label' to 'labels'
heatmap.DAPAR: warning in axis(4, iy, label = labRow, las = 5, line =
-0.5 + offsetRow, tick = 0, cex.axis = cexRow, hadj = 0, padj = NA):
partial argument match of 'label' to 'labels'
heatmap.DAPAR: warning in axis(4, iy, label = rep("", nr), las = 2,
line = -0.5, tick = 0): partial argument match of 'label' to 'labels'
BuildColumnToProteinDataset_par: no visible global function definition
for ‘%dopar%’
aggregateIterParallel: no visible global function definition for
‘%dopar%’
aggregateIterParallel: no visible binding for global variable ‘cond’
averageIntensities: no visible binding for global variable ‘condition’
averageIntensities: no visible binding for global variable ‘feature’
averageIntensities: no visible binding for global variable ‘intensity’
barplotEnrichGO_HC : <anonymous>: no visible global function definition
for ‘last’
diffAnaVolcanoplot_rCharts: no visible binding for global variable ‘x’
diffAnaVolcanoplot_rCharts: no visible binding for global variable ‘y’
diffAnaVolcanoplot_rCharts: no visible binding for global variable ‘g’
display.CC.visNet: no visible binding for global variable
‘layout_nicely’
enrich_GO: no visible global function definition for ‘bitr’
enrich_GO: no visible global function definition for ‘enrichGO’
getTextForGOAnalysis: no visible binding for global variable
‘textGOParams’
getTextForGOAnalysis: no visible binding for global variable ‘input’
group_GO: no visible global function definition for ‘bitr’
group_GO: no visible global function definition for ‘groupGO’
limmaCompleteTest: no visible binding for global variable ‘A’
limmaCompleteTest: no visible binding for global variable ‘B’
limmaCompleteTest: no visible binding for global variable ‘P.Value’
pepa.test: no visible global function definition for ‘nodes<-’
visualizeClusters: no visible global function definition for ‘desc’
visualizeClusters: no visible binding for global variable
‘adjusted_pvalues’
visualizeClusters: no visible binding for global variable ‘Condition’
visualizeClusters: no visible binding for global variable ‘intensity’
visualizeClusters: no visible binding for global variable
‘FDR_threshold’
visualizeClusters: no visible binding for global variable ‘feature’
wrapperClassic1wayAnova: no visible binding for global variable
‘Pr(>F)1’
wrapperClassic1wayAnova: no visible binding for global variable
‘post_hoc’
wrapperRunClustering: no visible global function definition for ‘str_c’
Undefined global functions or variables:
%dopar% A B Condition FDR_threshold P.Value Pr(>F)1 adjusted_pvalues
bitr cond condition desc enrichGO feature g groupGO input intensity
last layout_nicely nodes<- post_hoc str_c textGOParams x y
* checking Rd files ... OK
* checking Rd metadata ... OK
* checking Rd cross-references ... OK
* checking for missing documentation entries ... OK
* checking for code/documentation mismatches ... OK
* checking Rd \usage sections ... OK
* checking Rd contents ... OK
* checking for unstated dependencies in examples ... OK
* checking sizes of PDF files under ‘inst/doc’ ... OK
* checking files in ‘vignettes’ ... OK
* checking examples ... OK
Examples with CPU (user + system) or elapsed time > 5s
user system elapsed
buildGraph 56.712 1.184 58.019
display.CC.visNet 55.760 0.729 56.557
checkClusterability 21.856 10.198 31.397
wrapper.CVDistD 6.426 4.690 10.746
CVDistD 5.933 4.774 10.419
wrapper.dapar.impute.mi 8.459 1.111 9.540
CVDistD_HC 3.933 2.776 6.569
wrapper.CVDistD_HC 3.861 2.662 6.339
formatPHResults 5.457 0.992 6.390
postHocTest 5.213 0.983 6.154
* checking for unstated dependencies in ‘tests’ ... OK
* checking tests ...
Running ‘testthat.R’
OK
* checking for unstated dependencies in vignettes ... OK
* checking package vignettes in ‘inst/doc’ ... OK
* checking running R code from vignettes ... SKIPPED
* checking re-building of vignette outputs ... SKIPPED
* checking PDF version of manual ... OK
* DONE
Status: 2 NOTEs
See
‘/Users/biocbuild/bbs-3.12-bioc/meat/DAPAR.Rcheck/00check.log’
for details.
DAPAR.Rcheck/00install.out
############################################################################## ############################################################################## ### ### Running command: ### ### /Library/Frameworks/R.framework/Versions/Current/Resources/bin/R CMD INSTALL DAPAR ### ############################################################################## ############################################################################## * installing to library ‘/Library/Frameworks/R.framework/Versions/4.0/Resources/library’ * installing *source* package ‘DAPAR’ ... ** using staged installation ** R ** inst ** byte-compile and prepare package for lazy loading ** help *** installing help indices ** building package indices ** installing vignettes ** testing if installed package can be loaded from temporary location ** testing if installed package can be loaded from final location ** testing if installed package keeps a record of temporary installation path * DONE (DAPAR)
DAPAR.Rcheck/tests/testthat.Rout
R version 4.0.5 (2021-03-31) -- "Shake and Throw"
Copyright (C) 2021 The R Foundation for Statistical Computing
Platform: x86_64-apple-darwin17.0 (64-bit)
R is free software and comes with ABSOLUTELY NO WARRANTY.
You are welcome to redistribute it under certain conditions.
Type 'license()' or 'licence()' for distribution details.
R is a collaborative project with many contributors.
Type 'contributors()' for more information and
'citation()' on how to cite R or R packages in publications.
Type 'demo()' for some demos, 'help()' for on-line help, or
'help.start()' for an HTML browser interface to help.
Type 'q()' to quit R.
> library(testthat)
> library(DAPAR)
>
> test_check("DAPAR")
[ FAIL 0 | WARN 1 | SKIP 0 | PASS 0 ]
>
> proc.time()
user system elapsed
12.400 0.751 13.287
DAPAR.Rcheck/DAPAR-Ex.timings
| name | user | system | elapsed | |
| BuildAdjacencyMatrix | 1.201 | 0.292 | 1.494 | |
| BuildColumnToProteinDataset | 0.000 | 0.001 | 0.001 | |
| BuildColumnToProteinDataset_par | 0.000 | 0.001 | 0.000 | |
| BuildPalette | 0.302 | 0.004 | 0.307 | |
| CVDistD | 5.933 | 4.774 | 10.419 | |
| CVDistD_HC | 3.933 | 2.776 | 6.569 | |
| CountPep | 0.635 | 0.407 | 1.043 | |
| GetDetailedNbPeptides | 0.886 | 0.068 | 0.955 | |
| Get_AllComparisons | 0.718 | 0.042 | 0.758 | |
| GlobalQuantileAlignment | 0.333 | 0.004 | 0.337 | |
| GraphPepProt | 0.430 | 0.036 | 0.467 | |
| LOESS | 1.782 | 0.021 | 1.806 | |
| MeanCentering | 0.321 | 0.003 | 0.324 | |
| NumericalFiltering | 0.425 | 0.015 | 0.440 | |
| NumericalgetIndicesOfLinesToRemove | 0.321 | 0.004 | 0.326 | |
| QuantileCentering | 0.327 | 0.005 | 0.331 | |
| StringBasedFiltering | 0.602 | 0.042 | 0.643 | |
| StringBasedFiltering2 | 0.388 | 0.015 | 0.402 | |
| SumByColumns | 2.923 | 0.248 | 3.167 | |
| addOriginOfValue | 0.314 | 0.005 | 0.319 | |
| aggregateIter | 0.000 | 0.001 | 0.001 | |
| aggregateIterParallel | 0 | 0 | 0 | |
| aggregateMean | 0.000 | 0.001 | 0.000 | |
| aggregateSum | 0.000 | 0.000 | 0.001 | |
| aggregateTopn | 0.000 | 0.000 | 0.001 | |
| averageIntensities | 0.259 | 0.046 | 0.304 | |
| boxPlotD_HC | 0.301 | 0.095 | 0.394 | |
| buildGraph | 56.712 | 1.184 | 58.019 | |
| check.conditions | 0.308 | 0.004 | 0.312 | |
| check.design | 0.283 | 0.003 | 0.286 | |
| checkClusterability | 21.856 | 10.198 | 31.397 | |
| classic1wayAnova | 2.091 | 0.316 | 2.395 | |
| compareNormalizationD_HC | 0.660 | 0.295 | 0.981 | |
| compute_t_tests | 1.692 | 0.298 | 1.973 | |
| corrMatrixD_HC | 0.472 | 0.082 | 0.556 | |
| createMSnset | 2.510 | 0.167 | 2.670 | |
| dapar_hc_ExportMenu | 0.207 | 0.218 | 0.434 | |
| dapar_hc_chart | 0.075 | 0.059 | 0.138 | |
| deleteLinesFromIndices | 0.372 | 0.008 | 0.380 | |
| densityPlotD | 0.331 | 0.009 | 0.341 | |
| densityPlotD_HC | 2.206 | 0.936 | 3.080 | |
| diffAnaComputeFDR | 0.752 | 0.073 | 0.826 | |
| diffAnaGetSignificant | 0.711 | 0.033 | 0.742 | |
| diffAnaSave | 0.623 | 0.033 | 0.657 | |
| diffAnaVolcanoplot | 0.368 | 0.013 | 0.382 | |
| diffAnaVolcanoplot_rCharts | 0 | 0 | 0 | |
| display.CC.visNet | 55.760 | 0.729 | 56.557 | |
| enrich_GO | 0.000 | 0.001 | 0.001 | |
| findMECBlock | 0.352 | 0.008 | 0.361 | |
| formatLimmaResult | 0.457 | 0.013 | 0.470 | |
| formatPHResults | 5.457 | 0.992 | 6.390 | |
| get.pep.prot.cc | 1.169 | 0.041 | 1.211 | |
| getIndicesConditions | 0.310 | 0.004 | 0.314 | |
| getIndicesOfLinesToRemove | 0.326 | 0.004 | 0.330 | |
| getListNbValuesInLines | 0.341 | 0.007 | 0.348 | |
| getNumberOf | 0.320 | 0.004 | 0.324 | |
| getNumberOfEmptyLines | 0.376 | 0.007 | 0.383 | |
| getPourcentageOfMV | 0.323 | 0.003 | 0.327 | |
| getProcessingInfo | 0.321 | 0.004 | 0.325 | |
| getProteinsStats | 0.368 | 0.020 | 0.388 | |
| getQuantile4Imp | 0.321 | 0.003 | 0.324 | |
| getTextForAggregation | 0.001 | 0.000 | 0.001 | |
| getTextForAnaDiff | 0.000 | 0.000 | 0.001 | |
| getTextForFiltering | 0.000 | 0.001 | 0.000 | |
| getTextForGOAnalysis | 0.001 | 0.000 | 0.001 | |
| getTextForHypothesisTest | 0 | 0 | 0 | |
| getTextForNewDataset | 0.003 | 0.000 | 0.003 | |
| getTextForNormalization | 0.000 | 0.000 | 0.001 | |
| getTextForpeptideImputation | 0.001 | 0.000 | 0.001 | |
| getTextForproteinImputation | 0.001 | 0.000 | 0.001 | |
| group_GO | 0 | 0 | 0 | |
| hc_logFC_DensityPlot | 0.677 | 0.210 | 0.875 | |
| hc_mvTypePlot2 | 2.814 | 0.979 | 3.742 | |
| heatmap.DAPAR | 0.570 | 0.036 | 0.607 | |
| heatmapD | 0 | 0 | 0 | |
| histPValue_HC | 0.662 | 0.092 | 0.758 | |
| impute.detQuant | 0.688 | 0.789 | 1.541 | |
| impute.pa2 | 0.463 | 0.177 | 0.626 | |
| is.MV | 0.718 | 0.889 | 1.670 | |
| is.OfType | 0.748 | 0.935 | 1.712 | |
| limmaCompleteTest | 2.300 | 0.095 | 2.395 | |
| make.contrast | 0.301 | 0.003 | 0.305 | |
| make.design.1 | 0.290 | 0.004 | 0.294 | |
| make.design.2 | 0.000 | 0.001 | 0.001 | |
| make.design.3 | 0.293 | 0.004 | 0.297 | |
| make.design | 0.306 | 0.003 | 0.310 | |
| mvFilter | 0.428 | 0.013 | 0.440 | |
| mvFilterFromIndices | 0.328 | 0.008 | 0.336 | |
| mvFilterGetIndices | 0.427 | 0.013 | 0.440 | |
| mvHisto_HC | 0.374 | 0.063 | 0.438 | |
| mvImage | 3.651 | 0.259 | 3.905 | |
| mvPerLinesHistoPerCondition_HC | 0.363 | 0.061 | 0.505 | |
| mvPerLinesHisto_HC | 0.413 | 0.062 | 0.478 | |
| my_hc_ExportMenu | 0.225 | 0.180 | 0.411 | |
| my_hc_chart | 0.198 | 0.168 | 0.374 | |
| nonzero | 0.020 | 0.002 | 0.022 | |
| plotJitter | 1.244 | 0.038 | 1.284 | |
| plotPCA_Eigen | 0.292 | 0.003 | 0.296 | |
| plotPCA_Eigen_hc | 0.271 | 0.003 | 0.274 | |
| plotPCA_Ind | 0.237 | 0.003 | 0.240 | |
| plotPCA_Var | 0.260 | 0.003 | 0.264 | |
| postHocTest | 5.213 | 0.983 | 6.154 | |
| proportionConRev_HC | 0.062 | 0.058 | 0.125 | |
| rbindMSnset | 0.401 | 0.019 | 0.421 | |
| reIntroduceMEC | 0.507 | 0.020 | 0.526 | |
| removeLines | 0.312 | 0.006 | 0.318 | |
| saveParameters | 0.325 | 0.006 | 0.332 | |
| setMEC | 0.463 | 0.017 | 0.480 | |
| test.design | 0.304 | 0.004 | 0.309 | |
| translatedRandomBeta | 0.005 | 0.017 | 0.021 | |
| violinPlotD | 0.407 | 0.028 | 0.435 | |
| visualizeClusters | 0.412 | 0.058 | 0.466 | |
| vsn | 0.626 | 0.015 | 0.641 | |
| wrapper.CVDistD | 6.426 | 4.690 | 10.746 | |
| wrapper.CVDistD_HC | 3.861 | 2.662 | 6.339 | |
| wrapper.compareNormalizationD_HC | 0.278 | 0.003 | 0.281 | |
| wrapper.corrMatrixD_HC | 0.443 | 0.080 | 0.523 | |
| wrapper.dapar.impute.mi | 8.459 | 1.111 | 9.540 | |
| wrapper.hc_mvTypePlot2 | 2.793 | 0.930 | 3.667 | |
| wrapper.heatmapD | 0.000 | 0.000 | 0.001 | |
| wrapper.impute.KNN | 0.333 | 0.009 | 0.341 | |
| wrapper.impute.detQuant | 0.326 | 0.005 | 0.332 | |
| wrapper.impute.fixedValue | 0.336 | 0.008 | 0.345 | |
| wrapper.impute.mle | 0.394 | 0.012 | 0.406 | |
| wrapper.impute.pa | 0.519 | 0.166 | 0.672 | |
| wrapper.impute.pa2 | 0.522 | 0.178 | 0.685 | |
| wrapper.impute.slsa | 2.410 | 0.184 | 2.591 | |
| wrapper.mvHisto_HC | 0.342 | 0.053 | 0.396 | |
| wrapper.mvImage | 0.663 | 0.037 | 0.700 | |
| wrapper.mvPerLinesHistoPerCondition_HC | 0.372 | 0.055 | 0.428 | |
| wrapper.mvPerLinesHisto_HC | 0.350 | 0.055 | 0.409 | |
| wrapper.normalizeD | 0.289 | 0.004 | 0.292 | |
| wrapper.pca | 0.396 | 0.012 | 0.407 | |
| wrapperCalibrationPlot | 0.321 | 0.016 | 0.338 | |
| wrapperClassic1wayAnova | 2.870 | 0.509 | 3.358 | |
| wrapperRunClustering | 3.504 | 0.769 | 4.230 | |
| writeMSnsetToCSV | 0.000 | 0.001 | 0.000 | |
| writeMSnsetToExcel | 0.001 | 0.001 | 0.000 | |