| Back to Multiple platform build/check report for BioC 3.12 |
|
This page was generated on 2021-05-06 12:30:35 -0400 (Thu, 06 May 2021).
|
To the developers/maintainers of the DAMEfinder package: Please make sure to use the following settings in order to reproduce any error or warning you see on this page. |
| Package 423/1974 | Hostname | OS / Arch | INSTALL | BUILD | CHECK | BUILD BIN | ||||||||
| DAMEfinder 1.2.0 (landing page) Stephany Orjuela
| malbec1 | Linux (Ubuntu 18.04.5 LTS) / x86_64 | OK | OK | OK | |||||||||
| tokay1 | Windows Server 2012 R2 Standard / x64 | OK | OK | OK | OK | |||||||||
| merida1 | macOS 10.14.6 Mojave / x86_64 | OK | OK | OK | OK | |||||||||
| Package: DAMEfinder |
| Version: 1.2.0 |
| Command: rm -rf DAMEfinder.buildbin-libdir && mkdir DAMEfinder.buildbin-libdir && C:\Users\biocbuild\bbs-3.12-bioc\R\bin\R.exe CMD INSTALL --merge-multiarch --build --library=DAMEfinder.buildbin-libdir DAMEfinder_1.2.0.tar.gz |
| StartedAt: 2021-05-06 08:51:19 -0400 (Thu, 06 May 2021) |
| EndedAt: 2021-05-06 08:52:04 -0400 (Thu, 06 May 2021) |
| EllapsedTime: 44.3 seconds |
| RetCode: 0 |
| Status: OK |
| PackageFile: DAMEfinder_1.2.0.zip |
| PackageFileSize: 3.165 MiB |
##############################################################################
##############################################################################
###
### Running command:
###
### rm -rf DAMEfinder.buildbin-libdir && mkdir DAMEfinder.buildbin-libdir && C:\Users\biocbuild\bbs-3.12-bioc\R\bin\R.exe CMD INSTALL --merge-multiarch --build --library=DAMEfinder.buildbin-libdir DAMEfinder_1.2.0.tar.gz
###
##############################################################################
##############################################################################
install for i386
* installing *source* package 'DAMEfinder' ...
** using staged installation
** R
** data
** inst
** byte-compile and prepare package for lazy loading
** help
*** installing help indices
converting help for package 'DAMEfinder'
finding HTML links ... done
DAMEfinder html
calc_asm html
calc_derivedasm html
finding level-2 HTML links ... done
calc_logodds html
calc_score html
calc_weight html
dame_track html
dame_track_mean html
empirical_pval html
extract_bams html
extractbams_output html
find_dames html
getMD html
get_tstats html
methyl_MDS_plot html
methyl_circle_plot html
methyl_circle_plotCpG html
modulus_sqrt html
read_tuples html
readtuples_output html
simes_pval html
splitReads html
** building package indices
** installing vignettes
** testing if installed package can be loaded from temporary location
** testing if installed package can be loaded from final location
** testing if installed package keeps a record of temporary installation path
install for x64
* installing *source* package 'DAMEfinder' ...
** testing if installed package can be loaded
* MD5 sums
packaged installation of 'DAMEfinder' as DAMEfinder_1.2.0.zip
* DONE (DAMEfinder)