| Back to Multiple platform build/check report for BioC 3.12 |
|
This page was generated on 2021-05-06 12:30:34 -0400 (Thu, 06 May 2021).
|
To the developers/maintainers of the CytoDx package: Please make sure to use the following settings in order to reproduce any error or warning you see on this page. |
| Package 414/1974 | Hostname | OS / Arch | INSTALL | BUILD | CHECK | BUILD BIN | ||||||||
| CytoDx 1.10.0 (landing page) Zicheng Hu
| malbec1 | Linux (Ubuntu 18.04.5 LTS) / x86_64 | OK | OK | OK | |||||||||
| tokay1 | Windows Server 2012 R2 Standard / x64 | OK | OK | OK | OK | |||||||||
| merida1 | macOS 10.14.6 Mojave / x86_64 | OK | OK | OK | OK | |||||||||
| Package: CytoDx |
| Version: 1.10.0 |
| Command: rm -rf CytoDx.buildbin-libdir && mkdir CytoDx.buildbin-libdir && C:\Users\biocbuild\bbs-3.12-bioc\R\bin\R.exe CMD INSTALL --merge-multiarch --build --library=CytoDx.buildbin-libdir CytoDx_1.10.0.tar.gz |
| StartedAt: 2021-05-06 08:50:39 -0400 (Thu, 06 May 2021) |
| EndedAt: 2021-05-06 08:51:10 -0400 (Thu, 06 May 2021) |
| EllapsedTime: 31.6 seconds |
| RetCode: 0 |
| Status: OK |
| PackageFile: CytoDx_1.10.0.zip |
| PackageFileSize: 568 KiB |
##############################################################################
##############################################################################
###
### Running command:
###
### rm -rf CytoDx.buildbin-libdir && mkdir CytoDx.buildbin-libdir && C:\Users\biocbuild\bbs-3.12-bioc\R\bin\R.exe CMD INSTALL --merge-multiarch --build --library=CytoDx.buildbin-libdir CytoDx_1.10.0.tar.gz
###
##############################################################################
##############################################################################
install for i386
* installing *source* package 'CytoDx' ...
** using staged installation
** R
** inst
** byte-compile and prepare package for lazy loading
** help
*** installing help indices
converting help for package 'CytoDx'
finding HTML links ... done
CytoDx.fit html
CytoDx.pred html
fcs2DF html
meanUnique html
pRank html
rank.ub.average html
set2DF html
treeGate html
** building package indices
** installing vignettes
** testing if installed package can be loaded from temporary location
** testing if installed package can be loaded from final location
** testing if installed package keeps a record of temporary installation path
install for x64
* installing *source* package 'CytoDx' ...
** testing if installed package can be loaded
* MD5 sums
packaged installation of 'CytoDx' as CytoDx_1.10.0.zip
* DONE (CytoDx)