| Back to Multiple platform build/check report for BioC 3.12 |
|
This page was generated on 2021-05-06 12:30:31 -0400 (Thu, 06 May 2021).
|
To the developers/maintainers of the CrispRVariants package: Please make sure to use the following settings in order to reproduce any error or warning you see on this page. |
| Package 397/1974 | Hostname | OS / Arch | INSTALL | BUILD | CHECK | BUILD BIN | ||||||||
| CrispRVariants 1.18.0 (landing page) Helen Lindsay
| malbec1 | Linux (Ubuntu 18.04.5 LTS) / x86_64 | OK | OK | WARNINGS | |||||||||
| tokay1 | Windows Server 2012 R2 Standard / x64 | OK | OK | WARNINGS | OK | |||||||||
| merida1 | macOS 10.14.6 Mojave / x86_64 | OK | OK | WARNINGS | OK | |||||||||
| Package: CrispRVariants |
| Version: 1.18.0 |
| Command: rm -rf CrispRVariants.buildbin-libdir && mkdir CrispRVariants.buildbin-libdir && C:\Users\biocbuild\bbs-3.12-bioc\R\bin\R.exe CMD INSTALL --merge-multiarch --build --library=CrispRVariants.buildbin-libdir CrispRVariants_1.18.0.tar.gz |
| StartedAt: 2021-05-06 08:49:29 -0400 (Thu, 06 May 2021) |
| EndedAt: 2021-05-06 08:50:50 -0400 (Thu, 06 May 2021) |
| EllapsedTime: 80.9 seconds |
| RetCode: 0 |
| Status: OK |
| PackageFile: CrispRVariants_1.18.0.zip |
| PackageFileSize: 1.867 MiB |
##############################################################################
##############################################################################
###
### Running command:
###
### rm -rf CrispRVariants.buildbin-libdir && mkdir CrispRVariants.buildbin-libdir && C:\Users\biocbuild\bbs-3.12-bioc\R\bin\R.exe CMD INSTALL --merge-multiarch --build --library=CrispRVariants.buildbin-libdir CrispRVariants_1.18.0.tar.gz
###
##############################################################################
##############################################################################
install for i386
* installing *source* package 'CrispRVariants' ...
** using staged installation
** R
** data
*** moving datasets to lazyload DB
** inst
** byte-compile and prepare package for lazy loading
** help
*** installing help indices
converting help for package 'CrispRVariants'
finding HTML links ... done
CrisprRun-class html
CrisprSet-class html
abifToFastq html
addClipped html
Rd warning: C:/Users/biocbuild/bbs-3.12-bioc/tmpdir/RtmpItSB7C/R.INSTALL1e443f3454b/CrispRVariants/man/addClipped.Rd:19: file link 'GRanges' in package 'GenomicRanges' does not exist and so has been treated as a topic
addCodonFrame html
alleleLabelsHelpers html
alleles html
alns html
annotateGenePlot html
arrangePlots html
barplotAlleleFreqs html
collapsePairs html
consensusSeqs html
dispatchDots html
excludeFromBam html
Rd warning: C:/Users/biocbuild/bbs-3.12-bioc/tmpdir/RtmpItSB7C/R.INSTALL1e443f3454b/CrispRVariants/man/excludeFromBam.Rd:12: file link 'GRanges' in package 'GenomicRanges' does not exist and so has been treated as a topic
explodeCigarOpCombs html
findChimeras html
findSNVs html
getAxisCoords html
getChimeras html
getInsertionsTable html
gol_clutch1 html
indelCounts html
indelLabels html
intersperse html
makeAlignmentTilePlot html
mergeChimeras html
mergeCrisprSets html
mismatchLabels html
mutationEfficiency html
narrowAlignments html
plotAlignments html
Rd warning: C:/Users/biocbuild/bbs-3.12-bioc/tmpdir/RtmpItSB7C/R.INSTALL1e443f3454b/CrispRVariants/man/plotAlignments.Rd:131: file link 'CrisprSet' in package 'CrispRVariants' does not exist and so has been treated as a topic
plotChimeras html
plotFreqHeatmap html
plotVariants html
rcAlns html
readTargetBam html
readsByPCRPrimer html
Rd warning: C:/Users/biocbuild/bbs-3.12-bioc/tmpdir/RtmpItSB7C/R.INSTALL1e443f3454b/CrispRVariants/man/readsByPCRPrimer.Rd:32: file link 'findOverlaps' in package 'GenomicAlignments' does not exist and so has been treated as a topic
Rd warning: C:/Users/biocbuild/bbs-3.12-bioc/tmpdir/RtmpItSB7C/R.INSTALL1e443f3454b/CrispRVariants/man/readsByPCRPrimer.Rd:33: file link 'disjoin' in package 'GenomicRanges' does not exist and so has been treated as a topic
Rd warning: C:/Users/biocbuild/bbs-3.12-bioc/tmpdir/RtmpItSB7C/R.INSTALL1e443f3454b/CrispRVariants/man/readsByPCRPrimer.Rd:43: file link 'Hits' in package 'S4Vectors' does not exist and so has been treated as a topic
Rd warning: C:/Users/biocbuild/bbs-3.12-bioc/tmpdir/RtmpItSB7C/R.INSTALL1e443f3454b/CrispRVariants/man/readsByPCRPrimer.Rd:57: file link 'GRanges' in package 'GenomicRanges' does not exist and so has been treated as a topic
Rd warning: C:/Users/biocbuild/bbs-3.12-bioc/tmpdir/RtmpItSB7C/R.INSTALL1e443f3454b/CrispRVariants/man/readsByPCRPrimer.Rd:57: file link 'GAlignments' in package 'GenomicAlignments' does not exist and so has been treated as a topic
readsToTarget html
Rd warning: C:/Users/biocbuild/bbs-3.12-bioc/tmpdir/RtmpItSB7C/R.INSTALL1e443f3454b/CrispRVariants/man/readsToTarget.Rd:111: file link 'findOverlaps' in package 'GenomicAlignments' does not exist and so has been treated as a topic
Rd warning: C:/Users/biocbuild/bbs-3.12-bioc/tmpdir/RtmpItSB7C/R.INSTALL1e443f3454b/CrispRVariants/man/readsToTarget.Rd:114: file link 'bpparam' in package 'BiocParallel' does not exist and so has been treated as a topic
refFromAlns html
reverseCigar html
rmMultiPCRChimera html
selectAlnRegionsHelpers html
selectOps html
seqsToAln html
setDNATileColours html
setMismatchTileColours html
transformAlnsToLong html
variantCounts html
writeFastq html
** building package indices
** installing vignettes
** testing if installed package can be loaded from temporary location
** testing if installed package can be loaded from final location
** testing if installed package keeps a record of temporary installation path
install for x64
* installing *source* package 'CrispRVariants' ...
** testing if installed package can be loaded
* MD5 sums
packaged installation of 'CrispRVariants' as CrispRVariants_1.18.0.zip
* DONE (CrispRVariants)