| Back to Multiple platform build/check report for BioC 3.12 |
|
This page was generated on 2021-05-06 12:30:30 -0400 (Thu, 06 May 2021).
|
To the developers/maintainers of the CountClust package: Please make sure to use the following settings in order to reproduce any error or warning you see on this page. |
| Package 387/1974 | Hostname | OS / Arch | INSTALL | BUILD | CHECK | BUILD BIN | ||||||||
| CountClust 1.18.0 (landing page) Kushal Dey
| malbec1 | Linux (Ubuntu 18.04.5 LTS) / x86_64 | OK | OK | OK | |||||||||
| tokay1 | Windows Server 2012 R2 Standard / x64 | OK | OK | OK | OK | |||||||||
| merida1 | macOS 10.14.6 Mojave / x86_64 | OK | OK | OK | OK | |||||||||
| Package: CountClust |
| Version: 1.18.0 |
| Command: rm -rf CountClust.buildbin-libdir && mkdir CountClust.buildbin-libdir && C:\Users\biocbuild\bbs-3.12-bioc\R\bin\R.exe CMD INSTALL --merge-multiarch --build --library=CountClust.buildbin-libdir CountClust_1.18.0.tar.gz |
| StartedAt: 2021-05-06 08:48:49 -0400 (Thu, 06 May 2021) |
| EndedAt: 2021-05-06 08:49:23 -0400 (Thu, 06 May 2021) |
| EllapsedTime: 34.2 seconds |
| RetCode: 0 |
| Status: OK |
| PackageFile: CountClust_1.18.0.zip |
| PackageFileSize: 6.654 MiB |
##############################################################################
##############################################################################
###
### Running command:
###
### rm -rf CountClust.buildbin-libdir && mkdir CountClust.buildbin-libdir && C:\Users\biocbuild\bbs-3.12-bioc\R\bin\R.exe CMD INSTALL --merge-multiarch --build --library=CountClust.buildbin-libdir CountClust_1.18.0.tar.gz
###
##############################################################################
##############################################################################
install for i386
* installing *source* package 'CountClust' ...
** using staged installation
** R
** data
*** moving datasets to lazyload DB
** inst
** byte-compile and prepare package for lazy loading
** help
*** installing help indices
converting help for package 'CountClust'
finding HTML links ... done
AbundanceGoM html
BatchCorrectedCounts html
ExtractHighCorFeatures html
ExtractTopFeatures html
FitGoM html
GTExV6Brain.FitGoM html
MouseDeng2014.FitGoM html
MouseJaitinSpleen.FitGoM html
RemoveSparseFeatures html
StructureGGplot html
compGoM html
compare_omega html
ex.counts html
handleNA html
nullmodel_GoM html
** building package indices
** installing vignettes
** testing if installed package can be loaded from temporary location
** testing if installed package can be loaded from final location
** testing if installed package keeps a record of temporary installation path
install for x64
* installing *source* package 'CountClust' ...
** testing if installed package can be loaded
* MD5 sums
packaged installation of 'CountClust' as CountClust_1.18.0.zip
* DONE (CountClust)