| Back to Multiple platform build/check report for BioC 3.12 | 
 | 
This page was generated on 2021-05-06 12:30:28 -0400 (Thu, 06 May 2021).
| To the developers/maintainers of the ConsensusClusterPlus package: Please make sure to use the following settings in order to reproduce any error or warning you see on this page. | 
| Package 365/1974 | Hostname | OS / Arch | INSTALL | BUILD | CHECK | BUILD BIN | ||||||||
| ConsensusClusterPlus 1.54.0  (landing page) Matt Wilkerson 
 | malbec1 | Linux (Ubuntu 18.04.5 LTS) / x86_64 | OK | OK | OK |  | ||||||||
| tokay1 | Windows Server 2012 R2 Standard / x64 | OK | OK | OK | OK |  | ||||||||
| merida1 | macOS 10.14.6 Mojave / x86_64 | OK | OK | OK | OK |  | ||||||||
| Package: ConsensusClusterPlus | 
| Version: 1.54.0 | 
| Command: C:\cygwin\bin\curl.exe -O http://172.29.0.3/BBS/3.12/bioc/src/contrib/ConsensusClusterPlus_1.54.0.tar.gz && rm -rf ConsensusClusterPlus.buildbin-libdir && mkdir ConsensusClusterPlus.buildbin-libdir && C:\Users\biocbuild\bbs-3.12-bioc\R\bin\R.exe CMD INSTALL --merge-multiarch --build --library=ConsensusClusterPlus.buildbin-libdir ConsensusClusterPlus_1.54.0.tar.gz && C:\Users\biocbuild\bbs-3.12-bioc\R\bin\R.exe CMD INSTALL ConsensusClusterPlus_1.54.0.zip && rm ConsensusClusterPlus_1.54.0.tar.gz ConsensusClusterPlus_1.54.0.zip | 
| StartedAt: 2021-05-05 17:08:51 -0400 (Wed, 05 May 2021) | 
| EndedAt: 2021-05-05 17:09:21 -0400 (Wed, 05 May 2021) | 
| EllapsedTime: 30.1 seconds | 
| RetCode: 0 | 
| Status: OK | 
##############################################################################
##############################################################################
###
### Running command:
###
###   C:\cygwin\bin\curl.exe -O http://172.29.0.3/BBS/3.12/bioc/src/contrib/ConsensusClusterPlus_1.54.0.tar.gz && rm -rf ConsensusClusterPlus.buildbin-libdir && mkdir ConsensusClusterPlus.buildbin-libdir && C:\Users\biocbuild\bbs-3.12-bioc\R\bin\R.exe CMD INSTALL --merge-multiarch --build --library=ConsensusClusterPlus.buildbin-libdir ConsensusClusterPlus_1.54.0.tar.gz && C:\Users\biocbuild\bbs-3.12-bioc\R\bin\R.exe CMD INSTALL ConsensusClusterPlus_1.54.0.zip && rm ConsensusClusterPlus_1.54.0.tar.gz ConsensusClusterPlus_1.54.0.zip
###
##############################################################################
##############################################################################
  % Total    % Received % Xferd  Average Speed   Time    Time     Time  Current
                                 Dload  Upload   Total   Spent    Left  Speed
  0     0    0     0    0     0      0      0 --:--:-- --:--:-- --:--:--     0
100 17237  100 17237    0     0   879k      0 --:--:-- --:--:-- --:--:--  935k
install for i386
* installing *source* package 'ConsensusClusterPlus' ...
** using staged installation
** R
** inst
** byte-compile and prepare package for lazy loading
** help
*** installing help indices
  converting help for package 'ConsensusClusterPlus'
    finding HTML links ... done
    ConsensusClusterPlus                    html  
** building package indices
** installing vignettes
** testing if installed package can be loaded from temporary location
** testing if installed package can be loaded from final location
** testing if installed package keeps a record of temporary installation path
install for x64
* installing *source* package 'ConsensusClusterPlus' ...
** testing if installed package can be loaded
* MD5 sums
packaged installation of 'ConsensusClusterPlus' as ConsensusClusterPlus_1.54.0.zip
* DONE (ConsensusClusterPlus)
* installing to library 'C:/Users/biocbuild/bbs-3.12-bioc/R/library'
package 'ConsensusClusterPlus' successfully unpacked and MD5 sums checked