| Back to Multiple platform build/check report for BioC 3.12 | 
  | 
This page was generated on 2021-05-06 12:30:29 -0400 (Thu, 06 May 2021).
| 
To the developers/maintainers of the CoRegNet package: Please make sure to use the following settings in order to reproduce any error or warning you see on this page.  | 
| Package 378/1974 | Hostname | OS / Arch | INSTALL | BUILD | CHECK | BUILD BIN | ||||||||
| CoRegNet 1.28.0  (landing page) Remy Nicolle 
  | malbec1 | Linux (Ubuntu 18.04.5 LTS) / x86_64 | OK | OK | WARNINGS | |||||||||
| tokay1 | Windows Server 2012 R2 Standard / x64 | OK | OK | WARNINGS | OK | |||||||||
| merida1 | macOS 10.14.6 Mojave / x86_64 | OK | OK | WARNINGS | OK | |||||||||
| Package: CoRegNet | 
| Version: 1.28.0 | 
| Command: rm -rf CoRegNet.buildbin-libdir && mkdir CoRegNet.buildbin-libdir && C:\Users\biocbuild\bbs-3.12-bioc\R\bin\R.exe CMD INSTALL --merge-multiarch --build --library=CoRegNet.buildbin-libdir CoRegNet_1.28.0.tar.gz | 
| StartedAt: 2021-05-06 08:48:15 -0400 (Thu, 06 May 2021) | 
| EndedAt: 2021-05-06 08:49:05 -0400 (Thu, 06 May 2021) | 
| EllapsedTime: 50.0 seconds | 
| RetCode: 0 | 
| Status: OK | 
| PackageFile: CoRegNet_1.28.0.zip | 
| PackageFileSize: 3.787 MiB | 
##############################################################################
##############################################################################
###
### Running command:
###
###   rm -rf CoRegNet.buildbin-libdir && mkdir CoRegNet.buildbin-libdir && C:\Users\biocbuild\bbs-3.12-bioc\R\bin\R.exe CMD INSTALL --merge-multiarch --build --library=CoRegNet.buildbin-libdir CoRegNet_1.28.0.tar.gz
###
##############################################################################
##############################################################################
install for i386
* installing *source* package 'CoRegNet' ...
** using staged installation
** libs
"C:/rtools40/mingw32/bin/"gcc  -I"C:/Users/BIOCBU~1/BBS-3~1.12-/R/include" -DNDEBUG     -I"C:/extsoft/include"     -O2 -Wall  -std=gnu99 -mfpmath=sse -msse2 -mstackrealign -c comblicorn.c -o comblicorn.o
C:/rtools40/mingw32/bin/gcc -shared -s -static-libgcc -o CoRegNet.dll tmp.def comblicorn.o -LC:/extsoft/lib/i386 -LC:/extsoft/lib -LC:/Users/BIOCBU~1/BBS-3~1.12-/R/bin/i386 -lR
installing to C:/Users/biocbuild/bbs-3.12-bioc/meat/CoRegNet.buildbin-libdir/00LOCK-CoRegNet/00new/CoRegNet/libs/i386
** R
** data
** inst
** byte-compile and prepare package for lazy loading
** help
*** installing help indices
  converting help for package 'CoRegNet'
    finding HTML links ... done
    CoRegNet-class                          html  
    HumanDataExamples                       html  
    HumanTF                                 html  
    addEvidences                            html  
    coRegnet-package                        html  
    coregnet                                html  
    coregulators                            html  
    discretizeExpressionData                html  
    display                                 html  
    hLICORN                                 html  
    masterRegulator                         html  
    refine                                  html  
    regulatorInfluence                      html  
    regulators                              html  
    summary                                 html  
** building package indices
** installing vignettes
** testing if installed package can be loaded from temporary location
** testing if installed package can be loaded from final location
** testing if installed package keeps a record of temporary installation path
install for x64
* installing *source* package 'CoRegNet' ...
** libs
"C:/rtools40/mingw64/bin/"gcc  -I"C:/Users/BIOCBU~1/BBS-3~1.12-/R/include" -DNDEBUG     -I"C:/extsoft/include"     -O2 -Wall  -std=gnu99 -mfpmath=sse -msse2 -mstackrealign -c comblicorn.c -o comblicorn.o
C:/rtools40/mingw64/bin/gcc -shared -s -static-libgcc -o CoRegNet.dll tmp.def comblicorn.o -LC:/extsoft/lib/x64 -LC:/extsoft/lib -LC:/Users/BIOCBU~1/BBS-3~1.12-/R/bin/x64 -lR
installing to C:/Users/biocbuild/bbs-3.12-bioc/meat/CoRegNet.buildbin-libdir/CoRegNet/libs/x64
** testing if installed package can be loaded
* MD5 sums
packaged installation of 'CoRegNet' as CoRegNet_1.28.0.zip
* DONE (CoRegNet)