| Back to Multiple platform build/check report for BioC 3.12 |
|
This page was generated on 2021-05-06 12:34:35 -0400 (Thu, 06 May 2021).
|
To the developers/maintainers of the CoGAPS package: Please make sure to use the following settings in order to reproduce any error or warning you see on this page. |
| Package 350/1974 | Hostname | OS / Arch | INSTALL | BUILD | CHECK | BUILD BIN | ||||||||
| CoGAPS 3.10.0 (landing page) Elana J. Fertig
| malbec1 | Linux (Ubuntu 18.04.5 LTS) / x86_64 | OK | OK | OK | |||||||||
| tokay1 | Windows Server 2012 R2 Standard / x64 | OK | OK | OK | OK | |||||||||
| merida1 | macOS 10.14.6 Mojave / x86_64 | OK | OK | OK | OK | |||||||||
| Package: CoGAPS |
| Version: 3.10.0 |
| Command: rm -rf CoGAPS.buildbin-libdir && mkdir CoGAPS.buildbin-libdir && /Users/biocbuild/BBS/utils/build-universal.sh CoGAPS_3.10.0.tar.gz /Library/Frameworks/R.framework/Versions/Current/Resources/bin/R CoGAPS.buildbin-libdir |
| StartedAt: 2021-05-06 08:16:05 -0400 (Thu, 06 May 2021) |
| EndedAt: 2021-05-06 08:19:29 -0400 (Thu, 06 May 2021) |
| EllapsedTime: 204.3 seconds |
| RetCode: 0 |
| Status: OK |
| PackageFile: CoGAPS_3.10.0.tgz |
| PackageFileSize: 20.29 MiB |
##############################################################################
##############################################################################
###
### Running command:
###
### rm -rf CoGAPS.buildbin-libdir && mkdir CoGAPS.buildbin-libdir && /Users/biocbuild/BBS/utils/build-universal.sh CoGAPS_3.10.0.tar.gz /Library/Frameworks/R.framework/Versions/Current/Resources/bin/R CoGAPS.buildbin-libdir
###
##############################################################################
##############################################################################
>>>>>>>
>>>>>>> INSTALLATION WITH 'R CMD INSTALL --preclean --no-multiarch --library=CoGAPS.buildbin-libdir CoGAPS_3.10.0.tar.gz'
>>>>>>>
* installing *source* package ‘CoGAPS’ ...
** using staged installation
checking whether the C++ compiler works... yes
checking for C++ compiler default output file name... a.out
checking for suffix of executables...
checking whether we are cross compiling... no
checking for suffix of object files... o
checking whether we are using the GNU C++ compiler... yes
checking whether clang++ -mmacosx-version-min=10.13 -std=gnu++11 accepts -g... yes
checking how to run the C++ preprocessor... clang++ -mmacosx-version-min=10.13 -std=gnu++11 -E
checking whether we are using the GNU C++ compiler... (cached) yes
checking whether clang++ -mmacosx-version-min=10.13 -std=gnu++11 accepts -g... (cached) yes
./configure: line 2752: AX_COMPILER_VENDOR: command not found
./configure: line 2753: AX_COMPILER_VERSION: command not found
./configure: line 2764: AX_OPENMP: command not found
building on compiler version
Using AVX instructions if available
configure: creating ./config.status
config.status: creating src/Makevars
** libs
clang++ -mmacosx-version-min=10.13 -std=gnu++11 -I"/Library/Frameworks/R.framework/Resources/include" -DNDEBUG -DBOOST_MATH_PROMOTE_DOUBLE_POLICY=0 -DGAPS_DISABLE_CHECKPOINTS -D__GAPS_R_BUILD__ -Iinclude -I'/Library/Frameworks/R.framework/Versions/4.0/Resources/library/Rcpp/include' -I/usr/local/include -march=native -fPIC -Wall -g -O2 -c Cogaps.cpp -o Cogaps.o
In file included from Cogaps.cpp:5:
In file included from ./file_parser/FileParser.h:5:
In file included from ./file_parser/../utils/GapsAssert.h:9:
In file included from /Library/Frameworks/R.framework/Versions/4.0/Resources/library/Rcpp/include/Rcpp.h:57:
/Library/Frameworks/R.framework/Versions/4.0/Resources/library/Rcpp/include/Rcpp/DataFrame.h:136:18: warning: unused variable 'data' [-Wunused-variable]
SEXP data = Parent::get__();
^
1 warning generated.
clang++ -mmacosx-version-min=10.13 -std=gnu++11 -I"/Library/Frameworks/R.framework/Resources/include" -DNDEBUG -DBOOST_MATH_PROMOTE_DOUBLE_POLICY=0 -DGAPS_DISABLE_CHECKPOINTS -D__GAPS_R_BUILD__ -Iinclude -I'/Library/Frameworks/R.framework/Versions/4.0/Resources/library/Rcpp/include' -I/usr/local/include -march=native -fPIC -Wall -g -O2 -c GapsParameters.cpp -o GapsParameters.o
In file included from GapsParameters.cpp:2:
In file included from ./utils/Archive.h:4:
In file included from ./utils/GapsAssert.h:9:
In file included from /Library/Frameworks/R.framework/Versions/4.0/Resources/library/Rcpp/include/Rcpp.h:57:
/Library/Frameworks/R.framework/Versions/4.0/Resources/library/Rcpp/include/Rcpp/DataFrame.h:136:18: warning: unused variable 'data' [-Wunused-variable]
SEXP data = Parent::get__();
^
1 warning generated.
clang++ -mmacosx-version-min=10.13 -std=gnu++11 -I"/Library/Frameworks/R.framework/Resources/include" -DNDEBUG -DBOOST_MATH_PROMOTE_DOUBLE_POLICY=0 -DGAPS_DISABLE_CHECKPOINTS -D__GAPS_R_BUILD__ -Iinclude -I'/Library/Frameworks/R.framework/Versions/4.0/Resources/library/Rcpp/include' -I/usr/local/include -march=native -fPIC -Wall -g -O2 -c GapsResult.cpp -o GapsResult.o
In file included from GapsResult.cpp:3:
In file included from ./GapsStatistics.h:4:
In file included from ./gibbs_sampler/DenseNormalModel.h:7:
In file included from ./gibbs_sampler/../math/MatrixMath.h:6:
In file included from ./gibbs_sampler/../math/VectorMath.h:7:
In file included from ./gibbs_sampler/../math/../utils/GapsAssert.h:9:
In file included from /Library/Frameworks/R.framework/Versions/4.0/Resources/library/Rcpp/include/Rcpp.h:57:
/Library/Frameworks/R.framework/Versions/4.0/Resources/library/Rcpp/include/Rcpp/DataFrame.h:136:18: warning: unused variable 'data' [-Wunused-variable]
SEXP data = Parent::get__();
^
1 warning generated.
clang++ -mmacosx-version-min=10.13 -std=gnu++11 -I"/Library/Frameworks/R.framework/Resources/include" -DNDEBUG -DBOOST_MATH_PROMOTE_DOUBLE_POLICY=0 -DGAPS_DISABLE_CHECKPOINTS -D__GAPS_R_BUILD__ -Iinclude -I'/Library/Frameworks/R.framework/Versions/4.0/Resources/library/Rcpp/include' -I/usr/local/include -march=native -fPIC -Wall -g -O2 -c GapsRunner.cpp -o GapsRunner.o
In file included from GapsRunner.cpp:4:
In file included from ./GapsStatistics.h:4:
In file included from ./gibbs_sampler/DenseNormalModel.h:7:
In file included from ./gibbs_sampler/../math/MatrixMath.h:6:
In file included from ./gibbs_sampler/../math/VectorMath.h:7:
In file included from ./gibbs_sampler/../math/../utils/GapsAssert.h:9:
In file included from /Library/Frameworks/R.framework/Versions/4.0/Resources/library/Rcpp/include/Rcpp.h:57:
/Library/Frameworks/R.framework/Versions/4.0/Resources/library/Rcpp/include/Rcpp/DataFrame.h:136:18: warning: unused variable 'data' [-Wunused-variable]
SEXP data = Parent::get__();
^
GapsRunner.cpp:430:13: warning: enumeration value 'GAPS_ALL_PHASES' not handled in switch [-Wswitch]
switch (phase)
^
GapsRunner.cpp:430:13: note: add missing switch cases
switch (phase)
^
GapsRunner.cpp:430:13: warning: enumeration value 'GAPS_ALL_PHASES' not handled in switch [-Wswitch]
switch (phase)
^
GapsRunner.cpp:430:13: note: add missing switch cases
switch (phase)
^
GapsRunner.cpp:430:13: warning: enumeration value 'GAPS_ALL_PHASES' not handled in switch [-Wswitch]
switch (phase)
^
GapsRunner.cpp:430:13: note: add missing switch cases
switch (phase)
^
GapsRunner.cpp:430:13: warning: enumeration value 'GAPS_ALL_PHASES' not handled in switch [-Wswitch]
switch (phase)
^
GapsRunner.cpp:430:13: note: add missing switch cases
switch (phase)
^
GapsRunner.cpp:430:13: warning: enumeration value 'GAPS_ALL_PHASES' not handled in switch [-Wswitch]
switch (phase)
^
GapsRunner.cpp:430:13: note: add missing switch cases
switch (phase)
^
GapsRunner.cpp:430:13: warning: enumeration value 'GAPS_ALL_PHASES' not handled in switch [-Wswitch]
switch (phase)
^
GapsRunner.cpp:430:13: note: add missing switch cases
switch (phase)
^
GapsRunner.cpp:430:13: warning: enumeration value 'GAPS_ALL_PHASES' not handled in switch [-Wswitch]
switch (phase)
^
GapsRunner.cpp:430:13: note: add missing switch cases
switch (phase)
^
GapsRunner.cpp:430:13: warning: enumeration value 'GAPS_ALL_PHASES' not handled in switch [-Wswitch]
switch (phase)
^
GapsRunner.cpp:430:13: note: add missing switch cases
switch (phase)
^
GapsRunner.cpp:430:13: warning: enumeration value 'GAPS_ALL_PHASES' not handled in switch [-Wswitch]
switch (phase)
^
GapsRunner.cpp:430:13: note: add missing switch cases
switch (phase)
^
10 warnings generated.
clang++ -mmacosx-version-min=10.13 -std=gnu++11 -I"/Library/Frameworks/R.framework/Resources/include" -DNDEBUG -DBOOST_MATH_PROMOTE_DOUBLE_POLICY=0 -DGAPS_DISABLE_CHECKPOINTS -D__GAPS_R_BUILD__ -Iinclude -I'/Library/Frameworks/R.framework/Versions/4.0/Resources/library/Rcpp/include' -I/usr/local/include -march=native -fPIC -Wall -g -O2 -c GapsStatistics.cpp -o GapsStatistics.o
In file included from GapsStatistics.cpp:1:
In file included from ./GapsStatistics.h:4:
In file included from ./gibbs_sampler/DenseNormalModel.h:7:
In file included from ./gibbs_sampler/../math/MatrixMath.h:6:
In file included from ./gibbs_sampler/../math/VectorMath.h:7:
In file included from ./gibbs_sampler/../math/../utils/GapsAssert.h:9:
In file included from /Library/Frameworks/R.framework/Versions/4.0/Resources/library/Rcpp/include/Rcpp.h:57:
/Library/Frameworks/R.framework/Versions/4.0/Resources/library/Rcpp/include/Rcpp/DataFrame.h:136:18: warning: unused variable 'data' [-Wunused-variable]
SEXP data = Parent::get__();
^
1 warning generated.
clang++ -mmacosx-version-min=10.13 -std=gnu++11 -I"/Library/Frameworks/R.framework/Resources/include" -DNDEBUG -DBOOST_MATH_PROMOTE_DOUBLE_POLICY=0 -DGAPS_DISABLE_CHECKPOINTS -D__GAPS_R_BUILD__ -Iinclude -I'/Library/Frameworks/R.framework/Versions/4.0/Resources/library/Rcpp/include' -I/usr/local/include -march=native -fPIC -Wall -g -O2 -c RcppExports.cpp -o RcppExports.o
In file included from RcppExports.cpp:4:
In file included from /Library/Frameworks/R.framework/Versions/4.0/Resources/library/Rcpp/include/Rcpp.h:57:
/Library/Frameworks/R.framework/Versions/4.0/Resources/library/Rcpp/include/Rcpp/DataFrame.h:136:18: warning: unused variable 'data' [-Wunused-variable]
SEXP data = Parent::get__();
^
1 warning generated.
clang++ -mmacosx-version-min=10.13 -std=gnu++11 -I"/Library/Frameworks/R.framework/Resources/include" -DNDEBUG -DBOOST_MATH_PROMOTE_DOUBLE_POLICY=0 -DGAPS_DISABLE_CHECKPOINTS -D__GAPS_R_BUILD__ -Iinclude -I'/Library/Frameworks/R.framework/Versions/4.0/Resources/library/Rcpp/include' -I/usr/local/include -march=native -fPIC -Wall -g -O2 -c test-runner.cpp -o test-runner.o
clang++ -mmacosx-version-min=10.13 -std=gnu++11 -I"/Library/Frameworks/R.framework/Resources/include" -DNDEBUG -DBOOST_MATH_PROMOTE_DOUBLE_POLICY=0 -DGAPS_DISABLE_CHECKPOINTS -D__GAPS_R_BUILD__ -Iinclude -I'/Library/Frameworks/R.framework/Versions/4.0/Resources/library/Rcpp/include' -I/usr/local/include -march=native -fPIC -Wall -g -O2 -c atomic/Atom.cpp -o atomic/Atom.o
In file included from atomic/Atom.cpp:2:
In file included from atomic/../utils/Archive.h:4:
In file included from atomic/../utils/GapsAssert.h:9:
In file included from /Library/Frameworks/R.framework/Versions/4.0/Resources/library/Rcpp/include/Rcpp.h:57:
/Library/Frameworks/R.framework/Versions/4.0/Resources/library/Rcpp/include/Rcpp/DataFrame.h:136:18: warning: unused variable 'data' [-Wunused-variable]
SEXP data = Parent::get__();
^
1 warning generated.
clang++ -mmacosx-version-min=10.13 -std=gnu++11 -I"/Library/Frameworks/R.framework/Resources/include" -DNDEBUG -DBOOST_MATH_PROMOTE_DOUBLE_POLICY=0 -DGAPS_DISABLE_CHECKPOINTS -D__GAPS_R_BUILD__ -Iinclude -I'/Library/Frameworks/R.framework/Versions/4.0/Resources/library/Rcpp/include' -I/usr/local/include -march=native -fPIC -Wall -g -O2 -c atomic/ConcurrentAtom.cpp -o atomic/ConcurrentAtom.o
In file included from atomic/ConcurrentAtom.cpp:2:
In file included from atomic/../utils/Archive.h:4:
In file included from atomic/../utils/GapsAssert.h:9:
In file included from /Library/Frameworks/R.framework/Versions/4.0/Resources/library/Rcpp/include/Rcpp.h:57:
/Library/Frameworks/R.framework/Versions/4.0/Resources/library/Rcpp/include/Rcpp/DataFrame.h:136:18: warning: unused variable 'data' [-Wunused-variable]
SEXP data = Parent::get__();
^
1 warning generated.
clang++ -mmacosx-version-min=10.13 -std=gnu++11 -I"/Library/Frameworks/R.framework/Resources/include" -DNDEBUG -DBOOST_MATH_PROMOTE_DOUBLE_POLICY=0 -DGAPS_DISABLE_CHECKPOINTS -D__GAPS_R_BUILD__ -Iinclude -I'/Library/Frameworks/R.framework/Versions/4.0/Resources/library/Rcpp/include' -I/usr/local/include -march=native -fPIC -Wall -g -O2 -c atomic/AtomicDomain.cpp -o atomic/AtomicDomain.o
In file included from atomic/AtomicDomain.cpp:2:
In file included from atomic/../utils/GapsAssert.h:9:
In file included from /Library/Frameworks/R.framework/Versions/4.0/Resources/library/Rcpp/include/Rcpp.h:57:
/Library/Frameworks/R.framework/Versions/4.0/Resources/library/Rcpp/include/Rcpp/DataFrame.h:136:18: warning: unused variable 'data' [-Wunused-variable]
SEXP data = Parent::get__();
^
1 warning generated.
clang++ -mmacosx-version-min=10.13 -std=gnu++11 -I"/Library/Frameworks/R.framework/Resources/include" -DNDEBUG -DBOOST_MATH_PROMOTE_DOUBLE_POLICY=0 -DGAPS_DISABLE_CHECKPOINTS -D__GAPS_R_BUILD__ -Iinclude -I'/Library/Frameworks/R.framework/Versions/4.0/Resources/library/Rcpp/include' -I/usr/local/include -march=native -fPIC -Wall -g -O2 -c atomic/ConcurrentAtomicDomain.cpp -o atomic/ConcurrentAtomicDomain.o
In file included from atomic/ConcurrentAtomicDomain.cpp:3:
In file included from atomic/../utils/Archive.h:4:
In file included from atomic/../utils/GapsAssert.h:9:
In file included from /Library/Frameworks/R.framework/Versions/4.0/Resources/library/Rcpp/include/Rcpp.h:57:
/Library/Frameworks/R.framework/Versions/4.0/Resources/library/Rcpp/include/Rcpp/DataFrame.h:136:18: warning: unused variable 'data' [-Wunused-variable]
SEXP data = Parent::get__();
^
1 warning generated.
clang++ -mmacosx-version-min=10.13 -std=gnu++11 -I"/Library/Frameworks/R.framework/Resources/include" -DNDEBUG -DBOOST_MATH_PROMOTE_DOUBLE_POLICY=0 -DGAPS_DISABLE_CHECKPOINTS -D__GAPS_R_BUILD__ -Iinclude -I'/Library/Frameworks/R.framework/Versions/4.0/Resources/library/Rcpp/include' -I/usr/local/include -march=native -fPIC -Wall -g -O2 -c atomic/ProposalQueue.cpp -o atomic/ProposalQueue.o
In file included from atomic/ProposalQueue.cpp:5:
In file included from atomic/../utils/Archive.h:4:
In file included from atomic/../utils/GapsAssert.h:9:
In file included from /Library/Frameworks/R.framework/Versions/4.0/Resources/library/Rcpp/include/Rcpp.h:57:
/Library/Frameworks/R.framework/Versions/4.0/Resources/library/Rcpp/include/Rcpp/DataFrame.h:136:18: warning: unused variable 'data' [-Wunused-variable]
SEXP data = Parent::get__();
^
1 warning generated.
clang++ -mmacosx-version-min=10.13 -std=gnu++11 -I"/Library/Frameworks/R.framework/Resources/include" -DNDEBUG -DBOOST_MATH_PROMOTE_DOUBLE_POLICY=0 -DGAPS_DISABLE_CHECKPOINTS -D__GAPS_R_BUILD__ -Iinclude -I'/Library/Frameworks/R.framework/Versions/4.0/Resources/library/Rcpp/include' -I/usr/local/include -march=native -fPIC -Wall -g -O2 -c data_structures/HashSets.cpp -o data_structures/HashSets.o
clang++ -mmacosx-version-min=10.13 -std=gnu++11 -I"/Library/Frameworks/R.framework/Resources/include" -DNDEBUG -DBOOST_MATH_PROMOTE_DOUBLE_POLICY=0 -DGAPS_DISABLE_CHECKPOINTS -D__GAPS_R_BUILD__ -Iinclude -I'/Library/Frameworks/R.framework/Versions/4.0/Resources/library/Rcpp/include' -I/usr/local/include -march=native -fPIC -Wall -g -O2 -c data_structures/HybridMatrix.cpp -o data_structures/HybridMatrix.o
In file included from data_structures/HybridMatrix.cpp:4:
In file included from data_structures/../utils/Archive.h:4:
In file included from data_structures/../utils/GapsAssert.h:9:
In file included from /Library/Frameworks/R.framework/Versions/4.0/Resources/library/Rcpp/include/Rcpp.h:57:
/Library/Frameworks/R.framework/Versions/4.0/Resources/library/Rcpp/include/Rcpp/DataFrame.h:136:18: warning: unused variable 'data' [-Wunused-variable]
SEXP data = Parent::get__();
^
1 warning generated.
clang++ -mmacosx-version-min=10.13 -std=gnu++11 -I"/Library/Frameworks/R.framework/Resources/include" -DNDEBUG -DBOOST_MATH_PROMOTE_DOUBLE_POLICY=0 -DGAPS_DISABLE_CHECKPOINTS -D__GAPS_R_BUILD__ -Iinclude -I'/Library/Frameworks/R.framework/Versions/4.0/Resources/library/Rcpp/include' -I/usr/local/include -march=native -fPIC -Wall -g -O2 -c data_structures/HybridVector.cpp -o data_structures/HybridVector.o
In file included from data_structures/HybridVector.cpp:4:
In file included from data_structures/../utils/Archive.h:4:
In file included from data_structures/../utils/GapsAssert.h:9:
In file included from /Library/Frameworks/R.framework/Versions/4.0/Resources/library/Rcpp/include/Rcpp.h:57:
/Library/Frameworks/R.framework/Versions/4.0/Resources/library/Rcpp/include/Rcpp/DataFrame.h:136:18: warning: unused variable 'data' [-Wunused-variable]
SEXP data = Parent::get__();
^
1 warning generated.
clang++ -mmacosx-version-min=10.13 -std=gnu++11 -I"/Library/Frameworks/R.framework/Resources/include" -DNDEBUG -DBOOST_MATH_PROMOTE_DOUBLE_POLICY=0 -DGAPS_DISABLE_CHECKPOINTS -D__GAPS_R_BUILD__ -Iinclude -I'/Library/Frameworks/R.framework/Versions/4.0/Resources/library/Rcpp/include' -I/usr/local/include -march=native -fPIC -Wall -g -O2 -c data_structures/Matrix.cpp -o data_structures/Matrix.o
In file included from data_structures/Matrix.cpp:3:
In file included from data_structures/../file_parser/FileParser.h:5:
In file included from data_structures/../file_parser/../utils/GapsAssert.h:9:
In file included from /Library/Frameworks/R.framework/Versions/4.0/Resources/library/Rcpp/include/Rcpp.h:57:
/Library/Frameworks/R.framework/Versions/4.0/Resources/library/Rcpp/include/Rcpp/DataFrame.h:136:18: warning: unused variable 'data' [-Wunused-variable]
SEXP data = Parent::get__();
^
1 warning generated.
clang++ -mmacosx-version-min=10.13 -std=gnu++11 -I"/Library/Frameworks/R.framework/Resources/include" -DNDEBUG -DBOOST_MATH_PROMOTE_DOUBLE_POLICY=0 -DGAPS_DISABLE_CHECKPOINTS -D__GAPS_R_BUILD__ -Iinclude -I'/Library/Frameworks/R.framework/Versions/4.0/Resources/library/Rcpp/include' -I/usr/local/include -march=native -fPIC -Wall -g -O2 -c data_structures/SparseIterator.cpp -o data_structures/SparseIterator.o
In file included from data_structures/SparseIterator.cpp:2:
In file included from data_structures/../utils/GapsAssert.h:9:
In file included from /Library/Frameworks/R.framework/Versions/4.0/Resources/library/Rcpp/include/Rcpp.h:57:
/Library/Frameworks/R.framework/Versions/4.0/Resources/library/Rcpp/include/Rcpp/DataFrame.h:136:18: warning: unused variable 'data' [-Wunused-variable]
SEXP data = Parent::get__();
^
1 warning generated.
clang++ -mmacosx-version-min=10.13 -std=gnu++11 -I"/Library/Frameworks/R.framework/Resources/include" -DNDEBUG -DBOOST_MATH_PROMOTE_DOUBLE_POLICY=0 -DGAPS_DISABLE_CHECKPOINTS -D__GAPS_R_BUILD__ -Iinclude -I'/Library/Frameworks/R.framework/Versions/4.0/Resources/library/Rcpp/include' -I/usr/local/include -march=native -fPIC -Wall -g -O2 -c data_structures/SparseMatrix.cpp -o data_structures/SparseMatrix.o
In file included from data_structures/SparseMatrix.cpp:3:
In file included from data_structures/../file_parser/FileParser.h:5:
In file included from data_structures/../file_parser/../utils/GapsAssert.h:9:
In file included from /Library/Frameworks/R.framework/Versions/4.0/Resources/library/Rcpp/include/Rcpp.h:57:
/Library/Frameworks/R.framework/Versions/4.0/Resources/library/Rcpp/include/Rcpp/DataFrame.h:136:18: warning: unused variable 'data' [-Wunused-variable]
SEXP data = Parent::get__();
^
1 warning generated.
clang++ -mmacosx-version-min=10.13 -std=gnu++11 -I"/Library/Frameworks/R.framework/Resources/include" -DNDEBUG -DBOOST_MATH_PROMOTE_DOUBLE_POLICY=0 -DGAPS_DISABLE_CHECKPOINTS -D__GAPS_R_BUILD__ -Iinclude -I'/Library/Frameworks/R.framework/Versions/4.0/Resources/library/Rcpp/include' -I/usr/local/include -march=native -fPIC -Wall -g -O2 -c data_structures/SparseVector.cpp -o data_structures/SparseVector.o
In file included from data_structures/SparseVector.cpp:3:
In file included from data_structures/../utils/Archive.h:4:
In file included from data_structures/../utils/GapsAssert.h:9:
In file included from /Library/Frameworks/R.framework/Versions/4.0/Resources/library/Rcpp/include/Rcpp.h:57:
/Library/Frameworks/R.framework/Versions/4.0/Resources/library/Rcpp/include/Rcpp/DataFrame.h:136:18: warning: unused variable 'data' [-Wunused-variable]
SEXP data = Parent::get__();
^
1 warning generated.
clang++ -mmacosx-version-min=10.13 -std=gnu++11 -I"/Library/Frameworks/R.framework/Resources/include" -DNDEBUG -DBOOST_MATH_PROMOTE_DOUBLE_POLICY=0 -DGAPS_DISABLE_CHECKPOINTS -D__GAPS_R_BUILD__ -Iinclude -I'/Library/Frameworks/R.framework/Versions/4.0/Resources/library/Rcpp/include' -I/usr/local/include -march=native -fPIC -Wall -g -O2 -c data_structures/Vector.cpp -o data_structures/Vector.o
In file included from data_structures/Vector.cpp:3:
In file included from data_structures/../utils/Archive.h:4:
In file included from data_structures/../utils/GapsAssert.h:9:
In file included from /Library/Frameworks/R.framework/Versions/4.0/Resources/library/Rcpp/include/Rcpp.h:57:
/Library/Frameworks/R.framework/Versions/4.0/Resources/library/Rcpp/include/Rcpp/DataFrame.h:136:18: warning: unused variable 'data' [-Wunused-variable]
SEXP data = Parent::get__();
^
1 warning generated.
clang++ -mmacosx-version-min=10.13 -std=gnu++11 -I"/Library/Frameworks/R.framework/Resources/include" -DNDEBUG -DBOOST_MATH_PROMOTE_DOUBLE_POLICY=0 -DGAPS_DISABLE_CHECKPOINTS -D__GAPS_R_BUILD__ -Iinclude -I'/Library/Frameworks/R.framework/Versions/4.0/Resources/library/Rcpp/include' -I/usr/local/include -march=native -fPIC -Wall -g -O2 -c file_parser/CharacterDelimitedParser.cpp -o file_parser/CharacterDelimitedParser.o
In file included from file_parser/CharacterDelimitedParser.cpp:1:
In file included from file_parser/CharacterDelimitedParser.h:4:
In file included from file_parser/FileParser.h:5:
In file included from file_parser/../utils/GapsAssert.h:9:
In file included from /Library/Frameworks/R.framework/Versions/4.0/Resources/library/Rcpp/include/Rcpp.h:57:
/Library/Frameworks/R.framework/Versions/4.0/Resources/library/Rcpp/include/Rcpp/DataFrame.h:136:18: warning: unused variable 'data' [-Wunused-variable]
SEXP data = Parent::get__();
^
1 warning generated.
clang++ -mmacosx-version-min=10.13 -std=gnu++11 -I"/Library/Frameworks/R.framework/Resources/include" -DNDEBUG -DBOOST_MATH_PROMOTE_DOUBLE_POLICY=0 -DGAPS_DISABLE_CHECKPOINTS -D__GAPS_R_BUILD__ -Iinclude -I'/Library/Frameworks/R.framework/Versions/4.0/Resources/library/Rcpp/include' -I/usr/local/include -march=native -fPIC -Wall -g -O2 -c file_parser/FileParser.cpp -o file_parser/FileParser.o
In file included from file_parser/FileParser.cpp:1:
In file included from file_parser/../utils/GapsAssert.h:9:
In file included from /Library/Frameworks/R.framework/Versions/4.0/Resources/library/Rcpp/include/Rcpp.h:57:
/Library/Frameworks/R.framework/Versions/4.0/Resources/library/Rcpp/include/Rcpp/DataFrame.h:136:18: warning: unused variable 'data' [-Wunused-variable]
SEXP data = Parent::get__();
^
1 warning generated.
clang++ -mmacosx-version-min=10.13 -std=gnu++11 -I"/Library/Frameworks/R.framework/Resources/include" -DNDEBUG -DBOOST_MATH_PROMOTE_DOUBLE_POLICY=0 -DGAPS_DISABLE_CHECKPOINTS -D__GAPS_R_BUILD__ -Iinclude -I'/Library/Frameworks/R.framework/Versions/4.0/Resources/library/Rcpp/include' -I/usr/local/include -march=native -fPIC -Wall -g -O2 -c file_parser/MatrixElement.cpp -o file_parser/MatrixElement.o
In file included from file_parser/MatrixElement.cpp:3:
In file included from file_parser/../utils/GapsAssert.h:9:
In file included from /Library/Frameworks/R.framework/Versions/4.0/Resources/library/Rcpp/include/Rcpp.h:57:
/Library/Frameworks/R.framework/Versions/4.0/Resources/library/Rcpp/include/Rcpp/DataFrame.h:136:18: warning: unused variable 'data' [-Wunused-variable]
SEXP data = Parent::get__();
^
1 warning generated.
clang++ -mmacosx-version-min=10.13 -std=gnu++11 -I"/Library/Frameworks/R.framework/Resources/include" -DNDEBUG -DBOOST_MATH_PROMOTE_DOUBLE_POLICY=0 -DGAPS_DISABLE_CHECKPOINTS -D__GAPS_R_BUILD__ -Iinclude -I'/Library/Frameworks/R.framework/Versions/4.0/Resources/library/Rcpp/include' -I/usr/local/include -march=native -fPIC -Wall -g -O2 -c file_parser/MtxParser.cpp -o file_parser/MtxParser.o
In file included from file_parser/MtxParser.cpp:2:
In file included from file_parser/MtxParser.h:4:
In file included from file_parser/FileParser.h:5:
In file included from file_parser/../utils/GapsAssert.h:9:
In file included from /Library/Frameworks/R.framework/Versions/4.0/Resources/library/Rcpp/include/Rcpp.h:57:
/Library/Frameworks/R.framework/Versions/4.0/Resources/library/Rcpp/include/Rcpp/DataFrame.h:136:18: warning: unused variable 'data' [-Wunused-variable]
SEXP data = Parent::get__();
^
1 warning generated.
clang++ -mmacosx-version-min=10.13 -std=gnu++11 -I"/Library/Frameworks/R.framework/Resources/include" -DNDEBUG -DBOOST_MATH_PROMOTE_DOUBLE_POLICY=0 -DGAPS_DISABLE_CHECKPOINTS -D__GAPS_R_BUILD__ -Iinclude -I'/Library/Frameworks/R.framework/Versions/4.0/Resources/library/Rcpp/include' -I/usr/local/include -march=native -fPIC -Wall -g -O2 -c gibbs_sampler/AlphaParameters.cpp -o gibbs_sampler/AlphaParameters.o
clang++ -mmacosx-version-min=10.13 -std=gnu++11 -I"/Library/Frameworks/R.framework/Resources/include" -DNDEBUG -DBOOST_MATH_PROMOTE_DOUBLE_POLICY=0 -DGAPS_DISABLE_CHECKPOINTS -D__GAPS_R_BUILD__ -Iinclude -I'/Library/Frameworks/R.framework/Versions/4.0/Resources/library/Rcpp/include' -I/usr/local/include -march=native -fPIC -Wall -g -O2 -c gibbs_sampler/DenseNormalModel.cpp -o gibbs_sampler/DenseNormalModel.o
In file included from gibbs_sampler/DenseNormalModel.cpp:1:
In file included from gibbs_sampler/DenseNormalModel.h:7:
In file included from gibbs_sampler/../math/MatrixMath.h:6:
In file included from gibbs_sampler/../math/VectorMath.h:7:
In file included from gibbs_sampler/../math/../utils/GapsAssert.h:9:
In file included from /Library/Frameworks/R.framework/Versions/4.0/Resources/library/Rcpp/include/Rcpp.h:57:
/Library/Frameworks/R.framework/Versions/4.0/Resources/library/Rcpp/include/Rcpp/DataFrame.h:136:18: warning: unused variable 'data' [-Wunused-variable]
SEXP data = Parent::get__();
^
1 warning generated.
clang++ -mmacosx-version-min=10.13 -std=gnu++11 -I"/Library/Frameworks/R.framework/Resources/include" -DNDEBUG -DBOOST_MATH_PROMOTE_DOUBLE_POLICY=0 -DGAPS_DISABLE_CHECKPOINTS -D__GAPS_R_BUILD__ -Iinclude -I'/Library/Frameworks/R.framework/Versions/4.0/Resources/library/Rcpp/include' -I/usr/local/include -march=native -fPIC -Wall -g -O2 -c gibbs_sampler/SparseNormalModel.cpp -o gibbs_sampler/SparseNormalModel.o
In file included from gibbs_sampler/SparseNormalModel.cpp:1:
In file included from gibbs_sampler/SparseNormalModel.h:8:
In file included from gibbs_sampler/../math/MatrixMath.h:6:
In file included from gibbs_sampler/../math/VectorMath.h:7:
In file included from gibbs_sampler/../math/../utils/GapsAssert.h:9:
In file included from /Library/Frameworks/R.framework/Versions/4.0/Resources/library/Rcpp/include/Rcpp.h:57:
/Library/Frameworks/R.framework/Versions/4.0/Resources/library/Rcpp/include/Rcpp/DataFrame.h:136:18: warning: unused variable 'data' [-Wunused-variable]
SEXP data = Parent::get__();
^
1 warning generated.
clang++ -mmacosx-version-min=10.13 -std=gnu++11 -I"/Library/Frameworks/R.framework/Resources/include" -DNDEBUG -DBOOST_MATH_PROMOTE_DOUBLE_POLICY=0 -DGAPS_DISABLE_CHECKPOINTS -D__GAPS_R_BUILD__ -Iinclude -I'/Library/Frameworks/R.framework/Versions/4.0/Resources/library/Rcpp/include' -I/usr/local/include -march=native -fPIC -Wall -g -O2 -c math/Math.cpp -o math/Math.o
In file included from math/Math.cpp:2:
In file included from math/../utils/GapsAssert.h:9:
In file included from /Library/Frameworks/R.framework/Versions/4.0/Resources/library/Rcpp/include/Rcpp.h:57:
/Library/Frameworks/R.framework/Versions/4.0/Resources/library/Rcpp/include/Rcpp/DataFrame.h:136:18: warning: unused variable 'data' [-Wunused-variable]
SEXP data = Parent::get__();
^
1 warning generated.
clang++ -mmacosx-version-min=10.13 -std=gnu++11 -I"/Library/Frameworks/R.framework/Resources/include" -DNDEBUG -DBOOST_MATH_PROMOTE_DOUBLE_POLICY=0 -DGAPS_DISABLE_CHECKPOINTS -D__GAPS_R_BUILD__ -Iinclude -I'/Library/Frameworks/R.framework/Versions/4.0/Resources/library/Rcpp/include' -I/usr/local/include -march=native -fPIC -Wall -g -O2 -c math/MatrixMath.cpp -o math/MatrixMath.o
In file included from math/MatrixMath.cpp:1:
In file included from math/VectorMath.h:7:
In file included from math/../utils/GapsAssert.h:9:
In file included from /Library/Frameworks/R.framework/Versions/4.0/Resources/library/Rcpp/include/Rcpp.h:57:
/Library/Frameworks/R.framework/Versions/4.0/Resources/library/Rcpp/include/Rcpp/DataFrame.h:136:18: warning: unused variable 'data' [-Wunused-variable]
SEXP data = Parent::get__();
^
1 warning generated.
clang++ -mmacosx-version-min=10.13 -std=gnu++11 -I"/Library/Frameworks/R.framework/Resources/include" -DNDEBUG -DBOOST_MATH_PROMOTE_DOUBLE_POLICY=0 -DGAPS_DISABLE_CHECKPOINTS -D__GAPS_R_BUILD__ -Iinclude -I'/Library/Frameworks/R.framework/Versions/4.0/Resources/library/Rcpp/include' -I/usr/local/include -march=native -fPIC -Wall -g -O2 -c math/Random.cpp -o math/Random.o
In file included from math/Random.cpp:3:
In file included from math/../utils/Archive.h:4:
In file included from math/../utils/GapsAssert.h:9:
In file included from /Library/Frameworks/R.framework/Versions/4.0/Resources/library/Rcpp/include/Rcpp.h:57:
/Library/Frameworks/R.framework/Versions/4.0/Resources/library/Rcpp/include/Rcpp/DataFrame.h:136:18: warning: unused variable 'data' [-Wunused-variable]
SEXP data = Parent::get__();
^
1 warning generated.
clang++ -mmacosx-version-min=10.13 -std=gnu++11 -I"/Library/Frameworks/R.framework/Resources/include" -DNDEBUG -DBOOST_MATH_PROMOTE_DOUBLE_POLICY=0 -DGAPS_DISABLE_CHECKPOINTS -D__GAPS_R_BUILD__ -Iinclude -I'/Library/Frameworks/R.framework/Versions/4.0/Resources/library/Rcpp/include' -I/usr/local/include -march=native -fPIC -Wall -g -O2 -c math/VectorMath.cpp -o math/VectorMath.o
In file included from math/VectorMath.cpp:2:
In file included from math/VectorMath.h:7:
In file included from math/../utils/GapsAssert.h:9:
In file included from /Library/Frameworks/R.framework/Versions/4.0/Resources/library/Rcpp/include/Rcpp.h:57:
/Library/Frameworks/R.framework/Versions/4.0/Resources/library/Rcpp/include/Rcpp/DataFrame.h:136:18: warning: unused variable 'data' [-Wunused-variable]
SEXP data = Parent::get__();
^
1 warning generated.
clang++ -mmacosx-version-min=10.13 -std=gnu++11 -dynamiclib -Wl,-headerpad_max_install_names -undefined dynamic_lookup -single_module -multiply_defined suppress -L/Library/Frameworks/R.framework/Resources/lib -L/usr/local/lib -o CoGAPS.so Cogaps.o GapsParameters.o GapsResult.o GapsRunner.o GapsStatistics.o RcppExports.o test-runner.o atomic/Atom.o atomic/ConcurrentAtom.o atomic/AtomicDomain.o atomic/ConcurrentAtomicDomain.o atomic/ProposalQueue.o data_structures/HashSets.o data_structures/HybridMatrix.o data_structures/HybridVector.o data_structures/Matrix.o data_structures/SparseIterator.o data_structures/SparseMatrix.o data_structures/SparseVector.o data_structures/Vector.o file_parser/CharacterDelimitedParser.o file_parser/FileParser.o file_parser/MatrixElement.o file_parser/MtxParser.o gibbs_sampler/AlphaParameters.o gibbs_sampler/DenseNormalModel.o gibbs_sampler/SparseNormalModel.o math/Math.o math/MatrixMath.o math/Random.o math/VectorMath.o -F/Library/Frameworks/R.framework/.. -framework R -Wl,-framework -Wl,CoreFoundation
installing to /Users/biocbuild/bbs-3.12-bioc/meat/CoGAPS.buildbin-libdir/00LOCK-CoGAPS/00new/CoGAPS/libs
** R
** data
** inst
** byte-compile and prepare package for lazy loading
** help
*** installing help indices
** building package indices
** installing vignettes
** testing if installed package can be loaded from temporary location
** checking absolute paths in shared objects and dynamic libraries
** testing if installed package can be loaded from final location
** testing if installed package keeps a record of temporary installation path
* DONE (CoGAPS)
>>>>>>>
>>>>>>> FIXING LINKS FOR CoGAPS.buildbin-libdir/CoGAPS/libs/CoGAPS.so
>>>>>>>
install_name_tool -change "/usr/local/lib/libgcc_s.1.dylib" "/Library/Frameworks/R.framework/Versions/4.0/Resources/lib/libgcc_s.1.dylib" "CoGAPS.buildbin-libdir/CoGAPS/libs/CoGAPS.so"
install_name_tool -change "/usr/local/lib/libgfortran.5.dylib" "/Library/Frameworks/R.framework/Versions/4.0/Resources/lib/libgfortran.5.dylib" "CoGAPS.buildbin-libdir/CoGAPS/libs/CoGAPS.so"
install_name_tool -change "/usr/local/lib/libquadmath.0.dylib" "/Library/Frameworks/R.framework/Versions/4.0/Resources/lib/libquadmath.0.dylib" "CoGAPS.buildbin-libdir/CoGAPS/libs/CoGAPS.so"