| Back to Multiple platform build/check report for BioC 3.12 |
|
This page was generated on 2021-05-06 12:30:16 -0400 (Thu, 06 May 2021).
|
To the developers/maintainers of the Clomial package: Please make sure to use the following settings in order to reproduce any error or warning you see on this page. |
| Package 314/1974 | Hostname | OS / Arch | INSTALL | BUILD | CHECK | BUILD BIN | ||||||||
| Clomial 1.26.0 (landing page) Habil Zare
| malbec1 | Linux (Ubuntu 18.04.5 LTS) / x86_64 | OK | OK | OK | |||||||||
| tokay1 | Windows Server 2012 R2 Standard / x64 | OK | OK | OK | OK | |||||||||
| merida1 | macOS 10.14.6 Mojave / x86_64 | OK | OK | OK | OK | |||||||||
| Package: Clomial |
| Version: 1.26.0 |
| Command: C:\Users\biocbuild\bbs-3.12-bioc\R\bin\R.exe CMD check --force-multiarch --install=check:Clomial.install-out.txt --library=C:\Users\biocbuild\bbs-3.12-bioc\R\library --no-vignettes --timings Clomial_1.26.0.tar.gz |
| StartedAt: 2021-05-06 01:30:18 -0400 (Thu, 06 May 2021) |
| EndedAt: 2021-05-06 01:36:22 -0400 (Thu, 06 May 2021) |
| EllapsedTime: 363.5 seconds |
| RetCode: 0 |
| Status: OK |
| CheckDir: Clomial.Rcheck |
| Warnings: 0 |
##############################################################################
##############################################################################
###
### Running command:
###
### C:\Users\biocbuild\bbs-3.12-bioc\R\bin\R.exe CMD check --force-multiarch --install=check:Clomial.install-out.txt --library=C:\Users\biocbuild\bbs-3.12-bioc\R\library --no-vignettes --timings Clomial_1.26.0.tar.gz
###
##############################################################################
##############################################################################
* using log directory 'C:/Users/biocbuild/bbs-3.12-bioc/meat/Clomial.Rcheck'
* using R version 4.0.5 (2021-03-31)
* using platform: x86_64-w64-mingw32 (64-bit)
* using session charset: ISO8859-1
* using option '--no-vignettes'
* checking for file 'Clomial/DESCRIPTION' ... OK
* checking extension type ... Package
* this is package 'Clomial' version '1.26.0'
* checking package namespace information ... OK
* checking package dependencies ... OK
* checking if this is a source package ... OK
* checking if there is a namespace ... OK
* checking for hidden files and directories ... OK
* checking for portable file names ... OK
* checking whether package 'Clomial' can be installed ... OK
* checking installed package size ... OK
* checking package directory ... OK
* checking 'build' directory ... OK
* checking DESCRIPTION meta-information ... OK
* checking top-level files ... OK
* checking for left-over files ... OK
* checking index information ... OK
* checking package subdirectories ... OK
* checking R files for non-ASCII characters ... OK
* checking R files for syntax errors ... OK
* loading checks for arch 'i386'
** checking whether the package can be loaded ... OK
** checking whether the package can be loaded with stated dependencies ... OK
** checking whether the package can be unloaded cleanly ... OK
** checking whether the namespace can be loaded with stated dependencies ... OK
** checking whether the namespace can be unloaded cleanly ... OK
* loading checks for arch 'x64'
** checking whether the package can be loaded ... OK
** checking whether the package can be loaded with stated dependencies ... OK
** checking whether the package can be unloaded cleanly ... OK
** checking whether the namespace can be loaded with stated dependencies ... OK
** checking whether the namespace can be unloaded cleanly ... OK
* checking dependencies in R code ... OK
* checking S3 generic/method consistency ... OK
* checking replacement functions ... OK
* checking foreign function calls ... OK
* checking R code for possible problems ... NOTE
Clomial: no visible global function definition for 'runif'
Clomial.generate.data: no visible global function definition for
'runif'
Clomial.generate.data: no visible global function definition for
'rbinom'
Clomial.likelihood: no visible global function definition for 'dbinom'
Phi: no visible global function definition for 'dbinom'
choose.best: no visible global function definition for 'tail'
compute.P.reparam : update.Wj: no visible global function definition
for 'optim'
compute.q: no visible global function definition for 'dbinom'
Undefined global functions or variables:
dbinom optim rbinom runif tail
Consider adding
importFrom("stats", "dbinom", "optim", "rbinom", "runif")
importFrom("utils", "tail")
to your NAMESPACE file.
* checking Rd files ... OK
* checking Rd metadata ... OK
* checking Rd cross-references ... OK
* checking for missing documentation entries ... OK
* checking for code/documentation mismatches ... OK
* checking Rd \usage sections ... OK
* checking Rd contents ... OK
* checking for unstated dependencies in examples ... OK
* checking contents of 'data' directory ... OK
* checking data for non-ASCII characters ... OK
* checking data for ASCII and uncompressed saves ... OK
* checking files in 'vignettes' ... OK
* checking examples ...
** running examples for arch 'i386' ... OK
Examples with CPU (user + system) or elapsed time > 5s
user system elapsed
choose.best 53.88 1.85 55.72
Clomial-package 24.50 0.95 25.46
Clomial 22.89 0.64 23.53
compute.bic 11.34 0.48 11.83
Clomial.likelihood 9.50 0.36 9.86
Clomial.iterate 9.30 0.33 9.62
compute.errors 5.18 0.16 5.32
** running examples for arch 'x64' ... OK
Examples with CPU (user + system) or elapsed time > 5s
user system elapsed
choose.best 69.14 1.80 70.94
Clomial 27.23 0.77 28.00
Clomial-package 23.80 0.73 24.53
Clomial.likelihood 14.05 0.46 14.50
compute.bic 13.57 0.47 14.03
Clomial.iterate 11.50 0.40 11.91
compute.errors 6.45 0.23 6.69
* checking for unstated dependencies in vignettes ... OK
* checking package vignettes in 'inst/doc' ... OK
* checking running R code from vignettes ... SKIPPED
* checking re-building of vignette outputs ... SKIPPED
* checking PDF version of manual ... OK
* DONE
Status: 1 NOTE
See
'C:/Users/biocbuild/bbs-3.12-bioc/meat/Clomial.Rcheck/00check.log'
for details.
Clomial.Rcheck/00install.out
##############################################################################
##############################################################################
###
### Running command:
###
### C:\cygwin\bin\curl.exe -O http://172.29.0.3/BBS/3.12/bioc/src/contrib/Clomial_1.26.0.tar.gz && rm -rf Clomial.buildbin-libdir && mkdir Clomial.buildbin-libdir && C:\Users\biocbuild\bbs-3.12-bioc\R\bin\R.exe CMD INSTALL --merge-multiarch --build --library=Clomial.buildbin-libdir Clomial_1.26.0.tar.gz && C:\Users\biocbuild\bbs-3.12-bioc\R\bin\R.exe CMD INSTALL Clomial_1.26.0.zip && rm Clomial_1.26.0.tar.gz Clomial_1.26.0.zip
###
##############################################################################
##############################################################################
% Total % Received % Xferd Average Speed Time Time Time Current
Dload Upload Total Spent Left Speed
0 0 0 0 0 0 0 0 --:--:-- --:--:-- --:--:-- 0
100 1290k 100 1290k 0 0 42.8M 0 --:--:-- --:--:-- --:--:-- 44.9M
install for i386
* installing *source* package 'Clomial' ...
** using staged installation
** R
** data
** inst
** byte-compile and prepare package for lazy loading
** help
*** installing help indices
converting help for package 'Clomial'
finding HTML links ... done
Clomial-package html
Clomial html
Clomial.generate.data html
Clomial.iterate html
Clomial.likelihood html
Clomial1000 html
breastCancer html
choose.best html
compute.bic html
compute.errors html
** building package indices
** installing vignettes
** testing if installed package can be loaded from temporary location
** testing if installed package can be loaded from final location
** testing if installed package keeps a record of temporary installation path
install for x64
* installing *source* package 'Clomial' ...
** testing if installed package can be loaded
* MD5 sums
packaged installation of 'Clomial' as Clomial_1.26.0.zip
* DONE (Clomial)
* installing to library 'C:/Users/biocbuild/bbs-3.12-bioc/R/library'
package 'Clomial' successfully unpacked and MD5 sums checked
|
Clomial.Rcheck/examples_i386/Clomial-Ex.timings
|
Clomial.Rcheck/examples_x64/Clomial-Ex.timings
|