| Back to Multiple platform build/check report for BioC 3.12 |
|
This page was generated on 2021-05-06 12:30:16 -0400 (Thu, 06 May 2021).
|
To the developers/maintainers of the ClassifyR package: Please make sure to use the following settings in order to reproduce any error or warning you see on this page. |
| Package 308/1974 | Hostname | OS / Arch | INSTALL | BUILD | CHECK | BUILD BIN | ||||||||
| ClassifyR 2.10.0 (landing page) Dario Strbenac
| malbec1 | Linux (Ubuntu 18.04.5 LTS) / x86_64 | OK | OK | OK | |||||||||
| tokay1 | Windows Server 2012 R2 Standard / x64 | OK | OK | WARNINGS | OK | |||||||||
| merida1 | macOS 10.14.6 Mojave / x86_64 | OK | OK | OK | OK | |||||||||
| Package: ClassifyR |
| Version: 2.10.0 |
| Command: rm -rf ClassifyR.buildbin-libdir && mkdir ClassifyR.buildbin-libdir && C:\Users\biocbuild\bbs-3.12-bioc\R\bin\R.exe CMD INSTALL --merge-multiarch --build --library=ClassifyR.buildbin-libdir ClassifyR_2.10.0.tar.gz |
| StartedAt: 2021-05-06 08:43:21 -0400 (Thu, 06 May 2021) |
| EndedAt: 2021-05-06 08:44:12 -0400 (Thu, 06 May 2021) |
| EllapsedTime: 51.9 seconds |
| RetCode: 0 |
| Status: OK |
| PackageFile: ClassifyR_2.10.0.zip |
| PackageFileSize: 2.088 MiB |
##############################################################################
##############################################################################
###
### Running command:
###
### rm -rf ClassifyR.buildbin-libdir && mkdir ClassifyR.buildbin-libdir && C:\Users\biocbuild\bbs-3.12-bioc\R\bin\R.exe CMD INSTALL --merge-multiarch --build --library=ClassifyR.buildbin-libdir ClassifyR_2.10.0.tar.gz
###
##############################################################################
##############################################################################
install for i386
* installing *source* package 'ClassifyR' ...
** using staged installation
** R
** data
** inst
** byte-compile and prepare package for lazy loading
** help
*** installing help indices
converting help for package 'ClassifyR'
finding HTML links ... done
ClassifyResult-class html
finding level-2 HTML links ... done
DLDAinterface html
DMDselection html
EasyHardClassifier-class html
FeatureSetCollection-class html
FeatureSetCollectionOrNULL-class html
KolmogorovSmirnovSelection html
KullbackLeiblerSelection html
MixModelsListsSet-class html
NSCpredictInterface html
NSCselectionInterface html
NSCtrainInterface html
PredictParams-class html
ROCplot html
ResubstituteParams-class html
SVMinterface html
SelectParams-class html
SelectResult-class html
TrainParams-class html
TransformParams-class html
asthmaDataset html
bartlettSelection html
calcPerformance html
characterOrDataFrame-class html
classifyInterface html
differentMeansSelection html
Rd warning: C:/Users/biocbuild/bbs-3.12-bioc/tmpdir/RtmpwxEgaj/R.INSTALL44504f481cc4/ClassifyR/man/differentMeansSelection.Rd:40: file link 'rowttests' in package 'genefilter' does not exist and so has been treated as a topic
distribution html
Rd warning: C:/Users/biocbuild/bbs-3.12-bioc/tmpdir/RtmpwxEgaj/R.INSTALL44504f481cc4/ClassifyR/man/distribution.Rd:32: file link 'stat_density' in package 'ggplot2' does not exist and so has been treated as a topic
dlda-class html
easyHardClassifier html
easyHardFeatures html
edgeRselection html
Rd warning: C:/Users/biocbuild/bbs-3.12-bioc/tmpdir/RtmpwxEgaj/R.INSTALL44504f481cc4/ClassifyR/man/edgeRselection.Rd:45: file link 'edgeR' in package 'edgeR' does not exist and so has been treated as a topic
edgesToHubNetworks html
elasticNetFeatures html
elasticNetGLMinterface html
featureSetSummary html
fisherDiscriminant html
forestFeatures html
functionOrList-class html
functionOrNULL-class html
getLocationsAndScales html
integerOrNumeric-class html
interactorDifferences html
kTSPclassifier html
knnInterface html
leveneSelection html
likelihoodRatioSelection html
limmaSelection html
listOrCharacterOrNULL-class html
listOrNULL-class html
mixmodels html
multnet-class html
naiveBayesKernel html
networkCorrelationsSelection html
pairsDifferencesSelection html
pamrtrained-class html
performancePlot html
plotFeatureClasses html
previousSelection html
previousTrained html
randomForest-class html
randomForestInterface html
rankingPlot html
runTest html
runTests html
samplesMetricMap html
selectionPlot html
subtractFromLocation html
svm-class html
** building package indices
** installing vignettes
** testing if installed package can be loaded from temporary location
** testing if installed package can be loaded from final location
** testing if installed package keeps a record of temporary installation path
install for x64
* installing *source* package 'ClassifyR' ...
** testing if installed package can be loaded
* MD5 sums
packaged installation of 'ClassifyR' as ClassifyR_2.10.0.zip
* DONE (ClassifyR)