| Back to Multiple platform build/check report for BioC 3.12 |
|
This page was generated on 2021-05-06 12:30:11 -0400 (Thu, 06 May 2021).
|
To the developers/maintainers of the ChemmineOB package: Please make sure to use the following settings in order to reproduce any error or warning you see on this page. |
| Package 275/1974 | Hostname | OS / Arch | INSTALL | BUILD | CHECK | BUILD BIN | ||||||||
| ChemmineOB 1.28.4 (landing page) Thomas Girke
| malbec1 | Linux (Ubuntu 18.04.5 LTS) / x86_64 | OK | OK | WARNINGS | |||||||||
| tokay1 | Windows Server 2012 R2 Standard / x64 | OK | OK | WARNINGS | OK | |||||||||
| merida1 | macOS 10.14.6 Mojave / x86_64 | OK | OK | WARNINGS | OK | |||||||||
| Package: ChemmineOB |
| Version: 1.28.4 |
| Command: chmod a+r ChemmineOB -R && C:\Users\biocbuild\bbs-3.12-bioc\R\bin\R.exe CMD build --keep-empty-dirs --no-resave-data ChemmineOB |
| StartedAt: 2021-05-05 20:08:43 -0400 (Wed, 05 May 2021) |
| EndedAt: 2021-05-05 20:10:42 -0400 (Wed, 05 May 2021) |
| EllapsedTime: 119.2 seconds |
| RetCode: 0 |
| Status: OK |
| PackageFile: ChemmineOB_1.28.4.tar.gz |
| PackageFileSize: 1.234 MiB |
############################################################################## ############################################################################## ### ### Running command: ### ### chmod a+r ChemmineOB -R && C:\Users\biocbuild\bbs-3.12-bioc\R\bin\R.exe CMD build --keep-empty-dirs --no-resave-data ChemmineOB ### ############################################################################## ############################################################################## * checking for file 'ChemmineOB/DESCRIPTION' ... OK * preparing 'ChemmineOB': * checking DESCRIPTION meta-information ... OK * cleaning src * installing the package to build vignettes * creating vignettes ... OK * cleaning src * checking for LF line-endings in source and make files and shell scripts * checking for empty or unneeded directories * building 'ChemmineOB_1.28.4.tar.gz' Warning: file 'ChemmineOB/cleanup' did not have execute permissions: corrected Warning: file 'ChemmineOB/configure' did not have execute permissions: corrected