| Back to Multiple platform build/check report for BioC 3.12 |
|
This page was generated on 2021-05-06 12:30:13 -0400 (Thu, 06 May 2021).
|
To the developers/maintainers of the ChIPseeker package: Please make sure to use the following settings in order to reproduce any error or warning you see on this page. |
| Package 288/1974 | Hostname | OS / Arch | INSTALL | BUILD | CHECK | BUILD BIN | ||||||||
| ChIPseeker 1.26.2 (landing page) Guangchuang Yu
| malbec1 | Linux (Ubuntu 18.04.5 LTS) / x86_64 | OK | OK | OK | |||||||||
| tokay1 | Windows Server 2012 R2 Standard / x64 | OK | OK | WARNINGS | OK | |||||||||
| merida1 | macOS 10.14.6 Mojave / x86_64 | OK | OK | OK | OK | |||||||||
| Package: ChIPseeker |
| Version: 1.26.2 |
| Command: rm -rf ChIPseeker.buildbin-libdir && mkdir ChIPseeker.buildbin-libdir && C:\Users\biocbuild\bbs-3.12-bioc\R\bin\R.exe CMD INSTALL --merge-multiarch --build --library=ChIPseeker.buildbin-libdir ChIPseeker_1.26.2.tar.gz |
| StartedAt: 2021-05-06 08:41:36 -0400 (Thu, 06 May 2021) |
| EndedAt: 2021-05-06 08:43:00 -0400 (Thu, 06 May 2021) |
| EllapsedTime: 83.9 seconds |
| RetCode: 0 |
| Status: OK |
| PackageFile: ChIPseeker_1.26.2.zip |
| PackageFileSize: 4.469 MiB |
##############################################################################
##############################################################################
###
### Running command:
###
### rm -rf ChIPseeker.buildbin-libdir && mkdir ChIPseeker.buildbin-libdir && C:\Users\biocbuild\bbs-3.12-bioc\R\bin\R.exe CMD INSTALL --merge-multiarch --build --library=ChIPseeker.buildbin-libdir ChIPseeker_1.26.2.tar.gz
###
##############################################################################
##############################################################################
install for i386
* installing *source* package 'ChIPseeker' ...
** using staged installation
** R
** data
** inst
** byte-compile and prepare package for lazy loading
** help
*** installing help indices
converting help for package 'ChIPseeker'
finding HTML links ... done
ChIPseeker-package html
annotatePeak html
as.GRanges html
as.data.frame.csAnno html
covplot html
csAnno-class html
dotFun html
downloadGEObedFiles html
downloadGSMbedFiles html
dropAnno html
enrichAnnoOverlap html
enrichPeakOverlap html
Rd warning: C:/Users/biocbuild/bbs-3.12-bioc/tmpdir/RtmpwXbajI/R.INSTALL2f0826e13491/ChIPseeker/man/enrichPeakOverlap.Rd:34: file link 'mclapply' in package 'parallel' does not exist and so has been treated as a topic
getBioRegion html
getGEOInfo html
getGEOgenomeVersion html
getGEOspecies html
getGeneAnno html
getGenomicAnnotation html
getNearestFeatureIndicesAndDistances html
getPromoters html
getSampleFiles html
getTagMatrix html
info html
overlap html
peakHeatmap html
plotAnnoBar-methods html
plotAnnoBar.data.frame html
plotAnnoPie-methods html
plotAnnoPie.csAnno html
plotAvgProf html
plotAvgProf2 html
plotDistToTSS-methods html
plotDistToTSS.data.frame html
readPeakFile html
reexports html
seq2gene html
show-methods html
shuffle html
tagHeatmap html
upsetplot-methods html
vennpie-methods html
vennplot html
vennplot.peakfile html
** building package indices
** installing vignettes
** testing if installed package can be loaded from temporary location
** testing if installed package can be loaded from final location
** testing if installed package keeps a record of temporary installation path
install for x64
* installing *source* package 'ChIPseeker' ...
** testing if installed package can be loaded
* MD5 sums
packaged installation of 'ChIPseeker' as ChIPseeker_1.26.2.zip
* DONE (ChIPseeker)