| Back to Multiple platform build/check report for BioC 3.12 |
|
This page was generated on 2021-05-06 12:30:14 -0400 (Thu, 06 May 2021).
|
To the developers/maintainers of the ChIPSeqSpike package: Please make sure to use the following settings in order to reproduce any error or warning you see on this page. |
| Package 291/1974 | Hostname | OS / Arch | INSTALL | BUILD | CHECK | BUILD BIN | ||||||||
| ChIPSeqSpike 1.10.0 (landing page) Nicolas Descostes
| malbec1 | Linux (Ubuntu 18.04.5 LTS) / x86_64 | OK | ERROR | skipped | |||||||||
| tokay1 | Windows Server 2012 R2 Standard / x64 | OK | OK | OK | OK | |||||||||
| merida1 | macOS 10.14.6 Mojave / x86_64 | OK | ERROR | skipped | skipped | |||||||||
| Package: ChIPSeqSpike |
| Version: 1.10.0 |
| Command: rm -rf ChIPSeqSpike.buildbin-libdir && mkdir ChIPSeqSpike.buildbin-libdir && C:\Users\biocbuild\bbs-3.12-bioc\R\bin\R.exe CMD INSTALL --merge-multiarch --build --library=ChIPSeqSpike.buildbin-libdir ChIPSeqSpike_1.10.0.tar.gz |
| StartedAt: 2021-05-06 08:41:52 -0400 (Thu, 06 May 2021) |
| EndedAt: 2021-05-06 08:43:12 -0400 (Thu, 06 May 2021) |
| EllapsedTime: 79.9 seconds |
| RetCode: 0 |
| Status: OK |
| PackageFile: ChIPSeqSpike_1.10.0.zip |
| PackageFileSize: 3.917 MiB |
##############################################################################
##############################################################################
###
### Running command:
###
### rm -rf ChIPSeqSpike.buildbin-libdir && mkdir ChIPSeqSpike.buildbin-libdir && C:\Users\biocbuild\bbs-3.12-bioc\R\bin\R.exe CMD INSTALL --merge-multiarch --build --library=ChIPSeqSpike.buildbin-libdir ChIPSeqSpike_1.10.0.tar.gz
###
##############################################################################
##############################################################################
install for i386
* installing *source* package 'ChIPSeqSpike' ...
** using staged installation
** R
** data
** inst
** byte-compile and prepare package for lazy loading
** help
*** installing help indices
converting help for package 'ChIPSeqSpike'
finding HTML links ... done
ChIPSeqSpikeCore html
ChIPSeqSpikeDataset-class html
ChIPSeqSpikeDatasetBoost-class html
ChIPSeqSpikeDatasetList-class html
ChIPSeqSpikeDatasetListBoost-class html
Experiment-class html
ExperimentLoaded-class html
averageBindingValues html
bigWigFile html
boxplotSpike html
count html
datasetList html
estimateScalingFactors html
exoCount html
exogenousScalingFactor html
experimentList html
exportBigWigs html
extractBinding html
getAverageBindingValues html
getBam html
getBigWigFile html
getCount html
getDatasetList html
getExoCount html
getExogenousBam html
getExogenousScalingFactor html
getExpName html
getExperimentList html
getExperimentListBigWigs html
getLoadedData html
getMatBindingValues html
getRatio html
getScalingFactor html
inputSubtraction html
matBindingValues html
plotCor html
plotHeatmaps html
plotProfile html
plotTransform html
ratio html
result_data html
scaling html
scalingFactor html
spikeDataset html
spikePipe html
spikeSummary html
** building package indices
** installing vignettes
** testing if installed package can be loaded from temporary location
** testing if installed package can be loaded from final location
** testing if installed package keeps a record of temporary installation path
install for x64
* installing *source* package 'ChIPSeqSpike' ...
** testing if installed package can be loaded
* MD5 sums
packaged installation of 'ChIPSeqSpike' as ChIPSeqSpike_1.10.0.zip
* DONE (ChIPSeqSpike)