| Back to Multiple platform build/check report for BioC 3.12 |
|
This page was generated on 2021-05-06 12:27:10 -0400 (Thu, 06 May 2021).
|
To the developers/maintainers of the CNVtools package: Please make sure to use the following settings in order to reproduce any error or warning you see on this page. |
| Package 344/1974 | Hostname | OS / Arch | INSTALL | BUILD | CHECK | BUILD BIN | ||||||||
Chris Barnes
| malbec1 | Linux (Ubuntu 18.04.5 LTS) / x86_64 | OK | ERROR | skipped | |||||||||
| tokay1 | Windows Server 2012 R2 Standard / x64 | OK | ERROR | skipped | skipped | |||||||||
| merida1 | macOS 10.14.6 Mojave / x86_64 | OK | ERROR | skipped | skipped | |||||||||
| Package: CNVtools |
| Version: 1.84.0 |
| Command: /home/biocbuild/bbs-3.12-bioc/R/bin/R CMD INSTALL CNVtools |
| StartedAt: 2021-05-05 16:04:11 -0400 (Wed, 05 May 2021) |
| EndedAt: 2021-05-05 16:04:22 -0400 (Wed, 05 May 2021) |
| EllapsedTime: 10.8 seconds |
| RetCode: 0 |
| Status: OK |
##############################################################################
##############################################################################
###
### Running command:
###
### /home/biocbuild/bbs-3.12-bioc/R/bin/R CMD INSTALL CNVtools
###
##############################################################################
##############################################################################
* installing to library ‘/home/biocbuild/bbs-3.12-bioc/R/library’
* installing *source* package ‘CNVtools’ ...
** using staged installation
** libs
g++ -std=gnu++11 -I"/home/biocbuild/bbs-3.12-bioc/R/include" -DNDEBUG -I/usr/local/include -fpic -g -O2 -Wall -c fitmodel.cpp -o fitmodel.o
In file included from fitmodel.cpp:9:0:
gmath.h: In function ‘double gmath::psi(double)’:
gmath.h:204:5: warning: this ‘if’ clause does not guard... [-Wmisleading-indentation]
if (x < 0.0)
^~
gmath.h:206:9: note: ...this statement, but the latter is misleadingly indented as if it were guarded by the ‘if’
return ps;
^~~~~~
g++ -std=gnu++11 -I"/home/biocbuild/bbs-3.12-bioc/R/include" -DNDEBUG -I/usr/local/include -fpic -g -O2 -Wall -c glm_test.cpp -o glm_test.o
g++ -std=gnu++11 -I"/home/biocbuild/bbs-3.12-bioc/R/include" -DNDEBUG -I/usr/local/include -fpic -g -O2 -Wall -c mla.cpp -o mla.o
g++ -std=gnu++11 -I"/home/biocbuild/bbs-3.12-bioc/R/include" -DNDEBUG -I/usr/local/include -fpic -g -O2 -Wall -c routine.cpp -o routine.o
gcc -I"/home/biocbuild/bbs-3.12-bioc/R/include" -DNDEBUG -I/usr/local/include -fpic -g -O2 -Wall -c zeroin.c -o zeroin.o
g++ -std=gnu++11 -shared -L/home/biocbuild/bbs-3.12-bioc/R/lib -L/usr/local/lib -o CNVtools.so fitmodel.o glm_test.o mla.o routine.o zeroin.o -L/home/biocbuild/bbs-3.12-bioc/R/lib -lR
installing to /home/biocbuild/bbs-3.12-bioc/R/library/00LOCK-CNVtools/00new/CNVtools/libs
** R
** data
** byte-compile and prepare package for lazy loading
** help
*** installing help indices
** building package indices
** installing vignettes
** testing if installed package can be loaded from temporary location
Warning: Package 'CNVtools' is deprecated and will be removed from Bioconductor
version 3.13
** checking absolute paths in shared objects and dynamic libraries
** testing if installed package can be loaded from final location
Warning: Package 'CNVtools' is deprecated and will be removed from Bioconductor
version 3.13
** testing if installed package keeps a record of temporary installation path
* DONE (CNVtools)