| Back to Multiple platform build/check report for BioC 3.12 |
|
This page was generated on 2021-05-06 12:30:25 -0400 (Thu, 06 May 2021).
|
To the developers/maintainers of the CNVrd2 package: Please make sure to use the following settings in order to reproduce any error or warning you see on this page. |
| Package 343/1974 | Hostname | OS / Arch | INSTALL | BUILD | CHECK | BUILD BIN | ||||||||
| CNVrd2 1.28.0 (landing page) Hoang Tan Nguyen
| malbec1 | Linux (Ubuntu 18.04.5 LTS) / x86_64 | OK | OK | OK | |||||||||
| tokay1 | Windows Server 2012 R2 Standard / x64 | OK | OK | OK | OK | |||||||||
| merida1 | macOS 10.14.6 Mojave / x86_64 | OK | OK | OK | OK | |||||||||
| Package: CNVrd2 |
| Version: 1.28.0 |
| Command: C:\cygwin\bin\curl.exe -O http://172.29.0.3/BBS/3.12/bioc/src/contrib/CNVrd2_1.28.0.tar.gz && rm -rf CNVrd2.buildbin-libdir && mkdir CNVrd2.buildbin-libdir && C:\Users\biocbuild\bbs-3.12-bioc\R\bin\R.exe CMD INSTALL --merge-multiarch --build --library=CNVrd2.buildbin-libdir CNVrd2_1.28.0.tar.gz && C:\Users\biocbuild\bbs-3.12-bioc\R\bin\R.exe CMD INSTALL CNVrd2_1.28.0.zip && rm CNVrd2_1.28.0.tar.gz CNVrd2_1.28.0.zip |
| StartedAt: 2021-05-05 18:02:12 -0400 (Wed, 05 May 2021) |
| EndedAt: 2021-05-05 18:03:37 -0400 (Wed, 05 May 2021) |
| EllapsedTime: 84.7 seconds |
| RetCode: 0 |
| Status: OK |
##############################################################################
##############################################################################
###
### Running command:
###
### C:\cygwin\bin\curl.exe -O http://172.29.0.3/BBS/3.12/bioc/src/contrib/CNVrd2_1.28.0.tar.gz && rm -rf CNVrd2.buildbin-libdir && mkdir CNVrd2.buildbin-libdir && C:\Users\biocbuild\bbs-3.12-bioc\R\bin\R.exe CMD INSTALL --merge-multiarch --build --library=CNVrd2.buildbin-libdir CNVrd2_1.28.0.tar.gz && C:\Users\biocbuild\bbs-3.12-bioc\R\bin\R.exe CMD INSTALL CNVrd2_1.28.0.zip && rm CNVrd2_1.28.0.tar.gz CNVrd2_1.28.0.zip
###
##############################################################################
##############################################################################
% Total % Received % Xferd Average Speed Time Time Time Current
Dload Upload Total Spent Left Speed
0 0 0 0 0 0 0 0 --:--:-- --:--:-- --:--:-- 0
100 2260k 100 2260k 0 0 35.6M 0 --:--:-- --:--:-- --:--:-- 36.1M
install for i386
* installing *source* package 'CNVrd2' ...
** using staged installation
** R
** data
** inst
** byte-compile and prepare package for lazy loading
** help
*** installing help indices
converting help for package 'CNVrd2'
finding HTML links ... done
CNVrd2-class html
CNVrd2-package html
calculateLDSNPandCNV html
ccl3l1data html
clusteringCNVs-class html
countReadInWindow-methods html
countReadInWindow html
emnormalCNV-methods html
emnormalCNV html
fcgr3bMXL html
groupBayesianCNVs html
groupCNVs-methods html
groupCNVs html
identifyPolymorphicRegion-methods html
identifyPolymorphicRegion html
numericOrNULL-class html
plotCNVrd2-methods html
plotCNVrd2 html
plotPolymorphicRegion-methods html
plotPolymorphicRegion html
searchGroupCNVs-methods html
searchGroupCNVs html
segmentSamples-methods html
segmentSamples html
segmentSamplesUsingPopInformation-methods
html
segmentSamplesUsingPopInformation html
vectorORfactor-class html
** building package indices
** installing vignettes
** testing if installed package can be loaded from temporary location
** testing if installed package can be loaded from final location
** testing if installed package keeps a record of temporary installation path
install for x64
* installing *source* package 'CNVrd2' ...
** testing if installed package can be loaded
* MD5 sums
packaged installation of 'CNVrd2' as CNVrd2_1.28.0.zip
* DONE (CNVrd2)
* installing to library 'C:/Users/biocbuild/bbs-3.12-bioc/R/library'
package 'CNVrd2' successfully unpacked and MD5 sums checked