| Back to Multiple platform build/check report for BioC 3.12 |
|
This page was generated on 2021-05-06 12:30:12 -0400 (Thu, 06 May 2021).
|
To the developers/maintainers of the CHETAH package: Please make sure to use the following settings in order to reproduce any error or warning you see on this page. |
| Package 277/1974 | Hostname | OS / Arch | INSTALL | BUILD | CHECK | BUILD BIN | ||||||||
| CHETAH 1.6.0 (landing page) Jurrian de Kanter
| malbec1 | Linux (Ubuntu 18.04.5 LTS) / x86_64 | OK | OK | OK | |||||||||
| tokay1 | Windows Server 2012 R2 Standard / x64 | OK | OK | OK | OK | |||||||||
| merida1 | macOS 10.14.6 Mojave / x86_64 | OK | OK | OK | OK | |||||||||
| Package: CHETAH |
| Version: 1.6.0 |
| Command: rm -rf CHETAH.buildbin-libdir && mkdir CHETAH.buildbin-libdir && C:\Users\biocbuild\bbs-3.12-bioc\R\bin\R.exe CMD INSTALL --merge-multiarch --build --library=CHETAH.buildbin-libdir CHETAH_1.6.0.tar.gz |
| StartedAt: 2021-05-06 08:40:55 -0400 (Thu, 06 May 2021) |
| EndedAt: 2021-05-06 08:41:47 -0400 (Thu, 06 May 2021) |
| EllapsedTime: 52.2 seconds |
| RetCode: 0 |
| Status: OK |
| PackageFile: CHETAH_1.6.0.zip |
| PackageFileSize: 10.71 MiB |
##############################################################################
##############################################################################
###
### Running command:
###
### rm -rf CHETAH.buildbin-libdir && mkdir CHETAH.buildbin-libdir && C:\Users\biocbuild\bbs-3.12-bioc\R\bin\R.exe CMD INSTALL --merge-multiarch --build --library=CHETAH.buildbin-libdir CHETAH_1.6.0.tar.gz
###
##############################################################################
##############################################################################
install for i386
* installing *source* package 'CHETAH' ...
** using staged installation
** R
** data
*** moving datasets to lazyload DB
** inst
** byte-compile and prepare package for lazy loading
** help
*** installing help indices
converting help for package 'CHETAH'
finding HTML links ... done
CHETAHclassifier html
CHETAHshiny html
Classify html
ClassifyReference html
CorrelateReference html
PlotCHETAH html
PlotTSNE html
PlotTree html
RenameBelowNode html
headneck_ref html
input_mel html
** building package indices
** installing vignettes
** testing if installed package can be loaded from temporary location
** testing if installed package can be loaded from final location
** testing if installed package keeps a record of temporary installation path
install for x64
* installing *source* package 'CHETAH' ...
** testing if installed package can be loaded
* MD5 sums
packaged installation of 'CHETAH' as CHETAH_1.6.0.zip
* DONE (CHETAH)