| Back to Multiple platform build/check report for BioC 3.12 |
|
This page was generated on 2021-05-06 12:27:03 -0400 (Thu, 06 May 2021).
|
To the developers/maintainers of the CAGEfightR package: Please make sure to use the following settings in order to reproduce any error or warning you see on this page. |
| Package 223/1974 | Hostname | OS / Arch | INSTALL | BUILD | CHECK | BUILD BIN | ||||||||
| CAGEfightR 1.10.0 (landing page) Malte Thodberg
| malbec1 | Linux (Ubuntu 18.04.5 LTS) / x86_64 | OK | OK | OK | |||||||||
| tokay1 | Windows Server 2012 R2 Standard / x64 | OK | OK | OK | OK | |||||||||
| merida1 | macOS 10.14.6 Mojave / x86_64 | OK | OK | OK | OK | |||||||||
| Package: CAGEfightR |
| Version: 1.10.0 |
| Command: /home/biocbuild/bbs-3.12-bioc/R/bin/R CMD check --install=check:CAGEfightR.install-out.txt --library=/home/biocbuild/bbs-3.12-bioc/R/library --no-vignettes --timings CAGEfightR_1.10.0.tar.gz |
| StartedAt: 2021-05-05 23:41:18 -0400 (Wed, 05 May 2021) |
| EndedAt: 2021-05-05 23:48:23 -0400 (Wed, 05 May 2021) |
| EllapsedTime: 425.5 seconds |
| RetCode: 0 |
| Status: OK |
| CheckDir: CAGEfightR.Rcheck |
| Warnings: 0 |
##############################################################################
##############################################################################
###
### Running command:
###
### /home/biocbuild/bbs-3.12-bioc/R/bin/R CMD check --install=check:CAGEfightR.install-out.txt --library=/home/biocbuild/bbs-3.12-bioc/R/library --no-vignettes --timings CAGEfightR_1.10.0.tar.gz
###
##############################################################################
##############################################################################
* using log directory ‘/home/biocbuild/bbs-3.12-bioc/meat/CAGEfightR.Rcheck’
* using R version 4.0.5 (2021-03-31)
* using platform: x86_64-pc-linux-gnu (64-bit)
* using session charset: UTF-8
* using option ‘--no-vignettes’
* checking for file ‘CAGEfightR/DESCRIPTION’ ... OK
* checking extension type ... Package
* this is package ‘CAGEfightR’ version ‘1.10.0’
* package encoding: UTF-8
* checking package namespace information ... OK
* checking package dependencies ... OK
* checking if this is a source package ... OK
* checking if there is a namespace ... OK
* checking for hidden files and directories ... OK
* checking for portable file names ... OK
* checking for sufficient/correct file permissions ... OK
* checking whether package ‘CAGEfightR’ can be installed ... OK
* checking installed package size ... OK
* checking package directory ... OK
* checking ‘build’ directory ... OK
* checking DESCRIPTION meta-information ... OK
* checking top-level files ... OK
* checking for left-over files ... OK
* checking index information ... OK
* checking package subdirectories ... OK
* checking R files for non-ASCII characters ... OK
* checking R files for syntax errors ... OK
* checking whether the package can be loaded ... OK
* checking whether the package can be loaded with stated dependencies ... OK
* checking whether the package can be unloaded cleanly ... OK
* checking whether the namespace can be loaded with stated dependencies ... OK
* checking whether the namespace can be unloaded cleanly ... OK
* checking dependencies in R code ... OK
* checking S3 generic/method consistency ... OK
* checking replacement functions ... OK
* checking foreign function calls ... OK
* checking R code for possible problems ... OK
* checking Rd files ... OK
* checking Rd metadata ... OK
* checking Rd cross-references ... OK
* checking for missing documentation entries ... OK
* checking for code/documentation mismatches ... OK
* checking Rd \usage sections ... OK
* checking Rd contents ... OK
* checking for unstated dependencies in examples ... OK
* checking contents of ‘data’ directory ... OK
* checking data for non-ASCII characters ... OK
* checking data for ASCII and uncompressed saves ... OK
* checking files in ‘vignettes’ ... OK
* checking examples ... OK
Examples with CPU (user + system) or elapsed time > 5s
user system elapsed
findLinks 4.888 1.42 5.516
* checking for unstated dependencies in vignettes ... OK
* checking package vignettes in ‘inst/doc’ ... OK
* checking running R code from vignettes ... SKIPPED
* checking re-building of vignette outputs ... SKIPPED
* checking PDF version of manual ... OK
* DONE
Status: OK
CAGEfightR.Rcheck/00install.out
############################################################################## ############################################################################## ### ### Running command: ### ### /home/biocbuild/bbs-3.12-bioc/R/bin/R CMD INSTALL CAGEfightR ### ############################################################################## ############################################################################## * installing to library ‘/home/biocbuild/bbs-3.12-bioc/R/library’ * installing *source* package ‘CAGEfightR’ ... ** using staged installation ** R ** data *** moving datasets to lazyload DB ** inst ** byte-compile and prepare package for lazy loading ** help *** installing help indices ** building package indices ** installing vignettes ** testing if installed package can be loaded from temporary location ** testing if installed package can be loaded from final location ** testing if installed package keeps a record of temporary installation path * DONE (CAGEfightR)
CAGEfightR.Rcheck/CAGEfightR-Ex.timings
| name | user | system | elapsed | |
| assignGeneID | 4.856 | 0.060 | 4.981 | |
| assignMissingID | 1.684 | 0.004 | 1.689 | |
| assignTxID | 0.928 | 0.000 | 0.930 | |
| assignTxType | 0 | 0 | 0 | |
| balanceBC | 0 | 0 | 0 | |
| balanceD | 0 | 0 | 0 | |
| bwCommonGenome | 0.040 | 0.000 | 0.057 | |
| bwGenomeCompatibility | 0.016 | 0.000 | 0.015 | |
| bwValid | 0.008 | 0.000 | 0.007 | |
| calcBidirectionality | 0.572 | 0.000 | 0.575 | |
| calcComposition | 1.852 | 0.000 | 1.856 | |
| calcPooled | 1.284 | 0.000 | 1.286 | |
| calcShape | 3.776 | 0.024 | 3.816 | |
| calcSupport | 0.232 | 0.000 | 0.228 | |
| calcTPM | 0.264 | 0.000 | 0.265 | |
| calcTotalTags | 0.140 | 0.000 | 0.139 | |
| checkCTSSs | 0.480 | 0.004 | 0.543 | |
| checkPeaked | 0.136 | 0.008 | 0.142 | |
| checkPooled | 0.124 | 0.012 | 0.134 | |
| clusterBidirectionally | 0 | 0 | 0 | |
| clusterUnidirectionally | 1.916 | 0.000 | 1.918 | |
| combineClusters | 1.088 | 0.000 | 1.088 | |
| convertBAM2BigWig | 0 | 0 | 0 | |
| convertBED2BigWig | 0.000 | 0.000 | 0.001 | |
| convertGRanges2GPos | 0.092 | 0.000 | 0.095 | |
| exampleDesign | 0.004 | 0.004 | 0.006 | |
| findLinks | 4.888 | 1.420 | 5.516 | |
| findStretches | 0.560 | 0.052 | 0.616 | |
| quantifyCTSSs | 0 | 0 | 0 | |
| quantifyCTSSs2 | 0 | 0 | 0 | |
| quantifyClusters | 0.656 | 0.056 | 0.713 | |
| quantifyGenes | 1.616 | 0.028 | 1.642 | |
| quickEnhancers | 0.000 | 0.000 | 0.001 | |
| quickGenes | 0 | 0 | 0 | |
| quickTSSs | 0 | 0 | 0 | |
| shapeEntropy | 0 | 0 | 0 | |
| shapeIQR | 0.004 | 0.000 | 0.001 | |
| shapeMean | 0 | 0 | 0 | |
| shapeMultimodality | 0.004 | 0.000 | 0.001 | |
| subsetByBidirectionality | 0.768 | 0.000 | 0.774 | |
| subsetByComposition | 1.552 | 0.004 | 1.557 | |
| subsetBySupport | 0.128 | 0.000 | 0.129 | |
| swapRanges | 0.228 | 0.000 | 0.228 | |
| swapScores | 0.14 | 0.02 | 0.16 | |
| trackBalance | 0 | 0 | 0 | |
| trackCTSS | 4.260 | 0.172 | 4.446 | |
| trackClusters | 2.800 | 0.008 | 2.816 | |
| trackLinks | 1.404 | 0.492 | 1.405 | |
| trimToPeak | 0.868 | 0.108 | 0.976 | |
| trimToPercentiles | 2.684 | 0.016 | 2.702 | |
| tuneTagClustering | 0 | 0 | 0 | |
| utilsAggregateRows | 0.508 | 0.092 | 0.599 | |
| utilsDeStrand | 0.16 | 0.00 | 0.16 | |
| utilsScoreOverlaps | 0.120 | 0.000 | 0.121 | |
| utilsSimplifyTxDb | 0.000 | 0.000 | 0.001 | |