| Back to Multiple platform build/check report for BioC 3.12 |
|
This page was generated on 2021-05-06 12:34:28 -0400 (Thu, 06 May 2021).
|
To the developers/maintainers of the BufferedMatrixMethods package: Please make sure to use the following settings in order to reproduce any error or warning you see on this page. |
| Package 216/1974 | Hostname | OS / Arch | INSTALL | BUILD | CHECK | BUILD BIN | ||||||||
| BufferedMatrixMethods 1.54.0 (landing page) Ben Bolstad
| malbec1 | Linux (Ubuntu 18.04.5 LTS) / x86_64 | OK | OK | OK | |||||||||
| tokay1 | Windows Server 2012 R2 Standard / x64 | OK | OK | OK | OK | |||||||||
| merida1 | macOS 10.14.6 Mojave / x86_64 | OK | OK | OK | OK | |||||||||
| Package: BufferedMatrixMethods |
| Version: 1.54.0 |
| Command: /Library/Frameworks/R.framework/Versions/Current/Resources/bin/R CMD build --keep-empty-dirs --no-resave-data BufferedMatrixMethods |
| StartedAt: 2021-05-05 18:30:00 -0400 (Wed, 05 May 2021) |
| EndedAt: 2021-05-05 18:30:19 -0400 (Wed, 05 May 2021) |
| EllapsedTime: 18.9 seconds |
| RetCode: 0 |
| Status: OK |
| PackageFile: BufferedMatrixMethods_1.54.0.tar.gz |
| PackageFileSize: 10.84 KiB |
############################################################################## ############################################################################## ### ### Running command: ### ### /Library/Frameworks/R.framework/Versions/Current/Resources/bin/R CMD build --keep-empty-dirs --no-resave-data BufferedMatrixMethods ### ############################################################################## ############################################################################## * checking for file ‘BufferedMatrixMethods/DESCRIPTION’ ... OK * preparing ‘BufferedMatrixMethods’: * checking DESCRIPTION meta-information ... OK * cleaning src * checking for LF line-endings in source and make files and shell scripts * checking for empty or unneeded directories * building ‘BufferedMatrixMethods_1.54.0.tar.gz’