| Back to Multiple platform build/check report for BioC 3.12 |
|
This page was generated on 2021-05-06 12:27:02 -0400 (Thu, 06 May 2021).
|
To the developers/maintainers of the BubbleTree package: Please make sure to use the following settings in order to reproduce any error or warning you see on this page. |
| Package 214/1974 | Hostname | OS / Arch | INSTALL | BUILD | CHECK | BUILD BIN | ||||||||
| BubbleTree 2.20.0 (landing page) Todd Creasy
| malbec1 | Linux (Ubuntu 18.04.5 LTS) / x86_64 | OK | OK | OK | |||||||||
| tokay1 | Windows Server 2012 R2 Standard / x64 | OK | OK | OK | OK | |||||||||
| merida1 | macOS 10.14.6 Mojave / x86_64 | OK | OK | OK | OK | |||||||||
| Package: BubbleTree |
| Version: 2.20.0 |
| Command: /home/biocbuild/bbs-3.12-bioc/R/bin/R CMD check --install=check:BubbleTree.install-out.txt --library=/home/biocbuild/bbs-3.12-bioc/R/library --no-vignettes --timings BubbleTree_2.20.0.tar.gz |
| StartedAt: 2021-05-05 23:38:35 -0400 (Wed, 05 May 2021) |
| EndedAt: 2021-05-05 23:45:47 -0400 (Wed, 05 May 2021) |
| EllapsedTime: 431.8 seconds |
| RetCode: 0 |
| Status: OK |
| CheckDir: BubbleTree.Rcheck |
| Warnings: 0 |
##############################################################################
##############################################################################
###
### Running command:
###
### /home/biocbuild/bbs-3.12-bioc/R/bin/R CMD check --install=check:BubbleTree.install-out.txt --library=/home/biocbuild/bbs-3.12-bioc/R/library --no-vignettes --timings BubbleTree_2.20.0.tar.gz
###
##############################################################################
##############################################################################
* using log directory ‘/home/biocbuild/bbs-3.12-bioc/meat/BubbleTree.Rcheck’
* using R version 4.0.5 (2021-03-31)
* using platform: x86_64-pc-linux-gnu (64-bit)
* using session charset: UTF-8
* using option ‘--no-vignettes’
* checking for file ‘BubbleTree/DESCRIPTION’ ... OK
* checking extension type ... Package
* this is package ‘BubbleTree’ version ‘2.20.0’
* checking package namespace information ... OK
* checking package dependencies ... OK
* checking if this is a source package ... OK
* checking if there is a namespace ... OK
* checking for hidden files and directories ... OK
* checking for portable file names ... OK
* checking for sufficient/correct file permissions ... OK
* checking whether package ‘BubbleTree’ can be installed ... OK
* checking installed package size ... NOTE
installed size is 23.8Mb
sub-directories of 1Mb or more:
data 23.4Mb
* checking package directory ... OK
* checking ‘build’ directory ... OK
* checking DESCRIPTION meta-information ...It is recommended to use ‘given’ instead of ‘middle’.
OK
* checking top-level files ... OK
* checking for left-over files ... OK
* checking index information ... OK
* checking package subdirectories ... OK
* checking R files for non-ASCII characters ... OK
* checking R files for syntax errors ... OK
* checking whether the package can be loaded ... OK
* checking whether the package can be loaded with stated dependencies ... OK
* checking whether the package can be unloaded cleanly ... OK
* checking whether the namespace can be loaded with stated dependencies ... OK
* checking whether the namespace can be unloaded cleanly ... OK
* checking dependencies in R code ... OK
* checking S3 generic/method consistency ... OK
* checking replacement functions ... OK
* checking foreign function calls ... OK
* checking R code for possible problems ... NOTE
annoByOverlap,Annotate: no visible binding for global variable
'queryHits'
Undefined global functions or variables:
queryHits
* checking Rd files ... OK
* checking Rd metadata ... OK
* checking Rd cross-references ... OK
* checking for missing documentation entries ... OK
* checking for code/documentation mismatches ... OK
* checking Rd \usage sections ... OK
* checking Rd contents ... OK
* checking for unstated dependencies in examples ... OK
* checking contents of ‘data’ directory ... OK
* checking data for non-ASCII characters ... OK
* checking data for ASCII and uncompressed saves ... OK
* checking files in ‘vignettes’ ... OK
* checking examples ... OK
Examples with CPU (user + system) or elapsed time > 5s
user system elapsed
makeRBD 19.448 0.008 19.490
heteroLociTrack 7.588 0.184 7.780
info 4.996 0.020 5.032
* checking for unstated dependencies in vignettes ... OK
* checking package vignettes in ‘inst/doc’ ... OK
* checking running R code from vignettes ... SKIPPED
* checking re-building of vignette outputs ... SKIPPED
* checking PDF version of manual ... OK
* DONE
Status: 2 NOTEs
See
‘/home/biocbuild/bbs-3.12-bioc/meat/BubbleTree.Rcheck/00check.log’
for details.
BubbleTree.Rcheck/00install.out
############################################################################## ############################################################################## ### ### Running command: ### ### /home/biocbuild/bbs-3.12-bioc/R/bin/R CMD INSTALL BubbleTree ### ############################################################################## ############################################################################## * installing to library ‘/home/biocbuild/bbs-3.12-bioc/R/library’ * installing *source* package ‘BubbleTree’ ... ** using staged installation It is recommended to use ‘given’ instead of ‘middle’. ** R ** data ** inst ** byte-compile and prepare package for lazy loading ** help *** installing help indices ** building package indices ** installing vignettes ** testing if installed package can be loaded from temporary location ** testing if installed package can be loaded from final location ** testing if installed package keeps a record of temporary installation path * DONE (BubbleTree)
BubbleTree.Rcheck/BubbleTree-Ex.timings
| name | user | system | elapsed | |
| Annotate | 0 | 0 | 0 | |
| BTreePlotter | 0.080 | 0.000 | 0.078 | |
| BTreePredictor | 0.012 | 0.000 | 0.008 | |
| RBD | 0 | 0 | 0 | |
| RscoreTrack | 1.424 | 0.012 | 1.435 | |
| TrackPlotter | 0 | 0 | 0 | |
| annoByGenesAndCyto | 0.728 | 0.016 | 0.747 | |
| bafTrack | 0.264 | 0.016 | 0.283 | |
| btcompare | 0.000 | 0.000 | 0.003 | |
| btpredict | 4.276 | 0.116 | 4.398 | |
| drawBTree | 0.380 | 0.012 | 0.393 | |
| drawBubbles | 0.328 | 0.004 | 0.333 | |
| drawFeatures | 1.544 | 0.008 | 1.557 | |
| getTracks | 0.976 | 0.008 | 0.985 | |
| heteroLociTrack | 7.588 | 0.184 | 7.780 | |
| info | 4.996 | 0.020 | 5.032 | |
| loadRBD | 0.036 | 0.000 | 0.035 | |
| makeRBD | 19.448 | 0.008 | 19.490 | |
| saveXLS | 0.384 | 0.084 | 0.687 | |
| trackBTree | 0.304 | 0.028 | 0.344 | |
| xyTrack | 0.232 | 0.016 | 0.247 | |