| Back to Multiple platform build/check report for BioC 3.12 | 
  | 
This page was generated on 2021-05-06 12:30:02 -0400 (Thu, 06 May 2021).
| 
To the developers/maintainers of the BiocVersion package: Please make sure to use the following settings in order to reproduce any error or warning you see on this page.  | 
| Package 173/1974 | Hostname | OS / Arch | INSTALL | BUILD | CHECK | BUILD BIN | ||||||||
| BiocVersion 3.12.0  (landing page) Bioconductor Package Maintainer 
  | malbec1 | Linux (Ubuntu 18.04.5 LTS) / x86_64 | OK | OK | OK | |||||||||
| tokay1 | Windows Server 2012 R2 Standard / x64 | OK | OK | OK | OK | |||||||||
| merida1 | macOS 10.14.6 Mojave / x86_64 | OK | OK | OK | OK | |||||||||
| Package: BiocVersion | 
| Version: 3.12.0 | 
| Command: rm -rf BiocVersion.buildbin-libdir && mkdir BiocVersion.buildbin-libdir && C:\Users\biocbuild\bbs-3.12-bioc\R\bin\R.exe CMD INSTALL --merge-multiarch --build --library=BiocVersion.buildbin-libdir BiocVersion_3.12.0.tar.gz | 
| StartedAt: 2021-05-06 08:33:24 -0400 (Thu, 06 May 2021) | 
| EndedAt: 2021-05-06 08:34:07 -0400 (Thu, 06 May 2021) | 
| EllapsedTime: 42.9 seconds | 
| RetCode: 0 | 
| Status: OK | 
| PackageFile: BiocVersion_3.12.0.zip | 
| PackageFileSize: 8.743 KiB | 
##############################################################################
##############################################################################
###
### Running command:
###
###   rm -rf BiocVersion.buildbin-libdir && mkdir BiocVersion.buildbin-libdir && C:\Users\biocbuild\bbs-3.12-bioc\R\bin\R.exe CMD INSTALL --merge-multiarch --build --library=BiocVersion.buildbin-libdir BiocVersion_3.12.0.tar.gz
###
##############################################################################
##############################################################################
install for i386
* installing *source* package 'BiocVersion' ...
** using staged installation
** help
*** installing help indices
  converting help for package 'BiocVersion'
    finding HTML links ... done
    BiocVersion-pkg                         html  
** building package indices
** testing if installed package can be loaded from temporary location
** testing if installed package can be loaded from final location
** testing if installed package keeps a record of temporary installation path
install for x64
* installing *source* package 'BiocVersion' ...
** testing if installed package can be loaded
* MD5 sums
packaged installation of 'BiocVersion' as BiocVersion_3.12.0.zip
* DONE (BiocVersion)