| Back to Multiple platform build/check report for BioC 3.12 |
|
This page was generated on 2021-05-06 12:26:59 -0400 (Thu, 06 May 2021).
|
To the developers/maintainers of the BiocSklearn package: Please make sure to use the following settings in order to reproduce any error or warning you see on this page. |
| Package 170/1974 | Hostname | OS / Arch | INSTALL | BUILD | CHECK | BUILD BIN | ||||||||
| BiocSklearn 1.12.0 (landing page) VJ Carey
| malbec1 | Linux (Ubuntu 18.04.5 LTS) / x86_64 | OK | OK | OK | |||||||||
| tokay1 | Windows Server 2012 R2 Standard / x64 | OK | ERROR | skipped | skipped | |||||||||
| merida1 | macOS 10.14.6 Mojave / x86_64 | OK | OK | OK | OK | |||||||||
| Package: BiocSklearn |
| Version: 1.12.0 |
| Command: /home/biocbuild/bbs-3.12-bioc/R/bin/R CMD INSTALL BiocSklearn |
| StartedAt: 2021-05-05 16:27:35 -0400 (Wed, 05 May 2021) |
| EndedAt: 2021-05-05 16:27:52 -0400 (Wed, 05 May 2021) |
| EllapsedTime: 16.9 seconds |
| RetCode: 0 |
| Status: OK |
############################################################################## ############################################################################## ### ### Running command: ### ### /home/biocbuild/bbs-3.12-bioc/R/bin/R CMD INSTALL BiocSklearn ### ############################################################################## ############################################################################## * installing to library ‘/home/biocbuild/bbs-3.12-bioc/R/library’ * installing *source* package ‘BiocSklearn’ ... ** using non-staged installation via StagedInstall field ** R ** inst ** byte-compile and prepare package for lazy loading ** help *** installing help indices ** building package indices ** installing vignettes ** testing if installed package can be loaded * DONE (BiocSklearn)