| Back to Multiple platform build/check report for BioC 3.12 |
|
This page was generated on 2021-05-06 12:30:01 -0400 (Thu, 06 May 2021).
|
To the developers/maintainers of the BiocPkgTools package: Please make sure to use the following settings in order to reproduce any error or warning you see on this page. |
| Package 167/1974 | Hostname | OS / Arch | INSTALL | BUILD | CHECK | BUILD BIN | ||||||||
| BiocPkgTools 1.8.2 (landing page) Sean Davis
| malbec1 | Linux (Ubuntu 18.04.5 LTS) / x86_64 | OK | OK | OK | |||||||||
| tokay1 | Windows Server 2012 R2 Standard / x64 | OK | OK | OK | OK | |||||||||
| merida1 | macOS 10.14.6 Mojave / x86_64 | OK | OK | OK | OK | |||||||||
| Package: BiocPkgTools |
| Version: 1.8.2 |
| Command: C:\cygwin\bin\curl.exe -O http://172.29.0.3/BBS/3.12/bioc/src/contrib/BiocPkgTools_1.8.2.tar.gz && rm -rf BiocPkgTools.buildbin-libdir && mkdir BiocPkgTools.buildbin-libdir && C:\Users\biocbuild\bbs-3.12-bioc\R\bin\R.exe CMD INSTALL --merge-multiarch --build --library=BiocPkgTools.buildbin-libdir BiocPkgTools_1.8.2.tar.gz && C:\Users\biocbuild\bbs-3.12-bioc\R\bin\R.exe CMD INSTALL BiocPkgTools_1.8.2.zip && rm BiocPkgTools_1.8.2.tar.gz BiocPkgTools_1.8.2.zip |
| StartedAt: 2021-05-05 18:55:45 -0400 (Wed, 05 May 2021) |
| EndedAt: 2021-05-05 18:57:06 -0400 (Wed, 05 May 2021) |
| EllapsedTime: 81.2 seconds |
| RetCode: 0 |
| Status: OK |
##############################################################################
##############################################################################
###
### Running command:
###
### C:\cygwin\bin\curl.exe -O http://172.29.0.3/BBS/3.12/bioc/src/contrib/BiocPkgTools_1.8.2.tar.gz && rm -rf BiocPkgTools.buildbin-libdir && mkdir BiocPkgTools.buildbin-libdir && C:\Users\biocbuild\bbs-3.12-bioc\R\bin\R.exe CMD INSTALL --merge-multiarch --build --library=BiocPkgTools.buildbin-libdir BiocPkgTools_1.8.2.tar.gz && C:\Users\biocbuild\bbs-3.12-bioc\R\bin\R.exe CMD INSTALL BiocPkgTools_1.8.2.zip && rm BiocPkgTools_1.8.2.tar.gz BiocPkgTools_1.8.2.zip
###
##############################################################################
##############################################################################
% Total % Received % Xferd Average Speed Time Time Time Current
Dload Upload Total Spent Left Speed
0 0 0 0 0 0 0 0 --:--:-- --:--:-- --:--:-- 0
100 272k 100 272k 0 0 2336k 0 --:--:-- --:--:-- --:--:-- 2348k
install for i386
* installing *source* package 'BiocPkgTools' ...
** using staged installation
** R
** inst
** byte-compile and prepare package for lazy loading
** help
*** installing help indices
converting help for package 'BiocPkgTools'
finding HTML links ... done
BiocPkgTools-cache html
BiocPkgTools html
CRANstatus html
biocBuildEmail html
biocBuildReport html
biocDownloadStats html
biocExplore html
biocPkgList html
buildPkgDependencyDataFrame html
buildPkgDependencyIgraph html
dataciteXMLGenerate html
dot-getDepGain html
firstInBioc html
generateBiocPkgDOI html
getBiocVignette html
getPackageInfo html
get_bioc_data html
githubDetails html
githubURLParts html
inducedSubgraphByPkgs html
pkgCombDependencyGain html
pkgDepImports html
pkgDepMetrics html
problemPage html
subgraphByDegree html
** building package indices
** installing vignettes
** testing if installed package can be loaded from temporary location
** testing if installed package can be loaded from final location
** testing if installed package keeps a record of temporary installation path
install for x64
* installing *source* package 'BiocPkgTools' ...
** testing if installed package can be loaded
* MD5 sums
packaged installation of 'BiocPkgTools' as BiocPkgTools_1.8.2.zip
* DONE (BiocPkgTools)
* installing to library 'C:/Users/biocbuild/bbs-3.12-bioc/R/library'
package 'BiocPkgTools' successfully unpacked and MD5 sums checked