| Back to Multiple platform build/check report for BioC 3.12 |
|
This page was generated on 2021-05-06 12:30:01 -0400 (Thu, 06 May 2021).
|
To the developers/maintainers of the BiocOncoTK package: Please make sure to use the following settings in order to reproduce any error or warning you see on this page. |
| Package 164/1974 | Hostname | OS / Arch | INSTALL | BUILD | CHECK | BUILD BIN | ||||||||
| BiocOncoTK 1.10.0 (landing page) VJ Carey
| malbec1 | Linux (Ubuntu 18.04.5 LTS) / x86_64 | OK | OK | OK | |||||||||
| tokay1 | Windows Server 2012 R2 Standard / x64 | OK | OK | WARNINGS | OK | |||||||||
| merida1 | macOS 10.14.6 Mojave / x86_64 | OK | OK | OK | OK | |||||||||
| Package: BiocOncoTK |
| Version: 1.10.0 |
| Command: rm -rf BiocOncoTK.buildbin-libdir && mkdir BiocOncoTK.buildbin-libdir && C:\Users\biocbuild\bbs-3.12-bioc\R\bin\R.exe CMD INSTALL --merge-multiarch --build --library=BiocOncoTK.buildbin-libdir BiocOncoTK_1.10.0.tar.gz |
| StartedAt: 2021-05-06 08:32:49 -0400 (Thu, 06 May 2021) |
| EndedAt: 2021-05-06 08:34:36 -0400 (Thu, 06 May 2021) |
| EllapsedTime: 106.9 seconds |
| RetCode: 0 |
| Status: OK |
| PackageFile: BiocOncoTK_1.10.0.zip |
| PackageFileSize: 10.59 MiB |
##############################################################################
##############################################################################
###
### Running command:
###
### rm -rf BiocOncoTK.buildbin-libdir && mkdir BiocOncoTK.buildbin-libdir && C:\Users\biocbuild\bbs-3.12-bioc\R\bin\R.exe CMD INSTALL --merge-multiarch --build --library=BiocOncoTK.buildbin-libdir BiocOncoTK_1.10.0.tar.gz
###
##############################################################################
##############################################################################
install for i386
* installing *source* package 'BiocOncoTK' ...
** using staged installation
** R
** data
*** moving datasets to lazyload DB
** inst
** byte-compile and prepare package for lazy loading
** help
*** installing help indices
converting help for package 'BiocOncoTK'
finding HTML links ... done
CCLE_DRUG_BROAD html
MSIsensor.10k html
TcgaMutCounts html
TcgaNIndWithAnyMut html
add_sym html
annotTabs html
bindMSI html
bipg_tests html
brcaMAE html
buildPancanSE html
cell_70138 html
clueDemos html
clueServiceNames html
darmGBMcls html
dingMSI html
featIDMapper html
fireMSI html
get_plates html
ggFeatDens html
ggFeatureSegs html
ggMutDens html
icd10_c html
k23sig html
kang_DNArepair html
loadPatel html
log10pl1 html
map_tcga_ncit html
mc3toGR html
molpo_3utr html
molpo_5utr html
molpo_CDS html
molpo_WGS html
multiviz html
oncoPrintISB html
pancan.clin.varnames html
pancan_BQ html
finding level-2 HTML links ... done
pancan_app html
pancan_clinicalTabVarnames html
pancan_longname html
pancan_sampTypeMap html
pancan_tabulate html
patient_to_tumor_code html
pertClasses html
pert_70138 html
query_clue html
reexports html
Rd warning: C:/Users/biocbuild/bbs-3.12-bioc/tmpdir/RtmpQ70hGV/R.INSTALL2bac4b9a3ed5/BiocOncoTK/man/reexports.Rd:19: file link '%>%' in package 'magrittr' does not exist and so has been treated as a topic
replaceRownames html
small_msi html
tumNorSet html
utils html
viz_msi_raw html
** building package indices
** installing vignettes
** testing if installed package can be loaded from temporary location
** testing if installed package can be loaded from final location
** testing if installed package keeps a record of temporary installation path
install for x64
* installing *source* package 'BiocOncoTK' ...
** testing if installed package can be loaded
* MD5 sums
packaged installation of 'BiocOncoTK' as BiocOncoTK_1.10.0.zip
* DONE (BiocOncoTK)