| Back to Multiple platform build/check report for BioC 3.12 |
|
This page was generated on 2021-05-06 12:30:03 -0400 (Thu, 06 May 2021).
|
To the developers/maintainers of the BioMVCClass package: Please make sure to use the following settings in order to reproduce any error or warning you see on this page. |
| Package 180/1974 | Hostname | OS / Arch | INSTALL | BUILD | CHECK | BUILD BIN | ||||||||
| BioMVCClass 1.58.0 (landing page) Elizabeth Whalen
| malbec1 | Linux (Ubuntu 18.04.5 LTS) / x86_64 | OK | OK | OK | |||||||||
| tokay1 | Windows Server 2012 R2 Standard / x64 | OK | OK | OK | OK | |||||||||
| merida1 | macOS 10.14.6 Mojave / x86_64 | OK | OK | OK | OK | |||||||||
| Package: BioMVCClass |
| Version: 1.58.0 |
| Command: C:\cygwin\bin\curl.exe -O http://172.29.0.3/BBS/3.12/bioc/src/contrib/BioMVCClass_1.58.0.tar.gz && rm -rf BioMVCClass.buildbin-libdir && mkdir BioMVCClass.buildbin-libdir && C:\Users\biocbuild\bbs-3.12-bioc\R\bin\R.exe CMD INSTALL --merge-multiarch --build --library=BioMVCClass.buildbin-libdir BioMVCClass_1.58.0.tar.gz && C:\Users\biocbuild\bbs-3.12-bioc\R\bin\R.exe CMD INSTALL BioMVCClass_1.58.0.zip && rm BioMVCClass_1.58.0.tar.gz BioMVCClass_1.58.0.zip |
| StartedAt: 2021-05-05 17:09:51 -0400 (Wed, 05 May 2021) |
| EndedAt: 2021-05-05 17:10:11 -0400 (Wed, 05 May 2021) |
| EllapsedTime: 20.0 seconds |
| RetCode: 0 |
| Status: OK |
##############################################################################
##############################################################################
###
### Running command:
###
### C:\cygwin\bin\curl.exe -O http://172.29.0.3/BBS/3.12/bioc/src/contrib/BioMVCClass_1.58.0.tar.gz && rm -rf BioMVCClass.buildbin-libdir && mkdir BioMVCClass.buildbin-libdir && C:\Users\biocbuild\bbs-3.12-bioc\R\bin\R.exe CMD INSTALL --merge-multiarch --build --library=BioMVCClass.buildbin-libdir BioMVCClass_1.58.0.tar.gz && C:\Users\biocbuild\bbs-3.12-bioc\R\bin\R.exe CMD INSTALL BioMVCClass_1.58.0.zip && rm BioMVCClass_1.58.0.tar.gz BioMVCClass_1.58.0.zip
###
##############################################################################
##############################################################################
% Total % Received % Xferd Average Speed Time Time Time Current
Dload Upload Total Spent Left Speed
0 0 0 0 0 0 0 0 --:--:-- --:--:-- --:--:-- 0
100 41585 100 41585 0 0 2271k 0 --:--:-- --:--:-- --:--:-- 2388k
install for i386
* installing *source* package 'BioMVCClass' ...
** using staged installation
** R
** byte-compile and prepare package for lazy loading
** help
*** installing help indices
converting help for package 'BioMVCClass'
finding HTML links ... done
GSE-class html
exprModel-class html
graphModel-class html
graphView-class html
gseModel-class html
heatmapView-class html
** building package indices
** installing vignettes
** testing if installed package can be loaded from temporary location
** testing if installed package can be loaded from final location
** testing if installed package keeps a record of temporary installation path
install for x64
* installing *source* package 'BioMVCClass' ...
** testing if installed package can be loaded
* MD5 sums
packaged installation of 'BioMVCClass' as BioMVCClass_1.58.0.zip
* DONE (BioMVCClass)
* installing to library 'C:/Users/biocbuild/bbs-3.12-bioc/R/library'
package 'BioMVCClass' successfully unpacked and MD5 sums checked