| Back to Multiple platform build/check report for BioC 3.12 |
|
This page was generated on 2021-05-06 12:30:00 -0400 (Thu, 06 May 2021).
|
To the developers/maintainers of the BiGGR package: Please make sure to use the following settings in order to reproduce any error or warning you see on this page. |
| Package 147/1974 | Hostname | OS / Arch | INSTALL | BUILD | CHECK | BUILD BIN | ||||||||
| BiGGR 1.26.0 (landing page) Anand K. Gavai
| malbec1 | Linux (Ubuntu 18.04.5 LTS) / x86_64 | OK | OK | WARNINGS | |||||||||
| tokay1 | Windows Server 2012 R2 Standard / x64 | OK | OK | WARNINGS | OK | |||||||||
| merida1 | macOS 10.14.6 Mojave / x86_64 | ... NOT SUPPORTED ... | ||||||||||||
| Package: BiGGR |
| Version: 1.26.0 |
| Command: chmod a+r BiGGR -R && C:\Users\biocbuild\bbs-3.12-bioc\R\bin\R.exe --arch x64 CMD build --keep-empty-dirs --no-resave-data BiGGR |
| StartedAt: 2021-05-05 19:45:41 -0400 (Wed, 05 May 2021) |
| EndedAt: 2021-05-05 19:46:25 -0400 (Wed, 05 May 2021) |
| EllapsedTime: 44.4 seconds |
| RetCode: 0 |
| Status: OK |
| PackageFile: BiGGR_1.26.0.tar.gz |
| PackageFileSize: 4.235 MiB |
##############################################################################
##############################################################################
###
### Running command:
###
### chmod a+r BiGGR -R && C:\Users\biocbuild\bbs-3.12-bioc\R\bin\R.exe --arch x64 CMD build --keep-empty-dirs --no-resave-data BiGGR
###
##############################################################################
##############################################################################
* checking for file 'BiGGR/DESCRIPTION' ... OK
* preparing 'BiGGR':
* checking DESCRIPTION meta-information ... OK
* installing the package to build vignettes
* creating vignettes ... OK
Warning: 'inst/doc' files
'BiGGR.Rnw', 'BiGGR.pdf', 'BiGGR.R'
ignored as vignettes have been rebuilt.
Run R CMD build with --no-build-vignettes to prevent rebuilding.
* checking for LF line-endings in source and make files and shell scripts
* checking for empty or unneeded directories
* looking to see if a 'data/datalist' file should be added
* building 'BiGGR_1.26.0.tar.gz'