| Back to Multiple platform build/check report for BioC 3.12 |
|
This page was generated on 2021-05-06 12:30:06 -0400 (Thu, 06 May 2021).
|
To the developers/maintainers of the BUS package: Please make sure to use the following settings in order to reproduce any error or warning you see on this page. |
| Package 219/1974 | Hostname | OS / Arch | INSTALL | BUILD | CHECK | BUILD BIN | ||||||||
| BUS 1.46.0 (landing page) Yuanhua Liu
| malbec1 | Linux (Ubuntu 18.04.5 LTS) / x86_64 | OK | OK | OK | |||||||||
| tokay1 | Windows Server 2012 R2 Standard / x64 | OK | OK | OK | OK | |||||||||
| merida1 | macOS 10.14.6 Mojave / x86_64 | OK | OK | OK | OK | |||||||||
| Package: BUS |
| Version: 1.46.0 |
| Command: rm -rf BUS.buildbin-libdir && mkdir BUS.buildbin-libdir && C:\Users\biocbuild\bbs-3.12-bioc\R\bin\R.exe CMD INSTALL --merge-multiarch --build --library=BUS.buildbin-libdir BUS_1.46.0.tar.gz |
| StartedAt: 2021-05-06 08:36:34 -0400 (Thu, 06 May 2021) |
| EndedAt: 2021-05-06 08:37:26 -0400 (Thu, 06 May 2021) |
| EllapsedTime: 52.4 seconds |
| RetCode: 0 |
| Status: OK |
| PackageFile: BUS_1.46.0.zip |
| PackageFileSize: 2.442 MiB |
##############################################################################
##############################################################################
###
### Running command:
###
### rm -rf BUS.buildbin-libdir && mkdir BUS.buildbin-libdir && C:\Users\biocbuild\bbs-3.12-bioc\R\bin\R.exe CMD INSTALL --merge-multiarch --build --library=BUS.buildbin-libdir BUS_1.46.0.tar.gz
###
##############################################################################
##############################################################################
install for i386
* installing *source* package 'BUS' ...
** using staged installation
** libs
"C:/rtools40/mingw32/bin/"g++ -std=gnu++11 -I"C:/Users/BIOCBU~1/BBS-3~1.12-/R/include" -DNDEBUG -I"C:/extsoft/include" -O2 -Wall -mfpmath=sse -msse2 -mstackrealign -c BUS.cpp -o BUS.o
C:/rtools40/mingw32/bin/g++ -std=gnu++11 -shared -s -static-libgcc -o BUS.dll tmp.def BUS.o -LC:/extsoft/lib/i386 -LC:/extsoft/lib -LC:/Users/BIOCBU~1/BBS-3~1.12-/R/bin/i386 -lR
installing to C:/Users/biocbuild/bbs-3.12-bioc/meat/BUS.buildbin-libdir/00LOCK-BUS/00new/BUS/libs/i386
** R
** data
** inst
** byte-compile and prepare package for lazy loading
** help
*** installing help indices
converting help for package 'BUS'
finding HTML links ... done
BUS-package html
BUS html
copasi html
gene.pvalue html
gene.similarity html
gene.trait.pvalue html
gene.trait.similarity html
pred.network html
tumors.mRNA html
tumors.miRNA html
** building package indices
** installing vignettes
** testing if installed package can be loaded from temporary location
** testing if installed package can be loaded from final location
** testing if installed package keeps a record of temporary installation path
install for x64
* installing *source* package 'BUS' ...
** libs
"C:/rtools40/mingw64/bin/"g++ -std=gnu++11 -I"C:/Users/BIOCBU~1/BBS-3~1.12-/R/include" -DNDEBUG -I"C:/extsoft/include" -O2 -Wall -mfpmath=sse -msse2 -mstackrealign -c BUS.cpp -o BUS.o
C:/rtools40/mingw64/bin/g++ -std=gnu++11 -shared -s -static-libgcc -o BUS.dll tmp.def BUS.o -LC:/extsoft/lib/x64 -LC:/extsoft/lib -LC:/Users/BIOCBU~1/BBS-3~1.12-/R/bin/x64 -lR
installing to C:/Users/biocbuild/bbs-3.12-bioc/meat/BUS.buildbin-libdir/BUS/libs/x64
** testing if installed package can be loaded
* MD5 sums
packaged installation of 'BUS' as BUS_1.46.0.zip
* DONE (BUS)