| Back to Multiple platform build/check report for BioC 3.12 |
|
This page was generated on 2021-05-06 12:34:27 -0400 (Thu, 06 May 2021).
|
To the developers/maintainers of the BRGenomics package: Please make sure to use the following settings in order to reproduce any error or warning you see on this page. |
| Package 208/1974 | Hostname | OS / Arch | INSTALL | BUILD | CHECK | BUILD BIN | ||||||||
| BRGenomics 1.2.0 (landing page) Mike DeBerardine
| malbec1 | Linux (Ubuntu 18.04.5 LTS) / x86_64 | OK | OK | OK | |||||||||
| tokay1 | Windows Server 2012 R2 Standard / x64 | OK | OK | OK | OK | |||||||||
| merida1 | macOS 10.14.6 Mojave / x86_64 | OK | OK | OK | OK | |||||||||
| Package: BRGenomics |
| Version: 1.2.0 |
| Command: rm -rf BRGenomics.buildbin-libdir && mkdir BRGenomics.buildbin-libdir && /Users/biocbuild/BBS/utils/build-universal.sh BRGenomics_1.2.0.tar.gz /Library/Frameworks/R.framework/Versions/Current/Resources/bin/R BRGenomics.buildbin-libdir |
| StartedAt: 2021-05-06 08:04:58 -0400 (Thu, 06 May 2021) |
| EndedAt: 2021-05-06 08:05:51 -0400 (Thu, 06 May 2021) |
| EllapsedTime: 53.2 seconds |
| RetCode: 0 |
| Status: OK |
| PackageFile: BRGenomics_1.2.0.tgz |
| PackageFileSize: 3.869 MiB |
############################################################################## ############################################################################## ### ### Running command: ### ### rm -rf BRGenomics.buildbin-libdir && mkdir BRGenomics.buildbin-libdir && /Users/biocbuild/BBS/utils/build-universal.sh BRGenomics_1.2.0.tar.gz /Library/Frameworks/R.framework/Versions/Current/Resources/bin/R BRGenomics.buildbin-libdir ### ############################################################################## ############################################################################## >>>>>>> >>>>>>> INSTALLATION WITH 'R CMD INSTALL --preclean --no-multiarch --library=BRGenomics.buildbin-libdir BRGenomics_1.2.0.tar.gz' >>>>>>> * installing *source* package ‘BRGenomics’ ... ** using staged installation ** R ** data ** inst ** byte-compile and prepare package for lazy loading ** help *** installing help indices ** building package indices ** installing vignettes ** testing if installed package can be loaded from temporary location ** testing if installed package can be loaded from final location ** testing if installed package keeps a record of temporary installation path * DONE (BRGenomics)