| Back to Multiple platform build/check report for BioC 3.12 |
|
This page was generated on 2021-05-06 12:30:00 -0400 (Thu, 06 May 2021).
|
To the developers/maintainers of the BEclear package: Please make sure to use the following settings in order to reproduce any error or warning you see on this page. |
| Package 139/1974 | Hostname | OS / Arch | INSTALL | BUILD | CHECK | BUILD BIN | ||||||||
| BEclear 2.6.0 (landing page) David Rasp
| malbec1 | Linux (Ubuntu 18.04.5 LTS) / x86_64 | OK | OK | WARNINGS | |||||||||
| tokay1 | Windows Server 2012 R2 Standard / x64 | OK | OK | WARNINGS | OK | |||||||||
| merida1 | macOS 10.14.6 Mojave / x86_64 | OK | OK | WARNINGS | OK | |||||||||
| Package: BEclear |
| Version: 2.6.0 |
| Command: rm -rf BEclear.buildbin-libdir && mkdir BEclear.buildbin-libdir && C:\Users\biocbuild\bbs-3.12-bioc\R\bin\R.exe CMD INSTALL --merge-multiarch --build --library=BEclear.buildbin-libdir BEclear_2.6.0.tar.gz |
| StartedAt: 2021-05-06 08:31:06 -0400 (Thu, 06 May 2021) |
| EndedAt: 2021-05-06 08:31:45 -0400 (Thu, 06 May 2021) |
| EllapsedTime: 38.7 seconds |
| RetCode: 0 |
| Status: OK |
| PackageFile: BEclear_2.6.0.zip |
| PackageFileSize: 1.297 MiB |
##############################################################################
##############################################################################
###
### Running command:
###
### rm -rf BEclear.buildbin-libdir && mkdir BEclear.buildbin-libdir && C:\Users\biocbuild\bbs-3.12-bioc\R\bin\R.exe CMD INSTALL --merge-multiarch --build --library=BEclear.buildbin-libdir BEclear_2.6.0.tar.gz
###
##############################################################################
##############################################################################
install for i386
* installing *source* package 'BEclear' ...
** using staged installation
** libs
"C:/rtools40/mingw32/bin/"g++ -std=gnu++11 -I"C:/Users/BIOCBU~1/BBS-3~1.12-/R/include" -DNDEBUG -I'C:/Users/biocbuild/bbs-3.12-bioc/R/library/Rcpp/include' -I"C:/extsoft/include" -O2 -Wall -mfpmath=sse -msse2 -mstackrealign -c RcppExports.cpp -o RcppExports.o
"C:/rtools40/mingw32/bin/"g++ -std=gnu++11 -I"C:/Users/BIOCBU~1/BBS-3~1.12-/R/include" -DNDEBUG -I'C:/Users/biocbuild/bbs-3.12-bioc/R/library/Rcpp/include' -I"C:/extsoft/include" -O2 -Wall -mfpmath=sse -msse2 -mstackrealign -c localLoss.cpp -o localLoss.o
C:/rtools40/mingw32/bin/g++ -shared -s -static-libgcc -o BEclear.dll tmp.def RcppExports.o localLoss.o -LC:/extsoft/lib/i386 -LC:/extsoft/lib -LC:/Users/BIOCBU~1/BBS-3~1.12-/R/bin/i386 -lR
installing to C:/Users/biocbuild/bbs-3.12-bioc/meat/BEclear.buildbin-libdir/00LOCK-BEclear/00new/BEclear/libs/i386
** R
** data
** inst
** byte-compile and prepare package for lazy loading
** help
*** installing help indices
converting help for package 'BEclear'
finding HTML links ... done
BEclear-example-methylation-data html
BEclear-example-sample-data html
BEclear-package html
calcBatchEffects html
calcBatchEffectsForBatch html
calcBlockFrame html
calcPositions html
calcScore html
calcSummary html
clearBEgenes html
combineBlocks html
correctBatchEffect html
countValuesToPredict html
ex.corrected.data html
findOutsideValues html
gdepoch html
imputeMissingData html
imputeMissingDataForBlock html
localLoss html
loss html
makeBoxplot html
preprocessBEclear html
replaceOutsideValues html
runGradientDescent html
** building package indices
** installing vignettes
** testing if installed package can be loaded from temporary location
** testing if installed package can be loaded from final location
** testing if installed package keeps a record of temporary installation path
install for x64
* installing *source* package 'BEclear' ...
** libs
"C:/rtools40/mingw64/bin/"g++ -std=gnu++11 -I"C:/Users/BIOCBU~1/BBS-3~1.12-/R/include" -DNDEBUG -I'C:/Users/biocbuild/bbs-3.12-bioc/R/library/Rcpp/include' -I"C:/extsoft/include" -O2 -Wall -mfpmath=sse -msse2 -mstackrealign -c RcppExports.cpp -o RcppExports.o
"C:/rtools40/mingw64/bin/"g++ -std=gnu++11 -I"C:/Users/BIOCBU~1/BBS-3~1.12-/R/include" -DNDEBUG -I'C:/Users/biocbuild/bbs-3.12-bioc/R/library/Rcpp/include' -I"C:/extsoft/include" -O2 -Wall -mfpmath=sse -msse2 -mstackrealign -c localLoss.cpp -o localLoss.o
C:/rtools40/mingw64/bin/g++ -shared -s -static-libgcc -o BEclear.dll tmp.def RcppExports.o localLoss.o -LC:/extsoft/lib/x64 -LC:/extsoft/lib -LC:/Users/BIOCBU~1/BBS-3~1.12-/R/bin/x64 -lR
installing to C:/Users/biocbuild/bbs-3.12-bioc/meat/BEclear.buildbin-libdir/BEclear/libs/x64
** testing if installed package can be loaded
* MD5 sums
packaged installation of 'BEclear' as BEclear_2.6.0.zip
* DONE (BEclear)