| Back to Multiple platform build/check report for BioC 3.12 |
|
This page was generated on 2021-05-06 12:29:57 -0400 (Thu, 06 May 2021).
|
To the developers/maintainers of the Autotuner package: Please make sure to use the following settings in order to reproduce any error or warning you see on this page. |
| Package 103/1974 | Hostname | OS / Arch | INSTALL | BUILD | CHECK | BUILD BIN | ||||||||
| Autotuner 1.4.0 (landing page) Craig McLean
| malbec1 | Linux (Ubuntu 18.04.5 LTS) / x86_64 | OK | OK | OK | |||||||||
| tokay1 | Windows Server 2012 R2 Standard / x64 | OK | OK | OK | OK | |||||||||
| merida1 | macOS 10.14.6 Mojave / x86_64 | OK | OK | OK | OK | |||||||||
| Package: Autotuner |
| Version: 1.4.0 |
| Command: rm -rf Autotuner.buildbin-libdir && mkdir Autotuner.buildbin-libdir && C:\Users\biocbuild\bbs-3.12-bioc\R\bin\R.exe CMD INSTALL --merge-multiarch --build --library=Autotuner.buildbin-libdir Autotuner_1.4.0.tar.gz |
| StartedAt: 2021-05-06 08:28:36 -0400 (Thu, 06 May 2021) |
| EndedAt: 2021-05-06 08:29:13 -0400 (Thu, 06 May 2021) |
| EllapsedTime: 37.1 seconds |
| RetCode: 0 |
| Status: OK |
| PackageFile: Autotuner_1.4.0.zip |
| PackageFileSize: 2.388 MiB |
##############################################################################
##############################################################################
###
### Running command:
###
### rm -rf Autotuner.buildbin-libdir && mkdir Autotuner.buildbin-libdir && C:\Users\biocbuild\bbs-3.12-bioc\R\bin\R.exe CMD INSTALL --merge-multiarch --build --library=Autotuner.buildbin-libdir Autotuner_1.4.0.tar.gz
###
##############################################################################
##############################################################################
install for i386
* installing *source* package 'Autotuner' ...
** using staged installation
** R
** data
*** moving datasets to lazyload DB
** inst
** byte-compile and prepare package for lazy loading
** help
*** installing help indices
converting help for package 'Autotuner'
finding HTML links ... done
Autotuner-class html
EICparams html
TIC_params html
ThresholdingAlgo html
checkBounds html
checkEICPeaks html
createAutotuner html
dissectScans html
eicParamsEsts html
estimatePPM html
estimateSNThresh html
extract_peaks html
filterPeaksfromNoise html
filterPpmError html
findPeakWidth html
findTruePeaks html
getAutoFactorCol html
getAutoFile_col html
getAutoFile_paths html
getAutoIntensity html
getAutoMetadata html
getAutoPeak_difference html
getAutoPeak_table html
getAutoPeaks html
getAutoTime html
initialize-Autotuner-method html
isolatePeaks html
mzDb html
observedPeak html
peak_time_difference html
peakwidth_est html
peakwidth_table html
plot_peaks html
plot_signals html
returnParams html
setAutoFactorCol html
setAutoFile_col html
setAutoFile_paths html
setAutoIntensity html
setAutoMetadata html
setAutoPeak_difference html
setAutoPeak_table html
setAutoPeaks html
setAutoTime html
** building package indices
** installing vignettes
** testing if installed package can be loaded from temporary location
** testing if installed package can be loaded from final location
** testing if installed package keeps a record of temporary installation path
install for x64
* installing *source* package 'Autotuner' ...
** testing if installed package can be loaded
* MD5 sums
packaged installation of 'Autotuner' as Autotuner_1.4.0.zip
* DONE (Autotuner)