| Back to Multiple platform build/check report for BioC 3.12 |
|
This page was generated on 2021-05-06 12:29:54 -0400 (Thu, 06 May 2021).
|
To the developers/maintainers of the AnVILBilling package: Please make sure to use the following settings in order to reproduce any error or warning you see on this page. |
| Package 74/1974 | Hostname | OS / Arch | INSTALL | BUILD | CHECK | BUILD BIN | ||||||||
| AnVILBilling 1.0.1 (landing page) Vince Carey
| malbec1 | Linux (Ubuntu 18.04.5 LTS) / x86_64 | OK | OK | OK | |||||||||
| tokay1 | Windows Server 2012 R2 Standard / x64 | OK | OK | OK | OK | |||||||||
| merida1 | macOS 10.14.6 Mojave / x86_64 | OK | OK | OK | OK | |||||||||
| Package: AnVILBilling |
| Version: 1.0.1 |
| Command: rm -rf AnVILBilling.buildbin-libdir && mkdir AnVILBilling.buildbin-libdir && C:\Users\biocbuild\bbs-3.12-bioc\R\bin\R.exe CMD INSTALL --merge-multiarch --build --library=AnVILBilling.buildbin-libdir AnVILBilling_1.0.1.tar.gz |
| StartedAt: 2021-05-06 08:26:44 -0400 (Thu, 06 May 2021) |
| EndedAt: 2021-05-06 08:27:33 -0400 (Thu, 06 May 2021) |
| EllapsedTime: 49.8 seconds |
| RetCode: 0 |
| Status: OK |
| PackageFile: AnVILBilling_1.0.1.zip |
| PackageFileSize: 686.3 KiB |
##############################################################################
##############################################################################
###
### Running command:
###
### rm -rf AnVILBilling.buildbin-libdir && mkdir AnVILBilling.buildbin-libdir && C:\Users\biocbuild\bbs-3.12-bioc\R\bin\R.exe CMD INSTALL --merge-multiarch --build --library=AnVILBilling.buildbin-libdir AnVILBilling_1.0.1.tar.gz
###
##############################################################################
##############################################################################
install for i386
* installing *source* package 'AnVILBilling' ...
** using staged installation
** R
** data
*** moving datasets to lazyload DB
** inst
** byte-compile and prepare package for lazy loading
** help
*** installing help indices
converting help for package 'AnVILBilling'
finding HTML links ... done
ab_reckoning html
browse_reck html
demo_rec html
getBilling html
getKeys html
getSkus html
getValues html
reckon html
reckoning-avReckoning-method html
reckoning html
setup_billing_request html
subsetByKeyValue html
subsetBySku html
** building package indices
** installing vignettes
** testing if installed package can be loaded from temporary location
** testing if installed package can be loaded from final location
** testing if installed package keeps a record of temporary installation path
install for x64
* installing *source* package 'AnVILBilling' ...
** testing if installed package can be loaded
* MD5 sums
packaged installation of 'AnVILBilling' as AnVILBilling_1.0.1.zip
* DONE (AnVILBilling)