| Back to Multiple platform build/check report for BioC 3.12 |
|
This page was generated on 2021-05-06 12:29:50 -0400 (Thu, 06 May 2021).
|
To the developers/maintainers of the AffiXcan package: Please make sure to use the following settings in order to reproduce any error or warning you see on this page. |
| Package 22/1974 | Hostname | OS / Arch | INSTALL | BUILD | CHECK | BUILD BIN | ||||||||
| AffiXcan 1.8.0 (landing page) Alessandro Lussana
| malbec1 | Linux (Ubuntu 18.04.5 LTS) / x86_64 | OK | OK | OK | |||||||||
| tokay1 | Windows Server 2012 R2 Standard / x64 | OK | OK | OK | OK | |||||||||
| merida1 | macOS 10.14.6 Mojave / x86_64 | OK | OK | OK | OK | |||||||||
| Package: AffiXcan |
| Version: 1.8.0 |
| Command: rm -rf AffiXcan.buildbin-libdir && mkdir AffiXcan.buildbin-libdir && C:\Users\biocbuild\bbs-3.12-bioc\R\bin\R.exe CMD INSTALL --merge-multiarch --build --library=AffiXcan.buildbin-libdir AffiXcan_1.8.0.tar.gz |
| StartedAt: 2021-05-06 08:22:17 -0400 (Thu, 06 May 2021) |
| EndedAt: 2021-05-06 08:23:04 -0400 (Thu, 06 May 2021) |
| EllapsedTime: 47.2 seconds |
| RetCode: 0 |
| Status: OK |
| PackageFile: AffiXcan_1.8.0.zip |
| PackageFileSize: 2.054 MiB |
##############################################################################
##############################################################################
###
### Running command:
###
### rm -rf AffiXcan.buildbin-libdir && mkdir AffiXcan.buildbin-libdir && C:\Users\biocbuild\bbs-3.12-bioc\R\bin\R.exe CMD INSTALL --merge-multiarch --build --library=AffiXcan.buildbin-libdir AffiXcan_1.8.0.tar.gz
###
##############################################################################
##############################################################################
install for i386
* installing *source* package 'AffiXcan' ...
** using staged installation
** R
** data
** inst
** byte-compile and prepare package for lazy loading
** help
*** installing help indices
converting help for package 'AffiXcan'
finding HTML links ... done
AffiXcan-package html
affiXcanBs html
affiXcanGReX html
affiXcanImpute html
affiXcanPca html
affiXcanPcs html
affiXcanTrain html
assoc2list html
computeBs html
computeCorrelation html
computeExpr html
computePca html
computePcs html
computeRSquared html
exprMatrix html
overlookRegions html
regionAssoc html
subsetKFold html
trainingCovariates html
** building package indices
** installing vignettes
** testing if installed package can be loaded from temporary location
** testing if installed package can be loaded from final location
** testing if installed package keeps a record of temporary installation path
install for x64
* installing *source* package 'AffiXcan' ...
** testing if installed package can be loaded
* MD5 sums
packaged installation of 'AffiXcan' as AffiXcan_1.8.0.zip
* DONE (AffiXcan)