| Back to Multiple platform build/check report for BioC 3.12 | 
  | 
This page was generated on 2021-05-06 12:29:53 -0400 (Thu, 06 May 2021).
| 
To the developers/maintainers of the ANCOMBC package: Please make sure to use the following settings in order to reproduce any error or warning you see on this page.  | 
| Package 55/1974 | Hostname | OS / Arch | INSTALL | BUILD | CHECK | BUILD BIN | ||||||||
| ANCOMBC 1.0.5  (landing page) Huang Lin 
  | malbec1 | Linux (Ubuntu 18.04.5 LTS) / x86_64 | OK | OK | OK | |||||||||
| tokay1 | Windows Server 2012 R2 Standard / x64 | OK | OK | OK | OK | |||||||||
| merida1 | macOS 10.14.6 Mojave / x86_64 | OK | OK | OK | OK | |||||||||
| Package: ANCOMBC | 
| Version: 1.0.5 | 
| Command: chmod a+r ANCOMBC -R && C:\Users\biocbuild\bbs-3.12-bioc\R\bin\R.exe CMD build --keep-empty-dirs --no-resave-data ANCOMBC | 
| StartedAt: 2021-05-05 19:30:44 -0400 (Wed, 05 May 2021) | 
| EndedAt: 2021-05-05 19:32:16 -0400 (Wed, 05 May 2021) | 
| EllapsedTime: 91.6 seconds | 
| RetCode: 0 | 
| Status: OK | 
| PackageFile: ANCOMBC_1.0.5.tar.gz | 
| PackageFileSize: 373.6 KiB | 
############################################################################## ############################################################################## ### ### Running command: ### ### chmod a+r ANCOMBC -R && C:\Users\biocbuild\bbs-3.12-bioc\R\bin\R.exe CMD build --keep-empty-dirs --no-resave-data ANCOMBC ### ############################################################################## ############################################################################## * checking for file 'ANCOMBC/DESCRIPTION' ... OK * preparing 'ANCOMBC': * checking DESCRIPTION meta-information ... OK * installing the package to process help pages Loading required namespace: ANCOMBC * saving partial Rd database * creating vignettes ... OK * checking for LF line-endings in source and make files and shell scripts * checking for empty or unneeded directories * building 'ANCOMBC_1.0.5.tar.gz'