| Back to Multiple platform build/check report for BioC 3.12 |
|
This page was generated on 2021-05-06 12:29:49 -0400 (Thu, 06 May 2021).
|
To the developers/maintainers of the ADImpute package: Please make sure to use the following settings in order to reproduce any error or warning you see on this page. |
| Package 20/1974 | Hostname | OS / Arch | INSTALL | BUILD | CHECK | BUILD BIN | ||||||||
| ADImpute 1.0.0 (landing page) Ana Carolina Leote
| malbec1 | Linux (Ubuntu 18.04.5 LTS) / x86_64 | OK | OK | WARNINGS | |||||||||
| tokay1 | Windows Server 2012 R2 Standard / x64 | OK | OK | WARNINGS | OK | |||||||||
| merida1 | macOS 10.14.6 Mojave / x86_64 | OK | OK | WARNINGS | OK | |||||||||
| Package: ADImpute |
| Version: 1.0.0 |
| Command: rm -rf ADImpute.buildbin-libdir && mkdir ADImpute.buildbin-libdir && C:\Users\biocbuild\bbs-3.12-bioc\R\bin\R.exe CMD INSTALL --merge-multiarch --build --library=ADImpute.buildbin-libdir ADImpute_1.0.0.tar.gz |
| StartedAt: 2021-05-06 08:22:09 -0400 (Thu, 06 May 2021) |
| EndedAt: 2021-05-06 08:22:30 -0400 (Thu, 06 May 2021) |
| EllapsedTime: 21.6 seconds |
| RetCode: 0 |
| Status: OK |
| PackageFile: ADImpute_1.0.0.zip |
| PackageFileSize: 2.378 MiB |
##############################################################################
##############################################################################
###
### Running command:
###
### rm -rf ADImpute.buildbin-libdir && mkdir ADImpute.buildbin-libdir && C:\Users\biocbuild\bbs-3.12-bioc\R\bin\R.exe CMD INSTALL --merge-multiarch --build --library=ADImpute.buildbin-libdir ADImpute_1.0.0.tar.gz
###
##############################################################################
##############################################################################
install for i386
* installing *source* package 'ADImpute' ...
** using staged installation
** R
** data
*** moving datasets to lazyload DB
** inst
** byte-compile and prepare package for lazy loading
** help
*** installing help indices
converting help for package 'ADImpute'
finding HTML links ... done
ArrangeData html
CenterData html
CheckArguments_Impute html
ChooseMethod html
Combine html
ComputeMSEGenewise html
CreateArgCheck html
CreateTrainData html
DataCheck_Matrix html
DataCheck_Network html
DataCheck_SingleCellExperiment html
DataCheck_TrLength html
EvaluateMethods html
GetDropoutProbabilities html
HandleBiologicalZeros html
Impute html
ImputeBaseline html
ImputeDrImpute html
ImputeNPDropouts html
ImputeNetParallel html
ImputeNetwork html
ImputePredictiveDropouts html
ImputeSAVER html
MaskData html
MaskerPerGene html
NormalizeRPM html
NormalizeTPM html
PseudoInverseSolution_percell html
ReadData html
ReturnChoice html
ReturnOut html
SetBiologicalZeros html
SplitData html
WriteCSV html
WriteTXT html
demo_data html
demo_net html
demo_sce html
network.coefficients html
transcript_length html
** building package indices
** installing vignettes
** testing if installed package can be loaded from temporary location
** testing if installed package can be loaded from final location
** testing if installed package keeps a record of temporary installation path
install for x64
* installing *source* package 'ADImpute' ...
** testing if installed package can be loaded
* MD5 sums
packaged installation of 'ADImpute' as ADImpute_1.0.0.zip
* DONE (ADImpute)