| Back to Build/check report for BioC 3.11 experimental data |
This page was generated on 2020-10-15 20:45:43 -0400 (Thu, 15 Oct 2020).
| TO THE DEVELOPERS/MAINTAINERS OF THE affydata PACKAGE: Please make sure to use the following settings in order to reproduce any error or warning you see on this page. |
| Package 4/391 | Hostname | OS / Arch | INSTALL | BUILD | CHECK | ||||||
| affydata 1.36.0 Harris Jaffee
| malbec2 | Linux (Ubuntu 18.04.4 LTS) / x86_64 | [ OK ] | OK | WARNINGS |
| Package: affydata |
| Version: 1.36.0 |
| Command: /home/biocbuild/bbs-3.11-bioc/R/bin/R CMD INSTALL affydata |
| StartedAt: 2020-10-15 09:19:24 -0400 (Thu, 15 Oct 2020) |
| EndedAt: 2020-10-15 09:19:34 -0400 (Thu, 15 Oct 2020) |
| EllapsedTime: 9.8 seconds |
| RetCode: 0 |
| Status: OK |
##############################################################################
##############################################################################
###
### Running command:
###
### /home/biocbuild/bbs-3.11-bioc/R/bin/R CMD INSTALL affydata
###
##############################################################################
##############################################################################
* installing to library ‘/home/biocbuild/bbs-3.11-bioc/R/library’
* installing *source* package ‘affydata’ ...
** using staged installation
** R
** data
** inst
** byte-compile and prepare package for lazy loading
** help
*** installing help indices
** building package indices
** installing vignettes
** testing if installed package can be loaded from temporary location
Package LibPath
[1,] "affydata" "/home/biocbuild/bbs-3.11-bioc/R/library/00LOCK-affydata/00new"
Item Title
[1,] "Dilution" "AffyBatch instance Dilution"
** testing if installed package can be loaded from final location
Package LibPath Item
[1,] "affydata" "/home/biocbuild/bbs-3.11-bioc/R/library" "Dilution"
Title
[1,] "AffyBatch instance Dilution"
** testing if installed package keeps a record of temporary installation path
* DONE (affydata)