| Back to Workflows build report for BioC 3.10 | 
This page was generated on 2020-04-15 18:30:18 -0400 (Wed, 15 Apr 2020).
| Package 12/27 | Hostname | OS / Arch | INSTALL | BUILD | ||||||
| generegulation 1.10.0 Bioconductor Package Maintainer 
  | malbec1 | Linux (Ubuntu 18.04.4 LTS) / x86_64 | [ OK ] | OK | 
| Package: generegulation | 
| Version: 1.10.0 | 
| Command: /home/biocbuild/bbs-3.10-bioc/R/bin/R CMD INSTALL generegulation | 
| StartedAt: 2020-04-15 11:00:31 -0400 (Wed, 15 Apr 2020) | 
| EndedAt: 2020-04-15 11:00:57 -0400 (Wed, 15 Apr 2020) | 
| EllapsedTime: 26.7 seconds | 
| RetCode: 0 | 
| Status: OK | 
##############################################################################
##############################################################################
###
### Running command:
###
###   /home/biocbuild/bbs-3.10-bioc/R/bin/R CMD INSTALL generegulation
###
##############################################################################
##############################################################################
* installing to library ‘/home/biocbuild/bbs-3.10-bioc/R/library’
* installing *source* package ‘generegulation’ ...
** using staged installation
** help
No man pages found in package  ‘generegulation’ 
*** installing help indices
** building package indices
** installing vignettes
** testing if installed package can be loaded from temporary location
See system.file("LICENSE", package="MotifDb") for use restrictions.
** testing if installed package can be loaded from final location
See system.file("LICENSE", package="MotifDb") for use restrictions.
** testing if installed package keeps a record of temporary installation path
* DONE (generegulation)