| Back to Workflows build report for BioC 3.10 | 
This page was generated on 2020-04-15 18:30:18 -0400 (Wed, 15 Apr 2020).
| Package 18/27 | Hostname | OS / Arch | INSTALL | BUILD | ||||||
| recountWorkflow 1.10.0 Leonardo Collado-Torres 
 | malbec1 | Linux (Ubuntu 18.04.4 LTS) / x86_64 | [ OK ] | OK |  | 
| Package: recountWorkflow | 
| Version: 1.10.0 | 
| Command: /home/biocbuild/bbs-3.10-bioc/R/bin/R CMD INSTALL recountWorkflow | 
| StartedAt: 2020-04-15 11:01:09 -0400 (Wed, 15 Apr 2020) | 
| EndedAt: 2020-04-15 11:01:38 -0400 (Wed, 15 Apr 2020) | 
| EllapsedTime: 29.4 seconds | 
| RetCode: 0 | 
| Status: OK | 
############################################################################## ############################################################################## ### ### Running command: ### ### /home/biocbuild/bbs-3.10-bioc/R/bin/R CMD INSTALL recountWorkflow ### ############################################################################## ############################################################################## * installing to library ‘/home/biocbuild/bbs-3.10-bioc/R/library’ * installing *source* package ‘recountWorkflow’ ... ** using staged installation ** help No man pages found in package ‘recountWorkflow’ *** installing help indices ** building package indices ** installing vignettes ** testing if installed package can be loaded from temporary location ** testing if installed package can be loaded from final location ** testing if installed package keeps a record of temporary installation path * DONE (recountWorkflow)