| Back to Workflows build report for BioC 3.10 | 
This page was generated on 2020-04-15 18:30:18 -0400 (Wed, 15 Apr 2020).
| Package 8/27 | Hostname | OS / Arch | INSTALL | BUILD | ||||||
| cytofWorkflow 1.10.2 Malgorzata Nowicka 
 | malbec1 | Linux (Ubuntu 18.04.4 LTS) / x86_64 | OK | [ OK ] |  | 
| Package: cytofWorkflow | 
| Version: 1.10.2 | 
| Command: /home/biocbuild/bbs-3.10-bioc/R/bin/R CMD build --keep-empty-dirs --no-resave-data cytofWorkflow | 
| StartedAt: 2020-04-15 11:01:58 -0400 (Wed, 15 Apr 2020) | 
| EndedAt: 2020-04-15 11:07:51 -0400 (Wed, 15 Apr 2020) | 
| EllapsedTime: 352.7 seconds | 
| RetCode: 0 | 
| Status: OK | 
| PackageFile: cytofWorkflow_1.10.2.tar.gz | 
| PackageFileSize: 6.322 MiB | 
############################################################################## ############################################################################## ### ### Running command: ### ### /home/biocbuild/bbs-3.10-bioc/R/bin/R CMD build --keep-empty-dirs --no-resave-data cytofWorkflow ### ############################################################################## ############################################################################## * checking for file ‘cytofWorkflow/DESCRIPTION’ ... OK * preparing ‘cytofWorkflow’: * checking DESCRIPTION meta-information ... OK * installing the package to build vignettes * creating vignettes ... OK * checking for LF line-endings in source and make files and shell scripts * checking for empty or unneeded directories * building ‘cytofWorkflow_1.10.2.tar.gz’