| Back to Build/check report for BioC 3.10 experimental data | 
This page was generated on 2020-04-14 17:46:23 -0400 (Tue, 14 Apr 2020).
| Package 328/384 | Hostname | OS / Arch | INSTALL | BUILD | CHECK | ||||||
| seq2pathway.data 1.18.0 Xinan Holly Yang 
 | malbec1 | Linux (Ubuntu 18.04.4 LTS) / x86_64 | OK | [ OK ] | OK |  | 
| Package: seq2pathway.data | 
| Version: 1.18.0 | 
| Command: /home/biocbuild/bbs-3.10-bioc/R/bin/R CMD build --keep-empty-dirs --no-resave-data seq2pathway.data | 
| StartedAt: 2020-04-14 11:53:32 -0400 (Tue, 14 Apr 2020) | 
| EndedAt: 2020-04-14 11:54:13 -0400 (Tue, 14 Apr 2020) | 
| EllapsedTime: 41.4 seconds | 
| RetCode: 0 | 
| Status: OK | 
| PackageFile: seq2pathway.data_1.18.0.tar.gz | 
| PackageFileSize: 49.21 MiB | 
############################################################################## ############################################################################## ### ### Running command: ### ### /home/biocbuild/bbs-3.10-bioc/R/bin/R CMD build --keep-empty-dirs --no-resave-data seq2pathway.data ### ############################################################################## ############################################################################## * checking for file ‘seq2pathway.data/DESCRIPTION’ ... OK * preparing ‘seq2pathway.data’: * checking DESCRIPTION meta-information ... OK * installing the package to build vignettes * creating vignettes ... OK * checking for LF line-endings in source and make files and shell scripts * checking for empty or unneeded directories * looking to see if a ‘data/datalist’ file should be added * building ‘seq2pathway.data_1.18.0.tar.gz’